BEGIN:VCALENDAR
VERSION:2.0
PRODID:-//The Castle Pines Connection - ECPv6.15.15//NONSGML v1.0//EN
CALSCALE:GREGORIAN
METHOD:PUBLISH
X-WR-CALNAME:The Castle Pines Connection
X-ORIGINAL-URL:https://www.castlepinesconnection.com
X-WR-CALDESC:Events for The Castle Pines Connection
REFRESH-INTERVAL;VALUE=DURATION:PT1H
X-Robots-Tag:noindex
X-PUBLISHED-TTL:PT1H
BEGIN:VTIMEZONE
TZID:America/Denver
BEGIN:DAYLIGHT
TZOFFSETFROM:-0700
TZOFFSETTO:-0600
TZNAME:MDT
DTSTART:20250309T090000
END:DAYLIGHT
BEGIN:STANDARD
TZOFFSETFROM:-0600
TZOFFSETTO:-0700
TZNAME:MST
DTSTART:20251102T080000
END:STANDARD
BEGIN:DAYLIGHT
TZOFFSETFROM:-0700
TZOFFSETTO:-0600
TZNAME:MDT
DTSTART:20260308T090000
END:DAYLIGHT
BEGIN:STANDARD
TZOFFSETFROM:-0600
TZOFFSETTO:-0700
TZNAME:MST
DTSTART:20261101T080000
END:STANDARD
BEGIN:DAYLIGHT
TZOFFSETFROM:-0700
TZOFFSETTO:-0600
TZNAME:MDT
DTSTART:20270314T090000
END:DAYLIGHT
BEGIN:STANDARD
TZOFFSETFROM:-0600
TZOFFSETTO:-0700
TZNAME:MST
DTSTART:20271107T080000
END:STANDARD
END:VTIMEZONE
BEGIN:VEVENT
DTSTART;VALUE=DATE:20260422
DTEND;VALUE=DATE:20260423
DTSTAMP:20260422T160513
CREATED:20260330T205641Z
LAST-MODIFIED:20260330T205641Z
UID:10010430-1776816000-1776902399@www.castlepinesconnection.com
SUMMARY:FREE DAY York Street and Chatfield Farms
DESCRIPTION:
URL:https://www.castlepinesconnection.com/event/free-day-york-street-and-chatfield-farms-5/
LOCATION:Denver Botanic Garden Chatfield Farms\, 8500 Deer Creek Canyon Road\, Littleton\, CO\, 80128
CATEGORIES:CO,Denver,Family event,Free Day,Fun,Museum,Nature,Nature Walk
ATTACH;FMTTYPE=image/jpeg:https://www.castlepinesconnection.com/wp-content/uploads/2020/10/Denver-Botanic-Gardens-LogoWeb-e1761334965506.jpg
END:VEVENT
BEGIN:VEVENT
DTSTART;TZID=America/Denver:20260422T170000
DTEND;TZID=America/Denver:20260422T190000
DTSTAMP:20260422T160513
CREATED:20260330T205942Z
LAST-MODIFIED:20260330T210009Z
UID:10010431-1776877200-1776884400@www.castlepinesconnection.com
SUMMARY:New Resident Welcome Reception
DESCRIPTION:
URL:https://www.castlepinesconnection.com/event/new-resident-welcome-reception-2/
LOCATION:The Ridge at Castle Pines\, 1414 Castle Pines Pkwy\, Castle Pines\, CO\, 80108
CATEGORIES:CO,Castle Pines,Douglas County,Family event,Food & Tasting,Free Day,Fun
END:VEVENT
END:VCALENDAR