BEGIN:VCALENDAR
VERSION:2.0
PRODID:-//The Castle Pines Connection - ECPv6.15.15//NONSGML v1.0//EN
CALSCALE:GREGORIAN
METHOD:PUBLISH
X-WR-CALNAME:The Castle Pines Connection
X-ORIGINAL-URL:https://www.castlepinesconnection.com
X-WR-CALDESC:Events for The Castle Pines Connection
REFRESH-INTERVAL;VALUE=DURATION:PT1H
X-Robots-Tag:noindex
X-PUBLISHED-TTL:PT1H
BEGIN:VTIMEZONE
TZID:America/Denver
BEGIN:DAYLIGHT
TZOFFSETFROM:-0700
TZOFFSETTO:-0600
TZNAME:MDT
DTSTART:20250309T090000
END:DAYLIGHT
BEGIN:STANDARD
TZOFFSETFROM:-0600
TZOFFSETTO:-0700
TZNAME:MST
DTSTART:20251102T080000
END:STANDARD
BEGIN:DAYLIGHT
TZOFFSETFROM:-0700
TZOFFSETTO:-0600
TZNAME:MDT
DTSTART:20260308T090000
END:DAYLIGHT
BEGIN:STANDARD
TZOFFSETFROM:-0600
TZOFFSETTO:-0700
TZNAME:MST
DTSTART:20261101T080000
END:STANDARD
BEGIN:DAYLIGHT
TZOFFSETFROM:-0700
TZOFFSETTO:-0600
TZNAME:MDT
DTSTART:20270314T090000
END:DAYLIGHT
BEGIN:STANDARD
TZOFFSETFROM:-0600
TZOFFSETTO:-0700
TZNAME:MST
DTSTART:20271107T080000
END:STANDARD
END:VTIMEZONE
BEGIN:VEVENT
DTSTART;TZID=America/Denver:20260425T100000
DTEND;TZID=America/Denver:20260425T140000
DTSTAMP:20260425T100903
CREATED:20260330T211432Z
LAST-MODIFIED:20260330T211432Z
UID:10010436-1777111200-1777125600@www.castlepinesconnection.com
SUMMARY:Drug Takeback Day
DESCRIPTION:
URL:https://www.castlepinesconnection.com/event/drug-takeback-day/
LOCATION:Safeway Parking Lot – Castle Pines\, 560 Castle Pines Pkwy\, Castle Pines\, CO\, 80108\, United States
CATEGORIES:CO,Castle Pines,Douglas County
END:VEVENT
BEGIN:VEVENT
DTSTART;TZID=America/Denver:20260425T180000
DTEND;TZID=America/Denver:20260425T180000
DTSTAMP:20260425T100903
CREATED:20260330T211729Z
LAST-MODIFIED:20260330T212013Z
UID:10010437-1777140000-1777140000@www.castlepinesconnection.com
SUMMARY:Art of Giving Gala - Color Outside the Lines
DESCRIPTION:
URL:https://www.castlepinesconnection.com/event/art-of-giving-gala-color-outside-the-lines/
LOCATION:Douglas County Fairgrounds & Event Center\, 500 Fairgrounds Road\, Castle Rock\, CO\, 80104\, United States
CATEGORIES:Art,Art Market,Art Show,CO,Castle Pines,Castle Rock,Charity Benefit,Douglas County
ATTACH;FMTTYPE=image/jpeg:https://www.castlepinesconnection.com/wp-content/uploads/2026/03/Gala-Logo-with-title-CP-e1774905603608.jpg
END:VEVENT
BEGIN:VEVENT
DTSTART;TZID=America/Denver:20260425T183000
DTEND;TZID=America/Denver:20260425T183000
DTSTAMP:20260425T100903
CREATED:20260330T212457Z
LAST-MODIFIED:20260330T212518Z
UID:10010438-1777141800-1777141800@www.castlepinesconnection.com
SUMMARY:Denver Summit vs. San Diego Wave
DESCRIPTION:
URL:https://www.castlepinesconnection.com/event/denver-summit-vs-san-diego-wave/
LOCATION:Dick’s Sporting Goods Park\, 6000 Victory Way\, Commerce City\, CO\, 80022
CATEGORIES:CO,Denver
END:VEVENT
END:VCALENDAR