BEGIN:VCALENDAR
VERSION:2.0
PRODID:-//The Castle Pines Connection - ECPv6.15.15//NONSGML v1.0//EN
CALSCALE:GREGORIAN
METHOD:PUBLISH
X-ORIGINAL-URL:https://www.castlepinesconnection.com
X-WR-CALDESC:Events for The Castle Pines Connection
REFRESH-INTERVAL;VALUE=DURATION:PT1H
X-Robots-Tag:noindex
X-PUBLISHED-TTL:PT1H
BEGIN:VTIMEZONE
TZID:America/Denver
BEGIN:DAYLIGHT
TZOFFSETFROM:-0700
TZOFFSETTO:-0600
TZNAME:MDT
DTSTART:20200308T090000
END:DAYLIGHT
BEGIN:STANDARD
TZOFFSETFROM:-0600
TZOFFSETTO:-0700
TZNAME:MST
DTSTART:20201101T080000
END:STANDARD
BEGIN:DAYLIGHT
TZOFFSETFROM:-0700
TZOFFSETTO:-0600
TZNAME:MDT
DTSTART:20210314T090000
END:DAYLIGHT
BEGIN:STANDARD
TZOFFSETFROM:-0600
TZOFFSETTO:-0700
TZNAME:MST
DTSTART:20211107T080000
END:STANDARD
BEGIN:DAYLIGHT
TZOFFSETFROM:-0700
TZOFFSETTO:-0600
TZNAME:MDT
DTSTART:20220313T090000
END:DAYLIGHT
BEGIN:STANDARD
TZOFFSETFROM:-0600
TZOFFSETTO:-0700
TZNAME:MST
DTSTART:20221106T080000
END:STANDARD
BEGIN:DAYLIGHT
TZOFFSETFROM:-0700
TZOFFSETTO:-0600
TZNAME:MDT
DTSTART:20230312T090000
END:DAYLIGHT
BEGIN:STANDARD
TZOFFSETFROM:-0600
TZOFFSETTO:-0700
TZNAME:MST
DTSTART:20231105T080000
END:STANDARD
END:VTIMEZONE
BEGIN:VEVENT
DTSTART;TZID=America/Denver:20210912T080000
DTEND;TZID=America/Denver:20220206T120000
DTSTAMP:20260422T042152
CREATED:20210426T231124Z
LAST-MODIFIED:20210914T193559Z
UID:10002754-1631433600-1644148800@www.castlepinesconnection.com
SUMMARY:Parker Farmers Market
DESCRIPTION:
URL:https://www.castlepinesconnection.com/event/parker-farmers-market/2021-09-12/
LOCATION:Downtown Parker\, Parker\, CO\, 80138
ATTACH;FMTTYPE=image/jpeg:https://www.castlepinesconnection.com/wp-content/uploads/2021/04/thLocalColoradLogoWEeb.jpg
END:VEVENT
BEGIN:VEVENT
DTSTART;VALUE=DATE:20211114
DTEND;VALUE=DATE:20220314
DTSTAMP:20260422T042152
CREATED:20211031T165836Z
LAST-MODIFIED:20211031T165836Z
UID:10003268-1636848000-1647215999@www.castlepinesconnection.com
SUMMARY:Whistler to Cassatt – American Painters in France
DESCRIPTION:
URL:https://www.castlepinesconnection.com/event/whistler-to-cassatt-american-painters-in-france/
LOCATION:Denver Art Musuem\, 100 West 14th Avenue Parkway\, Denver\, CO\, 80204\, United States
ATTACH;FMTTYPE=image/jpeg:https://www.castlepinesconnection.com/wp-content/uploads/2021/10/DenverArtMuseumLogo-e1708832791108.jpg
END:VEVENT
BEGIN:VEVENT
DTSTART;TZID=America/Denver:20211218T163000
DTEND;TZID=America/Denver:20220206T210000
DTSTAMP:20260422T042152
CREATED:20211030T211225Z
LAST-MODIFIED:20211030T212700Z
UID:10003177-1639845000-1644181200@www.castlepinesconnection.com
SUMMARY:Blossoms of Light
DESCRIPTION:Closed November 25 and December 25
URL:https://www.castlepinesconnection.com/event/blossoms-of-light/2021-12-18/
LOCATION:Denver Botanic Gardens\, 1007 York Street\, Denver\, CO\, 80206
ATTACH;FMTTYPE=image/jpeg:https://www.castlepinesconnection.com/wp-content/uploads/2021/10/Blossoms-of-Lighe.jpg
END:VEVENT
BEGIN:VEVENT
DTSTART;TZID=America/Denver:20220114T193000
DTEND;TZID=America/Denver:20220221T213000
DTSTAMP:20260422T042152
CREATED:20211226T214537Z
LAST-MODIFIED:20211226T220409Z
UID:10003528-1642188600-1645479000@www.castlepinesconnection.com
SUMMARY:“The Wizard of Oz”
DESCRIPTION:
URL:https://www.castlepinesconnection.com/event/the-wizard-of-oz/2022-01-14/
LOCATION:CO
ATTACH;FMTTYPE=image/png:https://www.castlepinesconnection.com/wp-content/uploads/2020/01/ParkerArtsWithPaceSchoolhouse-e1729867324979.png
END:VEVENT
BEGIN:VEVENT
DTSTART;TZID=America/Denver:20220122T073000
DTEND;TZID=America/Denver:20220206T223000
DTSTAMP:20260422T042152
CREATED:20211226T185825Z
LAST-MODIFIED:20211226T214823Z
UID:10003517-1642836600-1644186600@www.castlepinesconnection.com
SUMMARY:2022 National Western Stock Show
DESCRIPTION:Times vary
URL:https://www.castlepinesconnection.com/event/2022-national-western-stock-show/2022-01-22/
LOCATION:National Western Complex\, 4655 Humboldt Street\, Denver\, Colorado
ATTACH;FMTTYPE=image/png:https://www.castlepinesconnection.com/wp-content/uploads/2021/12/NWSSCentura-Secondary-Lockup-Black-Transparent.png
END:VEVENT
BEGIN:VEVENT
DTSTART;VALUE=DATE:20220201
DTEND;VALUE=DATE:20220301
DTSTAMP:20260422T042152
CREATED:20220120T153830Z
LAST-MODIFIED:20220120T154017Z
UID:10003540-1643673600-1646092799@www.castlepinesconnection.com
SUMMARY:Dine & Delight at Park Meadows
DESCRIPTION:Earn a $20 reward for $50 spent!\nFrom February 1 – 28\, earn dollars when you dine at Colorado’s largest indoor shopping center! Park Meadows Retail Resort has a delicious deal to tempt the taste buds of foodies and shoppers alike: earn a $20 reward for every $50 or more spent at any restaurant! Park Meadows offers more than two dozen fast casual and fine dining options (valid for dine-in\, takeout\, or delivery options). It’s also home to exclusive restaurants like Perry’s Steakhouse\, White Chocolate Grill\, Seasons 52 and Edo Higan Sushi. \n\nJust take a photo of your receipt(s) including restaurant info and date of purchase\, upload\, and complete a few easy steps — that’s it! https://dinedelights.com
URL:https://www.castlepinesconnection.com/event/dine-delight-at-park-meadows/
LOCATION:Park Meadows Retail Resort\, 8401 Park Meadows Center Dr\, Lone Tree\, CO\, 80124\, United States
ATTACH;FMTTYPE=image/png:https://www.castlepinesconnection.com/wp-content/uploads/2022/01/DineDelightLogo.png
END:VEVENT
BEGIN:VEVENT
DTSTART;TZID=America/Denver:20220206T080000
DTEND;TZID=America/Denver:20220206T140000
DTSTAMP:20260422T042152
CREATED:20220124T155252Z
LAST-MODIFIED:20220124T155309Z
UID:10003559-1644134400-1644156000@www.castlepinesconnection.com
SUMMARY:Tri-State Automotive Swap Meet
DESCRIPTION:
URL:https://www.castlepinesconnection.com/event/tri-state-automotive-swap-meet/2022-02-06/
LOCATION:National Western Complex Hall of Education\, 4655 Humboldt St\, Denver\, CO\, 80216
ATTACH;FMTTYPE=image/jpeg:https://www.castlepinesconnection.com/wp-content/uploads/2022/01/Tri-State-Swap-Meet.jpg
END:VEVENT
BEGIN:VEVENT
DTSTART;TZID=America/Denver:20220206T090000
DTEND;TZID=America/Denver:20220206T130000
DTSTAMP:20260422T042152
CREATED:20220124T155518Z
LAST-MODIFIED:20220124T155518Z
UID:10003560-1644138000-1644152400@www.castlepinesconnection.com
SUMMARY:Super Bowl 5K
DESCRIPTION:
URL:https://www.castlepinesconnection.com/event/super-bowl-5k-2/
LOCATION:Washington Park\, South Downing and Louisiana Stree\, Denver\, CO\, 80210
ATTACH;FMTTYPE=image/jpeg:https://www.castlepinesconnection.com/wp-content/uploads/2022/01/Superbowl5K.jpg
END:VEVENT
BEGIN:VEVENT
DTSTART;TZID=America/Denver:20220206T163000
DTEND;TZID=America/Denver:20220206T171500
DTSTAMP:20260422T042152
CREATED:20201008T220853Z
LAST-MODIFIED:20201008T220956Z
UID:10000887-1644165000-1644167700@www.castlepinesconnection.com
SUMMARY:Tour of Cedar Hill Cemetery
DESCRIPTION:4:30 p.m. – 5:15 p.m.\n880 East Wolfensberger Road\, Castle Rock\nReservations: 303-814-3164 or museum@castlerockhistoricalsociety.org
URL:https://www.castlepinesconnection.com/event/tour-of-cedar-hill-cemetery/2022-02-06/
LOCATION:Cedar Hill Cemetery\, 880 East Wolfensberger Road\, Castle Rock\, CO\, 80104
ATTACH;FMTTYPE=image/png:https://www.castlepinesconnection.com/wp-content/uploads/2020/10/CR-GHOSTLYTROUR.png
END:VEVENT
BEGIN:VEVENT
DTSTART;TZID=America/Denver:20220208T083000
DTEND;TZID=America/Denver:20220208T100000
DTSTAMP:20260422T042152
CREATED:20211226T183752Z
LAST-MODIFIED:20220120T155330Z
UID:10003445-1644309000-1644314400@www.castlepinesconnection.com
SUMMARY:Coffee Chat Tuesday
DESCRIPTION:
URL:https://www.castlepinesconnection.com/event/coffee-chat-tuesday/2022-02-08/
LOCATION:Douglas County Libraries – Castle Pines\, 360 Village Squart Lane\, Castle Pines\, CO\, 80108
ATTACH;FMTTYPE=image/jpeg:https://www.castlepinesconnection.com/wp-content/uploads/2020/12/dclibrariesLogoBoxedforWeb-e1701117552989.jpg
END:VEVENT
BEGIN:VEVENT
DTSTART;VALUE=DATE:20220209
DTEND;VALUE=DATE:20220210
DTSTAMP:20260422T042152
CREATED:20220124T160614Z
LAST-MODIFIED:20220124T161217Z
UID:10003562-1644364800-1644451199@www.castlepinesconnection.com
SUMMARY:Steamboat Winter Carnival
DESCRIPTION:
URL:https://www.castlepinesconnection.com/event/steamboat-winter-carnival-2/2022-02-09/
LOCATION:Downtown Steamboat Springs\, Steamboat Springs\, CO
ATTACH;FMTTYPE=image/jpeg:https://www.castlepinesconnection.com/wp-content/uploads/2022/01/SteamboatWinterCarnival2022.jpg
END:VEVENT
BEGIN:VEVENT
DTSTART;TZID=America/Denver:20220209T200000
DTEND;TZID=America/Denver:20220209T220000
DTSTAMP:20260422T042152
CREATED:20220124T155846Z
LAST-MODIFIED:20220124T155846Z
UID:10003561-1644436800-1644444000@www.castlepinesconnection.com
SUMMARY:IL DIVO - Greatest Hits Tour
DESCRIPTION:with Special Tribute to Carlos Marin\n 
URL:https://www.castlepinesconnection.com/event/il-divo-greatest-hits-tour/
LOCATION:Bellco Theater at Colorado Convention Center\, 700 14th Street\, Denver\, Denver\, 80202
ATTACH;FMTTYPE=image/jpeg:https://www.castlepinesconnection.com/wp-content/uploads/2021/07/BellcoTheatreLogo.jpg
END:VEVENT
BEGIN:VEVENT
DTSTART;TZID=America/Denver:20220211T190000
DTEND;TZID=America/Denver:20220211T220000
DTSTAMP:20260422T042152
CREATED:20220124T162152Z
LAST-MODIFIED:20220124T185558Z
UID:10003568-1644606000-1644616800@www.castlepinesconnection.com
SUMMARY:Monster Jam
DESCRIPTION:
URL:https://www.castlepinesconnection.com/event/monster-jam-2/2022-02-11/
LOCATION:Ball Arena\, 1000 Chopper Circle\, Denver\, Denver\, 80204
ATTACH;FMTTYPE=image/jpeg:https://www.castlepinesconnection.com/wp-content/uploads/2022/01/MonsterJam.jpg
END:VEVENT
BEGIN:VEVENT
DTSTART;TZID=America/Denver:20220211T190000
DTEND;TZID=America/Denver:20220211T220000
DTSTAMP:20260422T042152
CREATED:20220124T162730Z
LAST-MODIFIED:20220124T162825Z
UID:10003572-1644606000-1644616800@www.castlepinesconnection.com
SUMMARY:Kicker Arenacross
DESCRIPTION:
URL:https://www.castlepinesconnection.com/event/kicker-arenacross-2/2022-02-11/
LOCATION:National Western Complex\, 4655 Humboldt Street\, Denver\, Colorado
ATTACH;FMTTYPE=image/jpeg:https://www.castlepinesconnection.com/wp-content/uploads/2020/01/KickerArenaCross.jpg
END:VEVENT
BEGIN:VEVENT
DTSTART;TZID=America/Denver:20220211T193000
DTEND;TZID=America/Denver:20220211T213000
DTSTAMP:20260422T042152
CREATED:20241029T205403Z
LAST-MODIFIED:20241029T205403Z
UID:10003554-1644607800-1644615000@www.castlepinesconnection.com
SUMMARY:Colorado Ballet – Romeo and Juliet
DESCRIPTION:February 4 – 13
URL:https://www.castlepinesconnection.com/event/colorado-ballet-romeo-and-juliet/2022-02-11/
LOCATION:Ellie Caulkins Opera House\, 1385 Curtis Street\, Denver\, CO\, 80204
ATTACH;FMTTYPE=image/png:https://www.castlepinesconnection.com/wp-content/uploads/2022/01/ColoradoBalletlogo.png
END:VEVENT
BEGIN:VEVENT
DTSTART;TZID=America/Denver:20220211T200000
DTEND;TZID=America/Denver:20220211T220000
DTSTAMP:20260422T042152
CREATED:20220124T161527Z
LAST-MODIFIED:20220124T161546Z
UID:10003567-1644609600-1644616800@www.castlepinesconnection.com
SUMMARY:The Queen’s Cartoonists
DESCRIPTION:
URL:https://www.castlepinesconnection.com/event/the-queens-cartoonists/
LOCATION:Lone Tree Arts Center\, 10075 Commons St\, Lone Tree\, CO\, 80124\, United States
ATTACH;FMTTYPE=image/jpeg:https://www.castlepinesconnection.com/wp-content/uploads/2021/06/LoneTreeArtsCenterlogoWEB-e1732315676117.jpg
END:VEVENT
BEGIN:VEVENT
DTSTART;TZID=America/Denver:20220212T090000
DTEND;TZID=America/Denver:20220212T130000
DTSTAMP:20260422T042152
CREATED:20220124T165414Z
LAST-MODIFIED:20220124T165530Z
UID:10003576-1644656400-1644670800@www.castlepinesconnection.com
SUMMARY:Love ‘em Or Leave ‘em 5K/10K
DESCRIPTION:Valentine’s Day
URL:https://www.castlepinesconnection.com/event/love-em-or-leave-em-5k-10k/
LOCATION:Salisbury Equestrian Park\, 11920 N. Motsenbocker Road\, Parker\, CO\, 80134
ATTACH;FMTTYPE=image/jpeg:https://www.castlepinesconnection.com/wp-content/uploads/2022/01/February-Desktop-Wallpaper-Jeanetta-Gonzales-Art-Design-e1643043241560.jpg
END:VEVENT
BEGIN:VEVENT
DTSTART;TZID=America/Denver:20220212T173000
DTEND;TZID=America/Denver:20220212T223000
DTSTAMP:20260422T042152
CREATED:20220124T164458Z
LAST-MODIFIED:20220124T164848Z
UID:10003575-1644687000-1644705000@www.castlepinesconnection.com
SUMMARY:Hearts and Aces Casino Night
DESCRIPTION:
URL:https://www.castlepinesconnection.com/event/hearts-and-aces-casino-night/
LOCATION:CO
ATTACH;FMTTYPE=image/png:https://www.castlepinesconnection.com/wp-content/uploads/2022/01/DouglasCountyCommunityFoundationLogo-e1643042906502.png
END:VEVENT
BEGIN:VEVENT
DTSTART;TZID=America/Denver:20220212T200000
DTEND;TZID=America/Denver:20220212T220000
DTSTAMP:20260422T042152
CREATED:20220124T163241Z
LAST-MODIFIED:20220124T163241Z
UID:10003574-1644696000-1644703200@www.castlepinesconnection.com
SUMMARY:Nai-Ni Chen Dance Company –
DESCRIPTION:The 2022 Lunar New Year of the Water Tiger
URL:https://www.castlepinesconnection.com/event/nai-ni-chen-dance-company/
LOCATION:Lone Tree Arts Center\, 10075 Commons St\, Lone Tree\, CO\, 80124\, United States
ATTACH;FMTTYPE=image/jpeg:https://www.castlepinesconnection.com/wp-content/uploads/2021/06/LoneTreeArtsCenterlogoWEB-e1732315676117.jpg
END:VEVENT
BEGIN:VEVENT
DTSTART;TZID=America/Denver:20220213T090000
DTEND;TZID=America/Denver:20220213T100000
DTSTAMP:20260422T042152
CREATED:20220124T174214Z
LAST-MODIFIED:20220124T174214Z
UID:10003594-1644742800-1644746400@www.castlepinesconnection.com
SUMMARY:Sensory-Friendly Denver Art Museum
DESCRIPTION:
URL:https://www.castlepinesconnection.com/event/sensory-friendly-denver-art-museum/
LOCATION:Denver Art Musuem\, 100 West 14th Avenue Parkway\, Denver\, CO\, 80204\, United States
END:VEVENT
BEGIN:VEVENT
DTSTART;TZID=America/Denver:20220213T100000
DTEND;TZID=America/Denver:20220213T170000
DTSTAMP:20260422T042152
CREATED:20220124T170649Z
LAST-MODIFIED:20220124T170819Z
UID:10003578-1644746400-1644771600@www.castlepinesconnection.com
SUMMARY:2022 Colorado Garden - Home Show
DESCRIPTION:
URL:https://www.castlepinesconnection.com/event/2022-colorado-garden-home-show/2022-02-13/
LOCATION:Colorado Convention Center\, 700 14th Street\, Denver\, CO\, 80202
ATTACH;FMTTYPE=image/png:https://www.castlepinesconnection.com/wp-content/uploads/2022/01/colorado-garden-and-home-show-logo.png
END:VEVENT
BEGIN:VEVENT
DTSTART;TZID=America/Denver:20220217T183000
DTEND;TZID=America/Denver:20220217T200000
DTSTAMP:20260422T042152
CREATED:20220120T161637Z
LAST-MODIFIED:20220120T191300Z
UID:10003544-1645122600-1645128000@www.castlepinesconnection.com
SUMMARY:Denver and District Pipe Band
DESCRIPTION:1/20/2022
URL:https://www.castlepinesconnection.com/event/denver-and-district-pipe-band/
LOCATION:Cherry Hills Community Church\, 3900 Grace Blvd\, Highlands Ranch\, CO\, 80126
ATTACH;FMTTYPE=image/jpeg:https://www.castlepinesconnection.com/wp-content/uploads/2022/01/WinterCulturalSeriesbanner-e1642695133818.jpg
END:VEVENT
BEGIN:VEVENT
DTSTART;TZID=America/Denver:20220218T200000
DTEND;TZID=America/Denver:20220218T220000
DTSTAMP:20260422T042152
CREATED:20220124T171213Z
LAST-MODIFIED:20220124T171323Z
UID:10003586-1645214400-1645221600@www.castlepinesconnection.com
SUMMARY:Oleta Adams
DESCRIPTION:
URL:https://www.castlepinesconnection.com/event/oleta-adams/
LOCATION:Lone Tree Arts Center\, 10075 Commons St\, Lone Tree\, CO\, 80124\, United States
ATTACH;FMTTYPE=image/jpeg:https://www.castlepinesconnection.com/wp-content/uploads/2021/06/LoneTreeArtsCenterlogoWEB-e1732315676117.jpg
END:VEVENT
BEGIN:VEVENT
DTSTART;TZID=America/Denver:20220219T080000
DTEND;TZID=America/Denver:20220219T170000
DTSTAMP:20260422T042152
CREATED:20220124T173738Z
LAST-MODIFIED:20220124T173902Z
UID:10003592-1645257600-1645290000@www.castlepinesconnection.com
SUMMARY:Jazz with Wynton Marsalis
DESCRIPTION:The Jazz at the Lincoln Center Orchestra with Wynton Marsalis
URL:https://www.castlepinesconnection.com/event/jazz-with-wynton-marsalis/2022-02-19/
LOCATION:Newman Center for the Performing Arts\, 2344 East Iliff Avenue\, Denver\, CO\, 80210
ATTACH;FMTTYPE=image/png:https://www.castlepinesconnection.com/wp-content/uploads/2020/01/NewmanCenterLogo-e1643045930779.png
END:VEVENT
BEGIN:VEVENT
DTSTART;TZID=America/Denver:20220219T090000
DTEND;TZID=America/Denver:20220219T130000
DTSTAMP:20260422T042152
CREATED:20220124T173116Z
LAST-MODIFIED:20220124T173116Z
UID:10003591-1645261200-1645275600@www.castlepinesconnection.com
SUMMARY:Snowman Stampede 5K/10K/13.1M
DESCRIPTION:
URL:https://www.castlepinesconnection.com/event/snowman-stampede-5k-10k-13-1m/
LOCATION:Hudson Gardens\, 6115 South Santa Fe Drive\, Littleton\, CO\, United States
ATTACH;FMTTYPE=image/jpeg:https://www.castlepinesconnection.com/wp-content/uploads/2022/01/Snowman-Stampede.jpg
END:VEVENT
BEGIN:VEVENT
DTSTART;TZID=America/Denver:20220219T100000
DTEND;TZID=America/Denver:20220219T120000
DTSTAMP:20260422T042152
CREATED:20220124T171644Z
LAST-MODIFIED:20220124T171644Z
UID:10003587-1645264800-1645272000@www.castlepinesconnection.com
SUMMARY:Irish Genealogy Zoom Webinar
DESCRIPTION: 
URL:https://www.castlepinesconnection.com/event/irish-genealogy-zoom-webinar/
LOCATION:CO
ATTACH;FMTTYPE=image/jpeg:https://www.castlepinesconnection.com/wp-content/uploads/2021/09/CRcGsBanner.jpg
END:VEVENT
BEGIN:VEVENT
DTSTART;TZID=America/Denver:20220219T110000
DTEND;TZID=America/Denver:20220219T180000
DTSTAMP:20260422T042152
CREATED:20220124T172853Z
LAST-MODIFIED:20220124T172853Z
UID:10003590-1645268400-1645293600@www.castlepinesconnection.com
SUMMARY:Rocky Mountain Record Show
DESCRIPTION:
URL:https://www.castlepinesconnection.com/event/rocky-mountain-record-show/
LOCATION:Redline Contemporary Art Center\, 2350 Arapahoe Street\, Denver\, CO\, 80205
ATTACH;FMTTYPE=image/jpeg:https://www.castlepinesconnection.com/wp-content/uploads/2022/01/RockyMountainRecordShow.jpg
END:VEVENT
BEGIN:VEVENT
DTSTART;TZID=America/Denver:20220219T193000
DTEND;TZID=America/Denver:20220219T213000
DTSTAMP:20260422T042152
CREATED:20220124T172152Z
LAST-MODIFIED:20220124T172152Z
UID:10003589-1645299000-1645306200@www.castlepinesconnection.com
SUMMARY:Firefall
DESCRIPTION:
URL:https://www.castlepinesconnection.com/event/firefall/
LOCATION:PACE Center\, 20000 Pikes Peak Avenue\, Parker\, CO\, 80138
ATTACH;FMTTYPE=image/png:https://www.castlepinesconnection.com/wp-content/uploads/2020/01/ParkerArtsWithPaceSchoolhouse-e1729867324979.png
END:VEVENT
BEGIN:VEVENT
DTSTART;TZID=America/Denver:20220219T200000
DTEND;TZID=America/Denver:20220219T220000
DTSTAMP:20260422T042152
CREATED:20220124T171833Z
LAST-MODIFIED:20220124T171833Z
UID:10003588-1645300800-1645308000@www.castlepinesconnection.com
SUMMARY:International Guitar Night
DESCRIPTION:
URL:https://www.castlepinesconnection.com/event/international-guitar-night/
LOCATION:Lone Tree Arts Center\, 10075 Commons St\, Lone Tree\, CO\, 80124\, United States
ATTACH;FMTTYPE=image/jpeg:https://www.castlepinesconnection.com/wp-content/uploads/2021/06/LoneTreeArtsCenterlogoWEB-e1732315676117.jpg
END:VEVENT
BEGIN:VEVENT
DTSTART;TZID=America/Denver:20220220T090000
DTEND;TZID=America/Denver:20220220T120000
DTSTAMP:20260422T042152
CREATED:20220124T174513Z
LAST-MODIFIED:20220124T174642Z
UID:10003595-1645347600-1645358400@www.castlepinesconnection.com
SUMMARY:Photographing Roxborough State Park
DESCRIPTION:
URL:https://www.castlepinesconnection.com/event/photographing-roxborough-state-park/
LOCATION:Roxborough State Park\, 4751 E Roxborough Dr\, Littleton\, CO\, 80125\, United States
ATTACH;FMTTYPE=image/png:https://www.castlepinesconnection.com/wp-content/uploads/2022/01/RoxboroughWinter-e1643046393854.png
END:VEVENT
END:VCALENDAR