BEGIN:VCALENDAR
VERSION:2.0
PRODID:-//The Castle Pines Connection - ECPv6.15.15//NONSGML v1.0//EN
CALSCALE:GREGORIAN
METHOD:PUBLISH
X-WR-CALNAME:The Castle Pines Connection
X-ORIGINAL-URL:https://www.castlepinesconnection.com
X-WR-CALDESC:Events for The Castle Pines Connection
REFRESH-INTERVAL;VALUE=DURATION:PT1H
X-Robots-Tag:noindex
X-PUBLISHED-TTL:PT1H
BEGIN:VTIMEZONE
TZID:America/Denver
BEGIN:DAYLIGHT
TZOFFSETFROM:-0700
TZOFFSETTO:-0600
TZNAME:MDT
DTSTART:20230312T090000
END:DAYLIGHT
BEGIN:STANDARD
TZOFFSETFROM:-0600
TZOFFSETTO:-0700
TZNAME:MST
DTSTART:20231105T080000
END:STANDARD
BEGIN:DAYLIGHT
TZOFFSETFROM:-0700
TZOFFSETTO:-0600
TZNAME:MDT
DTSTART:20240310T090000
END:DAYLIGHT
BEGIN:STANDARD
TZOFFSETFROM:-0600
TZOFFSETTO:-0700
TZNAME:MST
DTSTART:20241103T080000
END:STANDARD
BEGIN:DAYLIGHT
TZOFFSETFROM:-0700
TZOFFSETTO:-0600
TZNAME:MDT
DTSTART:20250309T090000
END:DAYLIGHT
BEGIN:STANDARD
TZOFFSETFROM:-0600
TZOFFSETTO:-0700
TZNAME:MST
DTSTART:20251102T080000
END:STANDARD
END:VTIMEZONE
BEGIN:VEVENT
DTSTART;VALUE=DATE:20240829
DTEND;VALUE=DATE:20240908
DTSTAMP:20260425T045515
CREATED:20230828T182334Z
LAST-MODIFIED:20230828T182334Z
UID:10006487-1724889600-1725753599@www.castlepinesconnection.com
SUMMARY:Denver Oktoberfest
DESCRIPTION:Denver Oktoberfest\n@ Downtown Denver\nSeptember 22 – 24 and\nSeptember 29-October 1\nthedenveroktoberfest.com
URL:https://www.castlepinesconnection.com/event/denver-oktoberfest/2024-08-29/
LOCATION:Downtown Denver\, Denver\, Colorado
CATEGORIES:CO,Denver,Oktoberfest
ATTACH;FMTTYPE=image/png:https://www.castlepinesconnection.com/wp-content/uploads/2023/08/logo-no-date.png
END:VEVENT
BEGIN:VEVENT
DTSTART;VALUE=DATE:20240906
DTEND;VALUE=DATE:20240908
DTSTAMP:20260425T045515
CREATED:20240823T011605Z
LAST-MODIFIED:20240823T011605Z
UID:10007406-1725580800-1725753599@www.castlepinesconnection.com
SUMMARY:Highlands Ranch Pioneer Days
DESCRIPTION:9:00 am – 2:00 pm \n 
URL:https://www.castlepinesconnection.com/event/highlands-ranch-pioneer-days/
LOCATION:Highlands Ranch Mansion\, 9950 E Gateway Drive\, Highlands Ranch\, CO\, 80126
CATEGORIES:CO,Douglas County,Educational,Family event,Fun,Highlands Ranch,History,Horses
END:VEVENT
BEGIN:VEVENT
DTSTART;VALUE=DATE:20240906
DTEND;VALUE=DATE:20240908
DTSTAMP:20260425T045515
CREATED:20240823T012138Z
LAST-MODIFIED:20240823T012138Z
UID:10007407-1725580800-1725753599@www.castlepinesconnection.com
SUMMARY:Live from Laurel Canyon Presents “James & Joni”
DESCRIPTION:Two nights beginning at 7:30 p.m.
URL:https://www.castlepinesconnection.com/event/live-from-laurel-canyon-presents-james-joni/
LOCATION:Lonetree Arts Center\, 10075 Commons St\, Lone Tree\, Co\, 80124
CATEGORIES:CO,Concert,Douglas County,Live Music,Lone Tree,Performing Arts,Shows,Singer,concert
ATTACH;FMTTYPE=image/jpeg:https://www.castlepinesconnection.com/wp-content/uploads/2021/06/LoneTreeArtsCenterlogoWEB-e1732315676117.jpg
END:VEVENT
BEGIN:VEVENT
DTSTART;VALUE=DATE:20240907
DTEND;VALUE=DATE:20240909
DTSTAMP:20260425T045515
CREATED:20240823T014000Z
LAST-MODIFIED:20240823T014000Z
UID:10007410-1725667200-1725839999@www.castlepinesconnection.com
SUMMARY:Colorado Artfest at Castle Rock
DESCRIPTION:September 7 & 8\, 2024 | Downtown Castle Rock\nSaturday: 9am-6pm | Sunday: 10am-5pm
URL:https://www.castlepinesconnection.com/event/colorado-artfest-at-castle-rock/
LOCATION:Downtown Castle Rock\, Castle Rock\, CO
CATEGORIES:Art,Art Market,Art Show,CO,Castle Rock,Douglas County,Family event,Free Day,Fun
END:VEVENT
BEGIN:VEVENT
DTSTART;TZID=America/Denver:20240907T080000
DTEND;TZID=America/Denver:20240907T120000
DTSTAMP:20260425T045515
CREATED:20240528T031852Z
LAST-MODIFIED:20240528T031852Z
UID:10007255-1725696000-1725710400@www.castlepinesconnection.com
SUMMARY:Castle Rock Farmers Market
DESCRIPTION:
URL:https://www.castlepinesconnection.com/event/castle-rock-farmers-market-3/2024-09-07/
LOCATION:Douglas County Events Center\, 500 Fairgrounds Drive\, Castle Rock\, CO\, United States
CATEGORIES:CO,Castle Rock,Douglas County,Family event,Farmer's Market,Food & Tasting,Fun
END:VEVENT
BEGIN:VEVENT
DTSTART;TZID=America/Denver:20240907T090000
DTEND;TZID=America/Denver:20240907T103000
DTSTAMP:20260425T045515
CREATED:20240823T012554Z
LAST-MODIFIED:20240823T012554Z
UID:10007408-1725699600-1725705000@www.castlepinesconnection.com
SUMMARY:Guided Nature Hikes – Bees of Colorado
DESCRIPTION: 
URL:https://www.castlepinesconnection.com/event/guided-nature-hikes-bees-of-colorado/
LOCATION:Willow Creek Trail\, 9381 Crossington Way\, Lone Tree\, CO\, 80124
CATEGORIES:CO,Douglas County,Educational,Family event,Fun,Hike,Lone Tree,Nature,Nature Walk
END:VEVENT
BEGIN:VEVENT
DTSTART;TZID=America/Denver:20240907T100000
DTEND;TZID=America/Denver:20240907T120000
DTSTAMP:20260425T045515
CREATED:20240903T182042Z
LAST-MODIFIED:20240903T182042Z
UID:10007444-1725703200-1725710400@www.castlepinesconnection.com
SUMMARY:DNA Painter Workshop
DESCRIPTION:
URL:https://www.castlepinesconnection.com/event/dna-painter-workshop/
LOCATION:Philip & Jerry Miller Library\, 100 S. Wilcox St.\, Castle Rock\, Colorado\, 80104
CATEGORIES:CO,Castle Rock,Douglas County,Educational,History,Lecture
ATTACH;FMTTYPE=image/jpeg:https://www.castlepinesconnection.com/wp-content/uploads/2020/06/CastleRockGenSociety-e1621951396607.jpg
END:VEVENT
BEGIN:VEVENT
DTSTART;TZID=America/Denver:20240907T100000
DTEND;TZID=America/Denver:20240907T180000
DTSTAMP:20260425T045515
CREATED:20240823T013504Z
LAST-MODIFIED:20240823T013504Z
UID:10007409-1725703200-1725732000@www.castlepinesconnection.com
SUMMARY:Open House at Alice + Kate
DESCRIPTION:
URL:https://www.castlepinesconnection.com/event/open-house-at-alice-kate/
LOCATION:Alice + Kate Bakery\, 572 E Castle Pines Parkway\, Suite A5\, Castle Pines\, Colorado\, 80108
CATEGORIES:CO,Castle Pines,Douglas County,Food & Tasting
ATTACH;FMTTYPE=image/jpeg:https://www.castlepinesconnection.com/wp-content/uploads/2024/08/Alice_Kate_Logo_12-e1724376772442.jpg
END:VEVENT
BEGIN:VEVENT
DTSTART;TZID=America/Denver:20240907T110000
DTEND;TZID=America/Denver:20240907T190000
DTSTAMP:20260425T045515
CREATED:20220318T191227Z
LAST-MODIFIED:20220330T171310Z
UID:10004574-1725706800-1725735600@www.castlepinesconnection.com
SUMMARY:Easter Bunny photos Park Meadows Mall
DESCRIPTION:Hop\, Hop\, Hooray!\nDillard’s Court at Park Meadows\nMonday through Saturday:  11 a.m. – 7 p.m\nSundays:  12 p.m. – 6 p.m.\nPet Nights – March 21\, March 28\, and April 4\,  5 p.m. – 7.p.m.
URL:https://www.castlepinesconnection.com/event/easter-bunny-photos-park-meadows-mall/2024-09-07/
LOCATION:Park Meadows Retail Resort\, 8401 Park Meadows Center Dr\, Lone Tree\, CO\, 80124\, United States
CATEGORIES:Charity Benefit,Easter
ATTACH;FMTTYPE=image/png:https://www.castlepinesconnection.com/wp-content/uploads/2022/03/bunny-photos.png
END:VEVENT
BEGIN:VEVENT
DTSTART;TZID=America/Denver:20240907T140000
DTEND;TZID=America/Denver:20240907T160000
DTSTAMP:20260425T045515
CREATED:20241029T211752Z
LAST-MODIFIED:20241029T211752Z
UID:10005462-1725717600-1725724800@www.castlepinesconnection.com
SUMMARY:My Fair Lady
DESCRIPTION:
URL:https://www.castlepinesconnection.com/event/my-fair-lady/2024-09-07/
LOCATION:CO
ATTACH;FMTTYPE=image/jpeg:https://www.castlepinesconnection.com/wp-content/uploads/2020/01/DCPA-logo.jpg
END:VEVENT
BEGIN:VEVENT
DTSTART;TZID=America/Denver:20240907T163000
DTEND;TZID=America/Denver:20240907T171500
DTSTAMP:20260425T045515
CREATED:20201008T220853Z
LAST-MODIFIED:20201008T220956Z
UID:10001831-1725726600-1725729300@www.castlepinesconnection.com
SUMMARY:Tour of Cedar Hill Cemetery
DESCRIPTION:4:30 p.m. – 5:15 p.m.\n880 East Wolfensberger Road\, Castle Rock\nReservations: 303-814-3164 or museum@castlerockhistoricalsociety.org
URL:https://www.castlepinesconnection.com/event/tour-of-cedar-hill-cemetery/2024-09-07/
LOCATION:Cedar Hill Cemetery\, 880 East Wolfensberger Road\, Castle Rock\, CO\, 80104
ATTACH;FMTTYPE=image/png:https://www.castlepinesconnection.com/wp-content/uploads/2020/10/CR-GHOSTLYTROUR.png
END:VEVENT
BEGIN:VEVENT
DTSTART;VALUE=DATE:20240908
DTEND;VALUE=DATE:20240909
DTSTAMP:20260425T045515
CREATED:20240823T195837Z
LAST-MODIFIED:20240823T195837Z
UID:10007413-1725753600-1725839999@www.castlepinesconnection.com
SUMMARY:The Okee Dokee Brothers
DESCRIPTION:Two Shows:\n1:30 p.m. & 4:00 p.m. (Sensory Inclusive)
URL:https://www.castlepinesconnection.com/event/the-okee-dokee-brothers/
LOCATION:Lonetree Arts Center\, 10075 Commons St\, Lone Tree\, Co\, 80124
CATEGORIES:CO,Concert,Douglas County,Family event,Fun,Live Music,Lone Tree,Musical,Shows,Singer,concert
END:VEVENT
BEGIN:VEVENT
DTSTART;TZID=America/Denver:20240908T063000
DTEND;TZID=America/Denver:20240908T113000
DTSTAMP:20260425T045515
CREATED:20240823T195504Z
LAST-MODIFIED:20240823T195504Z
UID:10007412-1725777000-1725795000@www.castlepinesconnection.com
SUMMARY:Tri the Rock Youth Triathlon
DESCRIPTION: 
URL:https://www.castlepinesconnection.com/event/tri-the-rock-youth-triathlon-3/
LOCATION:Butterfield Park\, 3952 Butterfield Crossing Dr\, Castle Rock\, CO\, 80109
CATEGORIES:CO,Castle Rock,Douglas County,Family event,Fun,Run,Running
ATTACH;FMTTYPE=image/png:https://www.castlepinesconnection.com/wp-content/uploads/2024/08/TritheRock-e1755891430640.png
END:VEVENT
BEGIN:VEVENT
DTSTART;TZID=America/Denver:20240908T080000
DTEND;TZID=America/Denver:20240908T130000
DTSTAMP:20260425T045515
CREATED:20240424T212641Z
LAST-MODIFIED:20240424T212641Z
UID:10007089-1725782400-1725800400@www.castlepinesconnection.com
SUMMARY:Parker Farmers Market
DESCRIPTION:
URL:https://www.castlepinesconnection.com/event/parker-farmers-market-3/2024-09-08/
LOCATION:Downtown Parker on Mainstreet\, Parker\, Colorado\, 80138
CATEGORIES:CO,Douglas County,Family event,Farmer's Market,Food & Tasting,Fun
END:VEVENT
BEGIN:VEVENT
DTSTART;TZID=America/Denver:20240908T090000
DTEND;TZID=America/Denver:20240908T140000
DTSTAMP:20260425T045515
CREATED:20240425T154644Z
LAST-MODIFIED:20240425T154644Z
UID:10007137-1725786000-1725804000@www.castlepinesconnection.com
SUMMARY:Festival Park Farmers Market
DESCRIPTION:
URL:https://www.castlepinesconnection.com/event/festival-park-farmers-market-3/2024-09-08/
LOCATION:Festival Park\, 300 2nd St\,\, Castle Rock\, CO\, 80104
CATEGORIES:CO,Castle Rock,Douglas County,Family event,Food & Tasting,Fun,Outdoors,Street Party
END:VEVENT
BEGIN:VEVENT
DTSTART;TZID=America/Denver:20240908T100000
DTEND;TZID=America/Denver:20240908T140000
DTSTAMP:20260425T045515
CREATED:20240325T143113Z
LAST-MODIFIED:20240325T143113Z
UID:10006998-1725789600-1725804000@www.castlepinesconnection.com
SUMMARY:Highlands Ranch Farmers Market
DESCRIPTION:Every Sunday through October 27.
URL:https://www.castlepinesconnection.com/event/highlands-ranch-farmers-market/2024-09-08/
LOCATION:Highlands Ranch Town Center South\, 9352 Dorchester St\, Highlands Ranch\, Colorado\, 80129
CATEGORIES:CO,Douglas County,Fair,Family event,Farmer's Market,Food & Tasting,Fun,Highlands Ranch
END:VEVENT
BEGIN:VEVENT
DTSTART;TZID=America/Denver:20240909T160000
DTEND;TZID=America/Denver:20240909T173000
DTSTAMP:20260425T045515
CREATED:20240823T200059Z
LAST-MODIFIED:20240823T200059Z
UID:10007414-1725897600-1725903000@www.castlepinesconnection.com
SUMMARY:Bark for Books
DESCRIPTION:
URL:https://www.castlepinesconnection.com/event/bark-for-books-10/
LOCATION:Douglas County Libraries – Castle Pines\, 360 Village Squart Lane\, Castle Pines\, CO\, 80108
CATEGORIES:CO,Castle Pines,Douglas County,Pets
ATTACH;FMTTYPE=image/jpeg:https://www.castlepinesconnection.com/wp-content/uploads/2020/12/dclibrariesLogoBoxedforWeb-e1701117552989.jpg
END:VEVENT
BEGIN:VEVENT
DTSTART;VALUE=DATE:20240910
DTEND;VALUE=DATE:20240911
DTSTAMP:20260425T045515
CREATED:20240823T200451Z
LAST-MODIFIED:20240823T200451Z
UID:10007415-1725926400-1726012799@www.castlepinesconnection.com
SUMMARY:The Ann Lincoln Show: Comedy\, Magic\, & Juggling
DESCRIPTION:Two Shows:\n10:00 a.m. & 11:30 a.m.
URL:https://www.castlepinesconnection.com/event/the-ann-lincoln-show-comedy-magic-juggling/
LOCATION:Lonetree Arts Center\, 10075 Commons St\, Lone Tree\, Co\, 80124
CATEGORIES:CO,Douglas County,Family event,Fun,Lone Tree,Performing Arts,Shows,theater
END:VEVENT
BEGIN:VEVENT
DTSTART;TZID=America/Denver:20240910T080000
DTEND;TZID=America/Denver:20240910T110000
DTSTAMP:20260425T045515
CREATED:20231227T192817Z
LAST-MODIFIED:20231227T192817Z
UID:10006823-1725955200-1725966000@www.castlepinesconnection.com
SUMMARY:Coffee Chat Tuesday
DESCRIPTION:
URL:https://www.castlepinesconnection.com/event/coffee-chat-tuesday-2/2024-09-10/
LOCATION:Douglas County Libraries – Castle Pines\, 360 Village Squart Lane\, Castle Pines\, CO\, 80108
CATEGORIES:Book Club,CO,Castle Pines,Douglas County
ATTACH;FMTTYPE=image/jpeg:https://www.castlepinesconnection.com/wp-content/uploads/2020/01/DouglasCountyLibrarieslogo-e1735239504162.jpg
END:VEVENT
BEGIN:VEVENT
DTSTART;TZID=America/Denver:20240910T180000
DTEND;TZID=America/Denver:20240910T190000
DTSTAMP:20260425T045515
CREATED:20240823T200717Z
LAST-MODIFIED:20240823T200717Z
UID:10007416-1725991200-1725994800@www.castlepinesconnection.com
SUMMARY:Animals Around the Rock: Batty About Castle Rock
DESCRIPTION:
URL:https://www.castlepinesconnection.com/event/animals-around-the-rock-batty-about-castle-rock-3/
LOCATION:The Millhouse at Philip S. Miller Park\, 1375 W. Plum Creek Parkway\, Castle Rock\, CO\, 80109
CATEGORIES:CO,Castle Rock,Douglas County,Educational,Lecture,Nature
END:VEVENT
BEGIN:VEVENT
DTSTART;TZID=America/Denver:20240911T070000
DTEND;TZID=America/Denver:20240911T070000
DTSTAMP:20260425T045515
CREATED:20240823T201130Z
LAST-MODIFIED:20240823T201130Z
UID:10007417-1726038000-1726038000@www.castlepinesconnection.com
SUMMARY:Fall Swing Golf Tournament
DESCRIPTION:
URL:https://www.castlepinesconnection.com/event/fall-swing-golf-tournament-2/
LOCATION:Plum Creek Golf Club\, 331 Players Club Drive\, Castle Rock\, Colorado\, 80104
CATEGORIES:CO,Castle Rock,Charity Benefit,Douglas County,Fundraiser,Golf
END:VEVENT
BEGIN:VEVENT
DTSTART;TZID=America/Denver:20240912T170000
DTEND;TZID=America/Denver:20240912T180000
DTSTAMP:20260425T045515
CREATED:20240823T201338Z
LAST-MODIFIED:20240823T201338Z
UID:10007418-1726160400-1726164000@www.castlepinesconnection.com
SUMMARY:Slick Science
DESCRIPTION:
URL:https://www.castlepinesconnection.com/event/slick-science-6/
LOCATION:Douglas County Libraries – Castle Pines\, 360 Village Squart Lane\, Castle Pines\, CO\, 80108
CATEGORIES:CO,Castle Pines,Douglas County,Educational,Family event,Fun
END:VEVENT
BEGIN:VEVENT
DTSTART;TZID=America/Denver:20240912T180000
DTEND;TZID=America/Denver:20240912T200000
DTSTAMP:20260425T045515
CREATED:20240821T213123Z
LAST-MODIFIED:20240821T213123Z
UID:10007401-1726164000-1726171200@www.castlepinesconnection.com
SUMMARY:Inspiration at Cantril: Grand Opening Event!
DESCRIPTION:
URL:https://www.castlepinesconnection.com/event/inspiration-at-cantril-grand-opening-event/
LOCATION:Cantril School Building\, 312 Cantril St.\, Castle Rock\, CO\, 80104
CATEGORIES:Art,Art Market,Art Show,CO,Castle Rock,Douglas County,Fun
ATTACH;FMTTYPE=image/jpeg:https://www.castlepinesconnection.com/wp-content/uploads/2024/08/Tri-Arts-Project-Logo-e1724275787791.jpg
END:VEVENT
BEGIN:VEVENT
DTSTART;TZID=America/Denver:20240913T170000
DTEND;TZID=America/Denver:20240913T170000
DTSTAMP:20260425T045515
CREATED:20240823T201742Z
LAST-MODIFIED:20240823T201742Z
UID:10007419-1726246800-1726246800@www.castlepinesconnection.com
SUMMARY:Heroes Gala
DESCRIPTION: 
URL:https://www.castlepinesconnection.com/event/heroes-gala/
LOCATION:Centennial Airport\, 13005 Wings Way\, Englewood\, Colorado\, 80112
CATEGORIES:CO,Charity Benefit,Douglas County,Fundraiser,Lone Tree
END:VEVENT
BEGIN:VEVENT
DTSTART;TZID=America/Denver:20240914T090000
DTEND;TZID=America/Denver:20240914T090000
DTSTAMP:20260425T045515
CREATED:20240823T202039Z
LAST-MODIFIED:20240823T202039Z
UID:10007420-1726304400-1726304400@www.castlepinesconnection.com
SUMMARY:Oktoberfest 5K
DESCRIPTION:
URL:https://www.castlepinesconnection.com/event/oktoberfest-5k/
LOCATION:Highlands Ranch Town Center South\, 9352 Dorchester St\, Highlands Ranch\, Colorado\, 80129
CATEGORIES:CO,Douglas County,Family event,Fun,Highlands Ranch,Run,Running
END:VEVENT
BEGIN:VEVENT
DTSTART;TZID=America/Denver:20240914T090000
DTEND;TZID=America/Denver:20240914T140000
DTSTAMP:20260425T045515
CREATED:20240822T134629Z
LAST-MODIFIED:20240822T134629Z
UID:10007402-1726304400-1726322400@www.castlepinesconnection.com
SUMMARY:Slash Collection Day
DESCRIPTION:
URL:https://www.castlepinesconnection.com/event/slash-collection-day/
LOCATION:Elk Ridge Park\, 7005 Mira Vista Lane\, Castle Pines\, CO\, 80108
CATEGORIES:CO,Castle Pines,Douglas County,Nature
END:VEVENT
BEGIN:VEVENT
DTSTART;TZID=America/Denver:20240914T130000
DTEND;TZID=America/Denver:20240914T210000
DTSTAMP:20260425T045515
CREATED:20240823T202443Z
LAST-MODIFIED:20240823T202443Z
UID:10007421-1726318800-1726347600@www.castlepinesconnection.com
SUMMARY:Oktoberfest Celebration
DESCRIPTION:
URL:https://www.castlepinesconnection.com/event/oktoberfest-celebration/
LOCATION:Highlands Ranch Town Center South\, 9352 Dorchester St\, Highlands Ranch\, Colorado\, 80129
CATEGORIES:CO,Denver,Douglas County,Fall Festival,Family event,Food & Tasting,Fun,Highlands Ranch,Holiday event,Oktoberfest
END:VEVENT
BEGIN:VEVENT
DTSTART;TZID=America/Denver:20240915T143000
DTEND;TZID=America/Denver:20240915T143000
DTSTAMP:20260425T045515
CREATED:20240826T153304Z
LAST-MODIFIED:20240826T153304Z
UID:10007422-1726410600-1726410600@www.castlepinesconnection.com
SUMMARY:Broncos vs. Steelers
DESCRIPTION: 
URL:https://www.castlepinesconnection.com/event/broncos-vs-steelers/
LOCATION:Empower Field at Mile High\, 1701 Bryant St\, Denver\, CO\, 80204\, United States
CATEGORIES:Broncos,CO,Denver
ATTACH;FMTTYPE=image/png:https://www.castlepinesconnection.com/wp-content/uploads/2022/08/Denver_Broncos_logo.svg_-1024x595-e1732315726377.png
END:VEVENT
BEGIN:VEVENT
DTSTART;TZID=America/Denver:20240916T180000
DTEND;TZID=America/Denver:20240916T193000
DTSTAMP:20260425T045515
CREATED:20240826T153714Z
LAST-MODIFIED:20240826T153714Z
UID:10007423-1726509600-1726515000@www.castlepinesconnection.com
SUMMARY:Active Minds - Vietnam: From Conflict to Cooperation
DESCRIPTION: 
URL:https://www.castlepinesconnection.com/event/active-minds-vietnam-from-conflict-to-cooperation/
LOCATION:Douglas County Libraries – Castle Pines\, 360 Village Squart Lane\, Castle Pines\, CO\, 80108
CATEGORIES:CO,Castle Pines,Douglas County,Educational,Lecture,Senior
END:VEVENT
BEGIN:VEVENT
DTSTART;TZID=America/Denver:20240917T183000
DTEND;TZID=America/Denver:20240917T200000
DTSTAMP:20260425T045515
CREATED:20240826T154630Z
LAST-MODIFIED:20240826T154630Z
UID:10007424-1726597800-1726603200@www.castlepinesconnection.com
SUMMARY:Nature Walk: Harvest Moon
DESCRIPTION:
URL:https://www.castlepinesconnection.com/event/nature-walk-harvest-moon/
LOCATION:Schweiger Ranch\, 10822 S. Havana\, Lone Tree\, CO\, 80134
CATEGORIES:CO,Douglas County,Educational,Family event,Lone Tree,Nature,Nature Walk,Outdoors
END:VEVENT
END:VCALENDAR