BEGIN:VCALENDAR
VERSION:2.0
PRODID:-//The Castle Pines Connection - ECPv6.15.15//NONSGML v1.0//EN
CALSCALE:GREGORIAN
METHOD:PUBLISH
X-WR-CALNAME:The Castle Pines Connection
X-ORIGINAL-URL:https://www.castlepinesconnection.com
X-WR-CALDESC:Events for The Castle Pines Connection
REFRESH-INTERVAL;VALUE=DURATION:PT1H
X-Robots-Tag:noindex
X-PUBLISHED-TTL:PT1H
BEGIN:VTIMEZONE
TZID:America/Denver
BEGIN:DAYLIGHT
TZOFFSETFROM:-0700
TZOFFSETTO:-0600
TZNAME:MDT
DTSTART:20230312T090000
END:DAYLIGHT
BEGIN:STANDARD
TZOFFSETFROM:-0600
TZOFFSETTO:-0700
TZNAME:MST
DTSTART:20231105T080000
END:STANDARD
BEGIN:DAYLIGHT
TZOFFSETFROM:-0700
TZOFFSETTO:-0600
TZNAME:MDT
DTSTART:20240310T090000
END:DAYLIGHT
BEGIN:STANDARD
TZOFFSETFROM:-0600
TZOFFSETTO:-0700
TZNAME:MST
DTSTART:20241103T080000
END:STANDARD
BEGIN:DAYLIGHT
TZOFFSETFROM:-0700
TZOFFSETTO:-0600
TZNAME:MDT
DTSTART:20250309T090000
END:DAYLIGHT
BEGIN:STANDARD
TZOFFSETFROM:-0600
TZOFFSETTO:-0700
TZNAME:MST
DTSTART:20251102T080000
END:STANDARD
END:VTIMEZONE
BEGIN:VEVENT
DTSTART;VALUE=DATE:20240912
DTEND;VALUE=DATE:20240922
DTSTAMP:20260425T055751
CREATED:20230828T182334Z
LAST-MODIFIED:20230828T182334Z
UID:10006501-1726099200-1726963199@www.castlepinesconnection.com
SUMMARY:Denver Oktoberfest
DESCRIPTION:Denver Oktoberfest\n@ Downtown Denver\nSeptember 22 – 24 and\nSeptember 29-October 1\nthedenveroktoberfest.com
URL:https://www.castlepinesconnection.com/event/denver-oktoberfest/2024-09-12/
LOCATION:Downtown Denver\, Denver\, Colorado
CATEGORIES:CO,Denver,Oktoberfest
ATTACH;FMTTYPE=image/png:https://www.castlepinesconnection.com/wp-content/uploads/2023/08/logo-no-date.png
END:VEVENT
BEGIN:VEVENT
DTSTART;VALUE=DATE:20240919
DTEND;VALUE=DATE:20241004
DTSTAMP:20260425T055751
CREATED:20240826T155606Z
LAST-MODIFIED:20240826T162003Z
UID:10007426-1726704000-1727999999@www.castlepinesconnection.com
SUMMARY:Elk Bugling Sightings & Sounds!
DESCRIPTION:A fall Tradition for many guests\, our elk will be speaking the language of love and you are invited!\nTime: 5:00 p.m.\, Sept. 19 – Oct. 3
URL:https://www.castlepinesconnection.com/event/elk-bugling-sightings-sounds/
LOCATION:Cherokee Ranch & Castle\, 6113 N Daniels Park Rd\, Sedalia\, CO\, 80135\, United States
CATEGORIES:CO,Castle Pines,Douglas County,Educational,Family event,Nature,Nature Walk,Outdoors
ATTACH;FMTTYPE=image/png:https://www.castlepinesconnection.com/wp-content/uploads/2024/08/cherokeeranchandcastle-e1732313724886.png
END:VEVENT
BEGIN:VEVENT
DTSTART;VALUE=DATE:20240920
DTEND;VALUE=DATE:20240930
DTSTAMP:20260425T055751
CREATED:20240826T160343Z
LAST-MODIFIED:20240826T160343Z
UID:10007428-1726790400-1727654399@www.castlepinesconnection.com
SUMMARY:Denver Oktoberfest
DESCRIPTION:Sept. 20 – Sept. 22 &  Sept. 27 – Sept. 29
URL:https://www.castlepinesconnection.com/event/denver-oktoberfest-2/
LOCATION:Downtown Denver
CATEGORIES:CO,Denver,Oktoberfest
ATTACH;FMTTYPE=image/png:https://www.castlepinesconnection.com/wp-content/uploads/2024/08/Oktoberfest-e1724688089935.png
END:VEVENT
BEGIN:VEVENT
DTSTART;VALUE=DATE:20240921
DTEND;VALUE=DATE:20240923
DTSTAMP:20260425T055751
CREATED:20240826T162908Z
LAST-MODIFIED:20240826T162908Z
UID:10007429-1726876800-1727049599@www.castlepinesconnection.com
SUMMARY:Larkspur Autumn Arts & Crafts Fest
DESCRIPTION:Time: 10 a.m. – 5 p.m. both Sept. 21 – Sept. 22.
URL:https://www.castlepinesconnection.com/event/larkspur-autumn-arts-crafts-fest-2/
LOCATION:Larkspur Community Park\, 8850 Spruce Mountain Rd\, Larkspur\, CO\, 80118\, United States
CATEGORIES:Art,Art Market,Art Show,CO,Castle Pines,Craft Fair,Denver,Douglas County,Fall Festival,Holiday event
ATTACH;FMTTYPE=image/png:https://www.castlepinesconnection.com/wp-content/uploads/2024/08/larkspurchamber-e1724689644406.png
END:VEVENT
BEGIN:VEVENT
DTSTART;TZID=America/Denver:20240921T080000
DTEND;TZID=America/Denver:20240921T120000
DTSTAMP:20260425T055751
CREATED:20240528T031852Z
LAST-MODIFIED:20240528T031852Z
UID:10007257-1726905600-1726920000@www.castlepinesconnection.com
SUMMARY:Castle Rock Farmers Market
DESCRIPTION:
URL:https://www.castlepinesconnection.com/event/castle-rock-farmers-market-3/2024-09-21/
LOCATION:Douglas County Events Center\, 500 Fairgrounds Drive\, Castle Rock\, CO\, United States
CATEGORIES:CO,Castle Rock,Douglas County,Family event,Farmer's Market,Food & Tasting,Fun
END:VEVENT
BEGIN:VEVENT
DTSTART;TZID=America/Denver:20240921T110000
DTEND;TZID=America/Denver:20240921T190000
DTSTAMP:20260425T055751
CREATED:20220318T191227Z
LAST-MODIFIED:20220330T171310Z
UID:10004588-1726916400-1726945200@www.castlepinesconnection.com
SUMMARY:Easter Bunny photos Park Meadows Mall
DESCRIPTION:Hop\, Hop\, Hooray!\nDillard’s Court at Park Meadows\nMonday through Saturday:  11 a.m. – 7 p.m\nSundays:  12 p.m. – 6 p.m.\nPet Nights – March 21\, March 28\, and April 4\,  5 p.m. – 7.p.m.
URL:https://www.castlepinesconnection.com/event/easter-bunny-photos-park-meadows-mall/2024-09-21/
LOCATION:Park Meadows Retail Resort\, 8401 Park Meadows Center Dr\, Lone Tree\, CO\, 80124\, United States
CATEGORIES:Charity Benefit,Easter
ATTACH;FMTTYPE=image/png:https://www.castlepinesconnection.com/wp-content/uploads/2022/03/bunny-photos.png
END:VEVENT
BEGIN:VEVENT
DTSTART;TZID=America/Denver:20240921T130000
DTEND;TZID=America/Denver:20240921T210000
DTSTAMP:20260425T055751
CREATED:20240826T163155Z
LAST-MODIFIED:20240826T163155Z
UID:10007430-1726923600-1726952400@www.castlepinesconnection.com
SUMMARY:Oktoberfest
DESCRIPTION:
URL:https://www.castlepinesconnection.com/event/oktoberfest-3/
LOCATION:Wilcox Square\, Downtown Castle Rock\, Castle Rock
CATEGORIES:CO,Castle Rock,Douglas County,Fall Festival,Family event,Fun,Live Music,Oktoberfest
END:VEVENT
BEGIN:VEVENT
DTSTART;TZID=America/Denver:20240921T140000
DTEND;TZID=America/Denver:20240921T150000
DTSTAMP:20260425T055751
CREATED:20240826T163535Z
LAST-MODIFIED:20240826T163535Z
UID:10007431-1726927200-1726930800@www.castlepinesconnection.com
SUMMARY:Heroines of the West
DESCRIPTION:
URL:https://www.castlepinesconnection.com/event/heroines-of-the-west/
LOCATION:Douglas County Libraries – Castle Pines\, 360 Village Squart Lane\, Castle Pines\, CO\, 80108
CATEGORIES:CO,Castle Pines,Douglas County,Educational,Family event,Fun,History,Lecture,Performing Arts,Shows
ATTACH;FMTTYPE=image/jpeg:https://www.castlepinesconnection.com/wp-content/uploads/2020/12/dclibrariesLogoBoxedforWeb-e1701117552989.jpg
END:VEVENT
BEGIN:VEVENT
DTSTART;TZID=America/Denver:20240921T140000
DTEND;TZID=America/Denver:20240921T160000
DTSTAMP:20260425T055751
CREATED:20241029T211752Z
LAST-MODIFIED:20241029T211752Z
UID:10005466-1726927200-1726934400@www.castlepinesconnection.com
SUMMARY:My Fair Lady
DESCRIPTION:
URL:https://www.castlepinesconnection.com/event/my-fair-lady/2024-09-21/
LOCATION:CO
ATTACH;FMTTYPE=image/jpeg:https://www.castlepinesconnection.com/wp-content/uploads/2020/01/DCPA-logo.jpg
END:VEVENT
BEGIN:VEVENT
DTSTART;TZID=America/Denver:20240921T163000
DTEND;TZID=America/Denver:20240921T171500
DTSTAMP:20260425T055751
CREATED:20201008T220853Z
LAST-MODIFIED:20201008T220956Z
UID:10001845-1726936200-1726938900@www.castlepinesconnection.com
SUMMARY:Tour of Cedar Hill Cemetery
DESCRIPTION:4:30 p.m. – 5:15 p.m.\n880 East Wolfensberger Road\, Castle Rock\nReservations: 303-814-3164 or museum@castlerockhistoricalsociety.org
URL:https://www.castlepinesconnection.com/event/tour-of-cedar-hill-cemetery/2024-09-21/
LOCATION:Cedar Hill Cemetery\, 880 East Wolfensberger Road\, Castle Rock\, CO\, 80104
ATTACH;FMTTYPE=image/png:https://www.castlepinesconnection.com/wp-content/uploads/2020/10/CR-GHOSTLYTROUR.png
END:VEVENT
BEGIN:VEVENT
DTSTART;TZID=America/Denver:20240921T190000
DTEND;TZID=America/Denver:20240921T190000
DTSTAMP:20260425T055751
CREATED:20240826T164143Z
LAST-MODIFIED:20240826T164143Z
UID:10007432-1726945200-1726945200@www.castlepinesconnection.com
SUMMARY:Drive-In Movie “IF”
DESCRIPTION:
URL:https://www.castlepinesconnection.com/event/drive-in-movie-if/
LOCATION:Future Soaring Hawk Park in the Canyons\, east of the Canyonside Boulevard and Cross Canyon Trail intersection\, Castle Pines\, 80108
CATEGORIES:CO,Castle Pines,Douglas County,Family event,Free Day,Fun
END:VEVENT
BEGIN:VEVENT
DTSTART;TZID=America/Denver:20240922T080000
DTEND;TZID=America/Denver:20240922T130000
DTSTAMP:20260425T055751
CREATED:20240424T212641Z
LAST-MODIFIED:20240424T212641Z
UID:10007091-1726992000-1727010000@www.castlepinesconnection.com
SUMMARY:Parker Farmers Market
DESCRIPTION:
URL:https://www.castlepinesconnection.com/event/parker-farmers-market-3/2024-09-22/
LOCATION:Downtown Parker on Mainstreet\, Parker\, Colorado\, 80138
CATEGORIES:CO,Douglas County,Family event,Farmer's Market,Food & Tasting,Fun
END:VEVENT
BEGIN:VEVENT
DTSTART;TZID=America/Denver:20240922T090000
DTEND;TZID=America/Denver:20240922T140000
DTSTAMP:20260425T055751
CREATED:20240425T154644Z
LAST-MODIFIED:20240425T154644Z
UID:10007139-1726995600-1727013600@www.castlepinesconnection.com
SUMMARY:Festival Park Farmers Market
DESCRIPTION:
URL:https://www.castlepinesconnection.com/event/festival-park-farmers-market-3/2024-09-22/
LOCATION:Festival Park\, 300 2nd St\,\, Castle Rock\, CO\, 80104
CATEGORIES:CO,Castle Rock,Douglas County,Family event,Food & Tasting,Fun,Outdoors,Street Party
END:VEVENT
BEGIN:VEVENT
DTSTART;TZID=America/Denver:20240922T100000
DTEND;TZID=America/Denver:20240922T140000
DTSTAMP:20260425T055751
CREATED:20240325T143113Z
LAST-MODIFIED:20240325T143113Z
UID:10007000-1726999200-1727013600@www.castlepinesconnection.com
SUMMARY:Highlands Ranch Farmers Market
DESCRIPTION:Every Sunday through October 27.
URL:https://www.castlepinesconnection.com/event/highlands-ranch-farmers-market/2024-09-22/
LOCATION:Highlands Ranch Town Center South\, 9352 Dorchester St\, Highlands Ranch\, Colorado\, 80129
CATEGORIES:CO,Douglas County,Fair,Family event,Farmer's Market,Food & Tasting,Fun,Highlands Ranch
END:VEVENT
BEGIN:VEVENT
DTSTART;TZID=America/Denver:20240922T133000
DTEND;TZID=America/Denver:20240922T153000
DTSTAMP:20260425T055751
CREATED:20240906T180956Z
LAST-MODIFIED:20240909T212312Z
UID:10007448-1727011800-1727019000@www.castlepinesconnection.com
SUMMARY:5th Annual Walk to End ALS
DESCRIPTION:
URL:https://www.castlepinesconnection.com/event/5th-annual-walk-to-end-als/
LOCATION:105 West Brewing Company\, 1043 Park St.\, Castle Rock\, CO\, 80109
CATEGORIES:Castle Rock,Charity Benefit,Douglas County
ATTACH;FMTTYPE=image/jpeg:https://www.castlepinesconnection.com/wp-content/uploads/2024/09/croppedPMSALS.jpg
END:VEVENT
BEGIN:VEVENT
DTSTART;TZID=America/Denver:20240922T140000
DTEND;TZID=America/Denver:20240922T140000
DTSTAMP:20260425T055752
CREATED:20240903T182652Z
LAST-MODIFIED:20240903T182652Z
UID:10007445-1727013600-1727013600@www.castlepinesconnection.com
SUMMARY:Dances with Bernstein
DESCRIPTION:
URL:https://www.castlepinesconnection.com/event/dances-with-bernstein/
LOCATION:Lone Tree Arts Center\, 10075 Commons St\, Lone Tree\, CO\, 80124\, United States
CATEGORIES:CO,Concert,Denver,Douglas County,Live Music,Lone Tree,Musical,Performing Arts,Shows,Singer,Symphony,concert
ATTACH;FMTTYPE=image/jpeg:https://www.castlepinesconnection.com/wp-content/uploads/2022/08/DenverConcertBandLogo-e1706664367234.jpg
END:VEVENT
BEGIN:VEVENT
DTSTART;TZID=America/Denver:20240922T140000
DTEND;TZID=America/Denver:20240922T153000
DTSTAMP:20260425T055752
CREATED:20240826T165232Z
LAST-MODIFIED:20240826T165232Z
UID:10007434-1727013600-1727019000@www.castlepinesconnection.com
SUMMARY:Sound Bath
DESCRIPTION:
URL:https://www.castlepinesconnection.com/event/sound-bath/
LOCATION:Douglas County Libraries – Castle Pines\, 360 Village Squart Lane\, Castle Pines\, CO\, 80108
CATEGORIES:CO,Castle Pines,Douglas County,Yoga
END:VEVENT
BEGIN:VEVENT
DTSTART;TZID=America/Denver:20240924T000000
DTEND;TZID=America/Denver:20240924T235959
DTSTAMP:20260425T055752
CREATED:20240425T160231Z
LAST-MODIFIED:20240923T171154Z
UID:10007148-1727136000-1727222399@www.castlepinesconnection.com
SUMMARY:Women’s Rides - every Tuesday
DESCRIPTION:Start at 8:30 a.m. at Gate 1 of The Village or Ziggy’s.
URL:https://www.castlepinesconnection.com/event/womens-rides-every-tuesday-2024-09-24/2024-09-24/
LOCATION:CO
CATEGORIES:CO,Castle Pines,Cycling Club,Douglas County
ATTACH;FMTTYPE=image/jpeg:https://www.castlepinesconnection.com/wp-content/uploads/2016/06/villageIdiotsLogo-e1740431351786.jpg
END:VEVENT
BEGIN:VEVENT
DTSTART;TZID=America/Denver:20240924T080000
DTEND;TZID=America/Denver:20240924T110000
DTSTAMP:20260425T055752
CREATED:20231227T192817Z
LAST-MODIFIED:20231227T192817Z
UID:10006825-1727164800-1727175600@www.castlepinesconnection.com
SUMMARY:Coffee Chat Tuesday
DESCRIPTION:
URL:https://www.castlepinesconnection.com/event/coffee-chat-tuesday-2/2024-09-24/
LOCATION:Douglas County Libraries – Castle Pines\, 360 Village Squart Lane\, Castle Pines\, CO\, 80108
CATEGORIES:Book Club,CO,Castle Pines,Douglas County
ATTACH;FMTTYPE=image/jpeg:https://www.castlepinesconnection.com/wp-content/uploads/2020/01/DouglasCountyLibrarieslogo-e1735239504162.jpg
END:VEVENT
BEGIN:VEVENT
DTSTART;TZID=America/Denver:20240924T133000
DTEND;TZID=America/Denver:20240924T133000
DTSTAMP:20260425T055752
CREATED:20240826T165002Z
LAST-MODIFIED:20240906T133952Z
UID:10007433-1727184600-1727184600@www.castlepinesconnection.com
SUMMARY:Paul’s Mysteryship Walk To End ALS
DESCRIPTION:
URL:https://www.castlepinesconnection.com/event/pauls-mysteryship-walk-to-end-als/
LOCATION:105 West Brewing Company\, 1043 Park St.\, Castle Rock\, CO\, 80109
CATEGORIES:CO,Castle Rock,Charity Benefit,Family event,Marathon,Run,Running
ATTACH;FMTTYPE=image/jpeg:https://www.castlepinesconnection.com/wp-content/uploads/2024/04/PaulsMysteryShip_Header-Graphic-2-linesB-e1739998227353.jpg
END:VEVENT
BEGIN:VEVENT
DTSTART;VALUE=DATE:20240925
DTEND;VALUE=DATE:20241103
DTSTAMP:20260425T055752
CREATED:20240920T163026Z
LAST-MODIFIED:20240920T163026Z
UID:10007465-1727222400-1730591999@www.castlepinesconnection.com
SUMMARY:Fall Festival at the Anderson Farms
DESCRIPTION: 
URL:https://www.castlepinesconnection.com/event/fall-festival-at-the-anderson-farms/
LOCATION:Anderson Farms\, 6728 County Rd 3 1/4\, Erie\, Colorado\, 80516
CATEGORIES:CO,Denver,Fall Festival,Family event,Holiday event
ATTACH;FMTTYPE=image/png:https://www.castlepinesconnection.com/wp-content/uploads/2024/09/AndersonFarms-e1726849702628.png
END:VEVENT
BEGIN:VEVENT
DTSTART;TZID=America/Denver:20240925T193000
DTEND;TZID=America/Denver:20240925T193000
DTSTAMP:20260425T055752
CREATED:20240719T154927Z
LAST-MODIFIED:20240719T154927Z
UID:10007355-1727292600-1727292600@www.castlepinesconnection.com
SUMMARY:The East Colfax Wednesday Comedy Show
DESCRIPTION:
URL:https://www.castlepinesconnection.com/event/the-east-colfax-wednesday-comedy-show/2024-09-25/
LOCATION:The People’s Building\, 9995 E Colfax Ave\, Aurora\, Colorado\, 80010
CATEGORIES:CO,Comedy,Denver,Shows,Tours
END:VEVENT
BEGIN:VEVENT
DTSTART;TZID=America/Denver:20240927T193000
DTEND;TZID=America/Denver:20240927T193000
DTSTAMP:20260425T055752
CREATED:20240826T170100Z
LAST-MODIFIED:20240826T170100Z
UID:10007436-1727465400-1727465400@www.castlepinesconnection.com
SUMMARY:Lone Tree Symphony Orchestra - A Silver Celebration
DESCRIPTION: 
URL:https://www.castlepinesconnection.com/event/lone-tree-symphony-orchestra-a-silver-celebration/
LOCATION:Lone Tree Arts Center\, 10075 Commons St\, Lone Tree\, CO\, 80124\, United States
CATEGORIES:CO,Douglas County,Family event,Live Music,Lone Tree,Orchestra,Performing Arts,Shows,Symphony
ATTACH;FMTTYPE=image/jpeg:https://www.castlepinesconnection.com/wp-content/uploads/2022/08/LoneTreeSymphony-e1745282387932.jpg
END:VEVENT
BEGIN:VEVENT
DTSTART;VALUE=DATE:20240928
DTEND;VALUE=DATE:20240930
DTSTAMP:20260425T055752
CREATED:20240826T171303Z
LAST-MODIFIED:20240826T171303Z
UID:10007440-1727481600-1727654399@www.castlepinesconnection.com
SUMMARY:Fall Craft Show
DESCRIPTION:Time: 9 a.m. – 4 p.m. on both Sept. 28 and Sept. 29.
URL:https://www.castlepinesconnection.com/event/fall-craft-show/
LOCATION:Eastridge Recreation Center\, 9568 S University Blvd.\, Highlands Ranch\, CO\, 80126
CATEGORIES:Art Market,Art Show,CO,Craft Fair,Fall Festival,Family event,Highlands Ranch
END:VEVENT
BEGIN:VEVENT
DTSTART;TZID=America/Denver:20240928T090000
DTEND;TZID=America/Denver:20240928T120000
DTSTAMP:20260425T055752
CREATED:20240826T170411Z
LAST-MODIFIED:20240826T170411Z
UID:10007437-1727514000-1727524800@www.castlepinesconnection.com
SUMMARY:“Dougnad” Community Clean Up
DESCRIPTION: 
URL:https://www.castlepinesconnection.com/event/dougnad-community-clean-up/
LOCATION:Multiple locations in Douglas County
CATEGORIES:CO,Douglas County,Family event,Nature,Volunteer
ATTACH;FMTTYPE=image/png:https://www.castlepinesconnection.com/wp-content/uploads/2019/12/Douglas20County20Logo-1.png
END:VEVENT
BEGIN:VEVENT
DTSTART;TZID=America/Denver:20240928T103000
DTEND;TZID=America/Denver:20240928T233000
DTSTAMP:20260425T055752
CREATED:20240826T170736Z
LAST-MODIFIED:20240826T170736Z
UID:10007438-1727519400-1727566200@www.castlepinesconnection.com
SUMMARY:Walking Tour of Downtown Castle Rock
DESCRIPTION: 
URL:https://www.castlepinesconnection.com/event/walking-tour-of-downtown-castle-rock/
LOCATION:Courtyard on Perry\, 333 Perry St.\, Castle Rock\, CO\, 80104
CATEGORIES:CO,Castle Rock,Douglas County,Family event,History,Museum,Nature Walk
END:VEVENT
BEGIN:VEVENT
DTSTART;TZID=America/Denver:20240928T183000
DTEND;TZID=America/Denver:20240928T210000
DTSTAMP:20260425T055752
CREATED:20240826T171016Z
LAST-MODIFIED:20240826T171016Z
UID:10007439-1727548200-1727557200@www.castlepinesconnection.com
SUMMARY:Glow Dance Party
DESCRIPTION:
URL:https://www.castlepinesconnection.com/event/glow-dance-party-3/
LOCATION:Amphitheater at Philip S. Miller Park\, 1375 W. Plum Creek Parkway\, Castle Rock\, 80109
CATEGORIES:CO,Castle Rock,Charity Benefit,Dance,Douglas County,Fun,Fundraiser
END:VEVENT
BEGIN:VEVENT
DTSTART;TZID=America/Denver:20240929T130000
DTEND;TZID=America/Denver:20240929T180000
DTSTAMP:20260425T055752
CREATED:20240918T213105Z
LAST-MODIFIED:20240918T213105Z
UID:10007461-1727614800-1727632800@www.castlepinesconnection.com
SUMMARY:MHSA Film Festival
DESCRIPTION:
URL:https://www.castlepinesconnection.com/event/mhsa-film-festival/
LOCATION:The Bug Theatre\, 3654 Navajo Street\, Denver\, Colorado\, 80211
CATEGORIES:Art,CO,Charity Benefit,Denver,Educational,Fundraiser
ATTACH;FMTTYPE=image/png:https://www.castlepinesconnection.com/wp-content/uploads/2024/09/IMG_20240918_100953-e1726694931836.png
END:VEVENT
BEGIN:VEVENT
DTSTART;VALUE=DATE:20240930
DTEND;VALUE=DATE:20241001
DTSTAMP:20260425T055752
CREATED:20240826T171538Z
LAST-MODIFIED:20240826T171538Z
UID:10007441-1727654400-1727740799@www.castlepinesconnection.com
SUMMARY:FREE DAY Denver Museum of Nature and Science
DESCRIPTION: 
URL:https://www.castlepinesconnection.com/event/free-day-denver-museum-of-nature-and-science-5/
LOCATION:Denver Museum of Nature & Science\, 2001 Colorado Boulevard\, City Park\, Denver\, CO
CATEGORIES:CO,Denver,Educational,Free Day,Fun,Museum
END:VEVENT
BEGIN:VEVENT
DTSTART;TZID=America/Denver:20241001T090000
DTEND;TZID=America/Denver:20241001T090000
DTSTAMP:20260425T055752
CREATED:20240923T172023Z
LAST-MODIFIED:20240923T172023Z
UID:10007492-1727773200-1727773200@www.castlepinesconnection.com
SUMMARY:Come one Come ALL Ride
DESCRIPTION:Start at Gate 1 of the Village or Ziggi’s\, Castle Pines.
URL:https://www.castlepinesconnection.com/event/come-one-come-all-ride/2024-10-01/
LOCATION:Castle Pines
CATEGORIES:CO,Castle Pines,Cycling Club,Douglas County
ATTACH;FMTTYPE=image/jpeg:https://www.castlepinesconnection.com/wp-content/uploads/2016/06/villageIdiotsLogo-e1740431351786.jpg
END:VEVENT
END:VCALENDAR