BEGIN:VCALENDAR
VERSION:2.0
PRODID:-//The Castle Pines Connection - ECPv6.15.15//NONSGML v1.0//EN
CALSCALE:GREGORIAN
METHOD:PUBLISH
X-ORIGINAL-URL:https://www.castlepinesconnection.com
X-WR-CALDESC:Events for The Castle Pines Connection
REFRESH-INTERVAL;VALUE=DURATION:PT1H
X-Robots-Tag:noindex
X-PUBLISHED-TTL:PT1H
BEGIN:VTIMEZONE
TZID:America/Denver
BEGIN:DAYLIGHT
TZOFFSETFROM:-0700
TZOFFSETTO:-0600
TZNAME:MDT
DTSTART:20200308T090000
END:DAYLIGHT
BEGIN:STANDARD
TZOFFSETFROM:-0600
TZOFFSETTO:-0700
TZNAME:MST
DTSTART:20201101T080000
END:STANDARD
BEGIN:DAYLIGHT
TZOFFSETFROM:-0700
TZOFFSETTO:-0600
TZNAME:MDT
DTSTART:20210314T090000
END:DAYLIGHT
BEGIN:STANDARD
TZOFFSETFROM:-0600
TZOFFSETTO:-0700
TZNAME:MST
DTSTART:20211107T080000
END:STANDARD
BEGIN:DAYLIGHT
TZOFFSETFROM:-0700
TZOFFSETTO:-0600
TZNAME:MDT
DTSTART:20220313T090000
END:DAYLIGHT
BEGIN:STANDARD
TZOFFSETFROM:-0600
TZOFFSETTO:-0700
TZNAME:MST
DTSTART:20221106T080000
END:STANDARD
END:VTIMEZONE
BEGIN:VEVENT
DTSTART;VALUE=DATE:20211205
DTEND;VALUE=DATE:20211206
DTSTAMP:20260420T225303
CREATED:20211122T190925Z
LAST-MODIFIED:20211130T185711Z
UID:10003313-1638727200-1638739800@www.castlepinesconnection.com
SUMMARY:“Light” Christmas at Cherry Hills Community Church
DESCRIPTION:Reservations required\nONE RESERVATION NEEDED PER VEHICLE \nGroup A – 6:00 p.m. – 7:30 p.m. \nGroup B – 7:30 p.m. – 8:30 p.m. \nGroup C – 8:30 p.m. – 9:30 p.m.
URL:https://www.castlepinesconnection.com/event/light-christmas-at-cherry-hills-community-church/2021-12-05/
LOCATION:Cherry Hills Community Church\, 3900 Grace Blvd\, Highlands Ranch\, CO\, 80126
ATTACH;FMTTYPE=image/jpeg:https://www.castlepinesconnection.com/wp-content/uploads/2021/11/CherryCreekComChurchLights.jpg
END:VEVENT
BEGIN:VEVENT
DTSTART;TZID=America/Denver:20211205T163000
DTEND;TZID=America/Denver:20211205T171500
DTSTAMP:20260420T225303
CREATED:20201008T220853Z
LAST-MODIFIED:20201008T220956Z
UID:10000824-1638721800-1638724500@www.castlepinesconnection.com
SUMMARY:Tour of Cedar Hill Cemetery
DESCRIPTION:4:30 p.m. – 5:15 p.m.\n880 East Wolfensberger Road\, Castle Rock\nReservations: 303-814-3164 or museum@castlerockhistoricalsociety.org
URL:https://www.castlepinesconnection.com/event/tour-of-cedar-hill-cemetery/2021-12-05/
LOCATION:Cedar Hill Cemetery\, 880 East Wolfensberger Road\, Castle Rock\, CO\, 80104
ATTACH;FMTTYPE=image/png:https://www.castlepinesconnection.com/wp-content/uploads/2020/10/CR-GHOSTLYTROUR.png
END:VEVENT
BEGIN:VEVENT
DTSTART;TZID=America/Denver:20211205T080000
DTEND;TZID=America/Denver:20211205T120000
DTSTAMP:20260420T225303
CREATED:20211122T202732Z
LAST-MODIFIED:20211122T202732Z
UID:10003338-1638691200-1638705600@www.castlepinesconnection.com
SUMMARY:Rudolph Ramble 5K
DESCRIPTION:
URL:https://www.castlepinesconnection.com/event/rudolph-ramble-5k-2/
LOCATION:Denver City Park\, 2001 Colorado Blvd\, Denver\, Colorado\, 80205
ATTACH;FMTTYPE=image/jpeg:https://www.castlepinesconnection.com/wp-content/uploads/2020/11/Rudolphramble.jpg
END:VEVENT
BEGIN:VEVENT
DTSTART;TZID=America/Denver:20211204T180000
DTEND;TZID=America/Denver:20211204T220000
DTSTAMP:20260420T225303
CREATED:20211031T211716Z
LAST-MODIFIED:20211031T211734Z
UID:10003295-1638640800-1638655200@www.castlepinesconnection.com
SUMMARY:9NEWS Parade of Lights Downtown Denver
DESCRIPTION:
URL:https://www.castlepinesconnection.com/event/9news-parade-of-lights-downtown-denver/
LOCATION:Co
ATTACH;FMTTYPE=image/jpeg:https://www.castlepinesconnection.com/wp-content/uploads/2021/10/ParadeofLights.jpg
END:VEVENT
BEGIN:VEVENT
DTSTART;TZID=America/Denver:20211204T180000
DTEND;TZID=America/Denver:20211204T200000
DTSTAMP:20260420T225303
CREATED:20211122T202340Z
LAST-MODIFIED:20211122T202340Z
UID:10003336-1638640800-1638648000@www.castlepinesconnection.com
SUMMARY:9News Parade of Lights
DESCRIPTION:Downtown Denver and televised live 6 p.m – 8 p.m. on 9NEWS KUSA-TV\, Channel 9
URL:https://www.castlepinesconnection.com/event/9news-parade-of-lights/
LOCATION:Co
ATTACH;FMTTYPE=image/jpeg:https://www.castlepinesconnection.com/wp-content/uploads/2021/11/ParadeOfLights2021.jpg
END:VEVENT
BEGIN:VEVENT
DTSTART;TZID=America/Denver:20211204T160000
DTEND;TZID=America/Denver:20211204T180000
DTSTAMP:20260420T225303
CREATED:20211122T192134Z
LAST-MODIFIED:20211122T192134Z
UID:10003335-1638633600-1638640800@www.castlepinesconnection.com
SUMMARY:Sounds of the Season with the Parker Symphony Orchestra and Parker Chorale
DESCRIPTION:
URL:https://www.castlepinesconnection.com/event/sounds-of-the-season-with-the-parker-symphony-orchestra-and-parker-chorale/
LOCATION:PACE Center\, 20000 Pikes Peak Avenue\, Parker\, CO\, 80138
ATTACH;FMTTYPE=image/png:https://www.castlepinesconnection.com/wp-content/uploads/2020/01/ParkerArtsWithPaceSchoolhouse-e1729867324979.png
END:VEVENT
BEGIN:VEVENT
DTSTART;TZID=America/Denver:20211204T110000
DTEND;TZID=America/Denver:20211204T170000
DTSTAMP:20260420T225303
CREATED:20211122T202535Z
LAST-MODIFIED:20211122T202601Z
UID:10003337-1638615600-1638637200@www.castlepinesconnection.com
SUMMARY:Austrian Christmas & Christkindl Market
DESCRIPTION:
URL:https://www.castlepinesconnection.com/event/austrian-christmas-christkindl-market/
LOCATION:Schweiger Ranch\, 10822 S. Havana\, Lone Tree\, CO\, 80134
ATTACH;FMTTYPE=image/png:https://www.castlepinesconnection.com/wp-content/uploads/2021/09/SchweigerRanchLogo-e1718998935181.png
END:VEVENT
BEGIN:VEVENT
DTSTART;TZID=America/Denver:20211204T110000
DTEND;TZID=America/Denver:20211204T130000
DTSTAMP:20260420T225303
CREATED:20211031T195606Z
LAST-MODIFIED:20211101T171633Z
UID:10003293-1638615600-1638622800@www.castlepinesconnection.com
SUMMARY:Santa in the Pines
DESCRIPTION:LIVSothebys Realty
URL:https://www.castlepinesconnection.com/event/santa-in-the-pines/
LOCATION:The Village at Castle Pines\, 858 West Happy Canyon Road\, Castle Pines\, United States
ATTACH;FMTTYPE=image/png:https://www.castlepinesconnection.com/wp-content/uploads/2021/10/santa.png
END:VEVENT
BEGIN:VEVENT
DTSTART;TZID=America/Denver:20211204T083000
DTEND;TZID=America/Denver:20211204T100000
DTSTAMP:20260420T225303
CREATED:20211112T214040Z
LAST-MODIFIED:20211112T214040Z
UID:10003298-1638606600-1638612000@www.castlepinesconnection.com
SUMMARY:Gingerbread Decorating Party
DESCRIPTION:
URL:https://www.castlepinesconnection.com/event/gingerbread-decorating-party/2021-12-04/
LOCATION:Park Meadows Retail Resort\, 8401 Park Meadows Center Dr\, Lone Tree\, CO\, 80124\, United States
END:VEVENT
BEGIN:VEVENT
DTSTART;TZID=America/Denver:20211203T170000
DTEND;TZID=America/Denver:20211203T190000
DTSTAMP:20260420T225303
CREATED:20211122T184452Z
LAST-MODIFIED:20211122T184452Z
UID:10003300-1638550800-1638558000@www.castlepinesconnection.com
SUMMARY:Castle Pines Christmas Tree Lighting
DESCRIPTION:
URL:https://www.castlepinesconnection.com/event/castle-pines-christmas-tree-lighting/
LOCATION:The Ridge at Castle Pines\, 1414 Castle Pines Pkwy\, Castle Pines\, CO\, 80108
ATTACH;FMTTYPE=image/jpeg:https://www.castlepinesconnection.com/wp-content/uploads/2020/12/CityOfCPTreeslogo.jpg
END:VEVENT
BEGIN:VEVENT
DTSTART;VALUE=DATE:20211203
DTEND;VALUE=DATE:20211204
DTSTAMP:20260420T225303
CREATED:20211122T191756Z
LAST-MODIFIED:20211122T191912Z
UID:10003334-1638489600-1638575999@www.castlepinesconnection.com
SUMMARY:Festival Park Starlight Market
DESCRIPTION:Times vary
URL:https://www.castlepinesconnection.com/event/festival-park-starlight-market-2/
LOCATION:Festival Park\, 300 2nd St\,\, Castle Rock\, CO\, 80104
ATTACH;FMTTYPE=image/jpeg:https://www.castlepinesconnection.com/wp-content/uploads/2021/09/ChristmastreeGraphic.jpg
END:VEVENT
BEGIN:VEVENT
DTSTART;VALUE=DATE:20211202
DTEND;VALUE=DATE:20211206
DTSTAMP:20260420T225303
CREATED:20211122T210624Z
LAST-MODIFIED:20211122T210624Z
UID:10003350-1638403200-1638748799@www.castlepinesconnection.com
SUMMARY:Disney on Ice presents Dream Big
DESCRIPTION:Times vary
URL:https://www.castlepinesconnection.com/event/disney-on-ice-presents-dream-big/
LOCATION:Ball Arena\, 1000 Chopper Circle\, Denver\, Denver\, 80204
ATTACH;FMTTYPE=image/jpeg:https://www.castlepinesconnection.com/wp-content/uploads/2021/11/Disney-on-Ice.jpg
END:VEVENT
BEGIN:VEVENT
DTSTART;TZID=America/Denver:20211201T193000
DTEND;TZID=America/Denver:20211201T213000
DTSTAMP:20260420T225303
CREATED:20211122T191248Z
LAST-MODIFIED:20211122T191248Z
UID:10003332-1638387000-1638394200@www.castlepinesconnection.com
SUMMARY:We Banjo 3: A Winter Wonderful
DESCRIPTION:
URL:https://www.castlepinesconnection.com/event/we-banjo-3-a-winter-wonderful/
LOCATION:Lone Tree Arts Center\, 10075 Commons St\, Lone Tree\, CO\, 80124\, United States
ATTACH;FMTTYPE=image/png:https://www.castlepinesconnection.com/wp-content/uploads/2020/01/LoneTreeArtsLogo-e1740432031224.png
END:VEVENT
BEGIN:VEVENT
DTSTART;TZID=America/Denver:20211130T193000
DTEND;TZID=America/Denver:20211130T213000
DTSTAMP:20260420T225303
CREATED:20211031T194447Z
LAST-MODIFIED:20211031T194454Z
UID:10003291-1638300600-1638307800@www.castlepinesconnection.com
SUMMARY:Fiestas Navideñas
DESCRIPTION:
URL:https://www.castlepinesconnection.com/event/fiestas-navidenas/
LOCATION:University of Denver June Swaner Gates Concert Hall\, 2344 East Iliff Avenue\, Denver\, CO\, 80208
ATTACH;FMTTYPE=image/png:https://www.castlepinesconnection.com/wp-content/uploads/2020/01/NewmanCenterLogo-e1643045930779.png
END:VEVENT
BEGIN:VEVENT
DTSTART;TZID=America/Denver:20211130T183000
DTEND;TZID=America/Denver:20211130T200000
DTSTAMP:20260420T225303
CREATED:20211031T194052Z
LAST-MODIFIED:20211031T194052Z
UID:10003290-1638297000-1638302400@www.castlepinesconnection.com
SUMMARY:Book Lovers
DESCRIPTION:
URL:https://www.castlepinesconnection.com/event/book-lovers/
LOCATION:Douglas County Libraries – Castle Pines\, 360 Village Squart Lane\, Castle Pines\, CO\, 80108
ATTACH;FMTTYPE=image/jpeg:https://www.castlepinesconnection.com/wp-content/uploads/2020/12/dclibrariesLogoBoxedforWeb-e1701117552989.jpg
END:VEVENT
BEGIN:VEVENT
DTSTART;TZID=America/Denver:20211128T190000
DTEND;TZID=America/Denver:20211128T210000
DTSTAMP:20260420T225303
CREATED:20211030T222939Z
LAST-MODIFIED:20211030T222939Z
UID:10003224-1638126000-1638133200@www.castlepinesconnection.com
SUMMARY:A FACE Christmas
DESCRIPTION:
URL:https://www.castlepinesconnection.com/event/a-face-christmas/
LOCATION:Lone Tree Arts Center\, 10075 Commons St\, Lone Tree\, CO\, 80124\, United States
ATTACH;FMTTYPE=image/jpeg:https://www.castlepinesconnection.com/wp-content/uploads/2021/06/LoneTreeArtsCenterlogoWEB-e1732315676117.jpg
END:VEVENT
BEGIN:VEVENT
DTSTART;TZID=America/Denver:20211128T180000
DTEND;TZID=America/Denver:20211128T200000
DTSTAMP:20260420T225303
CREATED:20211030T223603Z
LAST-MODIFIED:20211030T223603Z
UID:10003227-1638122400-1638129600@www.castlepinesconnection.com
SUMMARY:Swing Into Christmas with the Beverly Belles
DESCRIPTION:
URL:https://www.castlepinesconnection.com/event/swing-into-christmas-with-the-beverly-belles/2021-11-28/2/
LOCATION:Co
ATTACH;FMTTYPE=image/png:https://www.castlepinesconnection.com/wp-content/uploads/2020/01/ParkerArtsWithPaceSchoolhouse-e1729867324979.png
END:VEVENT
BEGIN:VEVENT
DTSTART;TZID=America/Denver:20211128T160000
DTEND;TZID=America/Denver:20211128T170000
DTSTAMP:20260420T225303
CREATED:20211030T223310Z
LAST-MODIFIED:20211030T223327Z
UID:10003225-1638115200-1638118800@www.castlepinesconnection.com
SUMMARY:A FACE Christmas - Sensory Friendly
DESCRIPTION:
URL:https://www.castlepinesconnection.com/event/a-face-christmas-sensory-friendly/
LOCATION:Lone Tree Arts Center\, 10075 Commons St\, Lone Tree\, CO\, 80124\, United States
ATTACH;FMTTYPE=image/jpeg:https://www.castlepinesconnection.com/wp-content/uploads/2021/06/LoneTreeArtsCenterlogoWEB-e1732315676117.jpg
END:VEVENT
BEGIN:VEVENT
DTSTART;VALUE=DATE:20211128
DTEND;VALUE=DATE:20211130
DTSTAMP:20260420T225303
CREATED:20211031T193845Z
LAST-MODIFIED:20211031T193908Z
UID:10003289-1638057600-1638230399@www.castlepinesconnection.com
SUMMARY:2021 Estes Park Holiday Wine Festival
DESCRIPTION:
URL:https://www.castlepinesconnection.com/event/2021-estes-park-holiday-wine-festival/2021-11-28/
LOCATION:Estes Park Events Complex\, 1125 Rooftop Way\, Estes Park\, CO\, 80517
ATTACH;FMTTYPE=image/jpeg:https://www.castlepinesconnection.com/wp-content/uploads/2021/01/28-cc-Red-wine-pour-copy.jpg
END:VEVENT
BEGIN:VEVENT
DTSTART;TZID=America/Denver:20211127T193000
DTEND;TZID=America/Denver:20211127T213000
DTSTAMP:20260420T225303
CREATED:20211031T193616Z
LAST-MODIFIED:20211031T193713Z
UID:10003287-1638041400-1638048600@www.castlepinesconnection.com
SUMMARY:At Last – A Tribute to Etta James
DESCRIPTION:
URL:https://www.castlepinesconnection.com/event/at-last-a-tribute-to-etta-james/
LOCATION:Boettcher Concert Hall\, 1000 14th St\,\, CO\, Denver\, CO\, 80202\, United States
ATTACH;FMTTYPE=image/jpeg:https://www.castlepinesconnection.com/wp-content/uploads/2019/12/Colorado_Symphony_Logo.jpg
END:VEVENT
BEGIN:VEVENT
DTSTART;VALUE=DATE:20211127
DTEND;VALUE=DATE:20211128
DTSTAMP:20260420T225303
CREATED:20211030T213504Z
LAST-MODIFIED:20211030T213504Z
UID:10003200-1637971200-1638057599@www.castlepinesconnection.com
SUMMARY:Christmas in Killarney
DESCRIPTION:Shows at 2 p.m. and 7:30 p.m.
URL:https://www.castlepinesconnection.com/event/christmas-in-killarney/
LOCATION:PACE Center\, 20000 Pikes Peak Avenue\, Parker\, CO\, 80138
ATTACH;FMTTYPE=image/png:https://www.castlepinesconnection.com/wp-content/uploads/2020/01/ParkerArtsWithPaceSchoolhouse-e1729867324979.png
END:VEVENT
BEGIN:VEVENT
DTSTART;TZID=America/Denver:20211126T160000
DTEND;TZID=America/Denver:20211126T193000
DTSTAMP:20260420T225303
CREATED:20211031T172813Z
LAST-MODIFIED:20211031T172813Z
UID:10003277-1637942400-1637955000@www.castlepinesconnection.com
SUMMARY:Holidays with the Colorado Jazz Repertory Orchestra
DESCRIPTION:
URL:https://www.castlepinesconnection.com/event/holidays-with-the-colorado-jazz-repertory-orchestra/
LOCATION:PACE Center\, 20000 Pikes Peak Avenue\, Parker\, CO\, 80138
ATTACH;FMTTYPE=image/png:https://www.castlepinesconnection.com/wp-content/uploads/2020/01/ParkerArtsWithPaceSchoolhouse-e1729867324979.png
END:VEVENT
BEGIN:VEVENT
DTSTART;TZID=America/Denver:20211125T073000
DTEND;TZID=America/Denver:20211125T110000
DTSTAMP:20260420T225303
CREATED:20211030T213108Z
LAST-MODIFIED:20211030T213156Z
UID:10003199-1637825400-1637838000@www.castlepinesconnection.com
SUMMARY:17th Annual Turkey ROCK Trot Family Friendly 5K Fun Run/Walk/Stroll
DESCRIPTION:
URL:https://www.castlepinesconnection.com/event/17th-annual-turkey-rock-trot-family-friendly-5k-fun-run-walk-stroll/
LOCATION:Douglas County Fairgrounds & Event Center\, 500 Fairgrounds Road\, Castle Rock\, CO\, 80104\, United States
ATTACH;FMTTYPE=image/jpeg:https://www.castlepinesconnection.com/wp-content/uploads/2021/10/TurkeyRockTrot-e1635629457712.jpg
END:VEVENT
BEGIN:VEVENT
DTSTART;TZID=America/Denver:20211124T190000
DTEND;TZID=America/Denver:20211124T210000
DTSTAMP:20260420T225303
CREATED:20211031T172453Z
LAST-MODIFIED:20211031T172540Z
UID:10003276-1637780400-1637787600@www.castlepinesconnection.com
SUMMARY:Cirque Musica Holiday Spectacular
DESCRIPTION:
URL:https://www.castlepinesconnection.com/event/cirque-musica-holiday-spectacular/
LOCATION:Paramount Theatre\, 1621 Glenarm Pl\, Denver\, 80202\, United States
ATTACH;FMTTYPE=image/jpeg:https://www.castlepinesconnection.com/wp-content/uploads/2019/12/paramounttheatre-logo.jpg
END:VEVENT
BEGIN:VEVENT
DTSTART;VALUE=DATE:20211121
DTEND;VALUE=DATE:20211124
DTSTAMP:20260420T225303
CREATED:20211031T170912Z
LAST-MODIFIED:20211031T171008Z
UID:10003274-1637452800-1637711999@www.castlepinesconnection.com
SUMMARY:Holiday Food & Gift Festival
DESCRIPTION:
URL:https://www.castlepinesconnection.com/event/holiday-food-gift-festival-2/2021-11-21/
LOCATION:National Western Complex\, 4655 Humboldt Street\, Denver\, Colorado
END:VEVENT
BEGIN:VEVENT
DTSTART;TZID=America/Denver:20211120T200000
DTEND;TZID=America/Denver:20211120T220000
DTSTAMP:20260420T225303
CREATED:20211030T224912Z
LAST-MODIFIED:20211030T224912Z
UID:10003230-1637438400-1637445600@www.castlepinesconnection.com
SUMMARY:Trans-Siberian Orchestra – Christmas Eve & Other Stories
DESCRIPTION:
URL:https://www.castlepinesconnection.com/event/trans-siberian-orchestra-christmas-eve-other-stories-2/
LOCATION:Co
ATTACH;FMTTYPE=image/png:https://www.castlepinesconnection.com/wp-content/uploads/2021/10/BallArena.png
END:VEVENT
BEGIN:VEVENT
DTSTART;TZID=America/Denver:20211120T150000
DTEND;TZID=America/Denver:20211120T170000
DTSTAMP:20260420T225303
CREATED:20211030T224445Z
LAST-MODIFIED:20211030T224717Z
UID:10003229-1637420400-1637427600@www.castlepinesconnection.com
SUMMARY:Trans-Siberian Orchestra – Christmas Eve & Other Stories
DESCRIPTION:
URL:https://www.castlepinesconnection.com/event/trans-siberian-orchestra-christmas-eve-other-stories/
LOCATION:Ball Arena\, 1000 Chopper Circle\, Denver\, Denver\, 80204
ATTACH;FMTTYPE=image/png:https://www.castlepinesconnection.com/wp-content/uploads/2021/10/BallArena.png
END:VEVENT
BEGIN:VEVENT
DTSTART;TZID=America/Denver:20211120T140000
DTEND;TZID=America/Denver:20211120T180000
DTSTAMP:20260420T225303
CREATED:20211030T210348Z
LAST-MODIFIED:20211030T210348Z
UID:10003145-1637416800-1637431200@www.castlepinesconnection.com
SUMMARY:Castle Rock Starlighting
DESCRIPTION:
URL:https://www.castlepinesconnection.com/event/castle-rock-starlighting-2/
LOCATION:Downtown Castle Rock\, Castle Rock\, CO
ATTACH;FMTTYPE=image/jpeg:https://www.castlepinesconnection.com/wp-content/uploads/2010/11/CR_StarLighting_Nov_2005_22-1.jpg
END:VEVENT
BEGIN:VEVENT
DTSTART;TZID=America/Denver:20211120T100000
DTEND;TZID=America/Denver:20211120T120000
DTSTAMP:20260420T225303
CREATED:20211030T223912Z
LAST-MODIFIED:20211030T223928Z
UID:10003228-1637402400-1637409600@www.castlepinesconnection.com
SUMMARY:Using Multiple DNA Sites to Investigate a Hidden Ancestral Line
DESCRIPTION:Castle Rock Colorado Genealogical Society Zoom Webinar\n 
URL:https://www.castlepinesconnection.com/event/using-multiple-dna-sites-to-investigate-a-hidden-ancestral-line/
LOCATION:Co
ATTACH;FMTTYPE=image/jpeg:https://www.castlepinesconnection.com/wp-content/uploads/2021/09/CRcGsBanner.jpg
END:VEVENT
BEGIN:VEVENT
DTSTART;TZID=America/Denver:20211120T080000
DTEND;TZID=America/Denver:20211120T100000
DTSTAMP:20260420T225303
CREATED:20211031T171835Z
LAST-MODIFIED:20211031T171942Z
UID:10003275-1637395200-1637402400@www.castlepinesconnection.com
SUMMARY:Guided Bird Walk
DESCRIPTION:
URL:https://www.castlepinesconnection.com/event/guided-bird-walk-2/
LOCATION:Hudson Gardens\, 6115 South Santa Fe Drive\, Littleton\, CO\, United States
ATTACH;FMTTYPE=image/jpeg:https://www.castlepinesconnection.com/wp-content/uploads/2019/12/H-HudsonGardens-e1735235606410.jpg
END:VEVENT
END:VCALENDAR