BEGIN:VCALENDAR
VERSION:2.0
PRODID:-//The Castle Pines Connection - ECPv6.15.15//NONSGML v1.0//EN
CALSCALE:GREGORIAN
METHOD:PUBLISH
X-ORIGINAL-URL:https://www.castlepinesconnection.com
X-WR-CALDESC:Events for The Castle Pines Connection
REFRESH-INTERVAL;VALUE=DURATION:PT1H
X-Robots-Tag:noindex
X-PUBLISHED-TTL:PT1H
BEGIN:VTIMEZONE
TZID:America/Denver
BEGIN:DAYLIGHT
TZOFFSETFROM:-0700
TZOFFSETTO:-0600
TZNAME:MDT
DTSTART:20230312T090000
END:DAYLIGHT
BEGIN:STANDARD
TZOFFSETFROM:-0600
TZOFFSETTO:-0700
TZNAME:MST
DTSTART:20231105T080000
END:STANDARD
BEGIN:DAYLIGHT
TZOFFSETFROM:-0700
TZOFFSETTO:-0600
TZNAME:MDT
DTSTART:20240310T090000
END:DAYLIGHT
BEGIN:STANDARD
TZOFFSETFROM:-0600
TZOFFSETTO:-0700
TZNAME:MST
DTSTART:20241103T080000
END:STANDARD
BEGIN:DAYLIGHT
TZOFFSETFROM:-0700
TZOFFSETTO:-0600
TZNAME:MDT
DTSTART:20250309T090000
END:DAYLIGHT
BEGIN:STANDARD
TZOFFSETFROM:-0600
TZOFFSETTO:-0700
TZNAME:MST
DTSTART:20251102T080000
END:STANDARD
END:VTIMEZONE
BEGIN:VEVENT
DTSTART;TZID=America/Denver:20240905T163000
DTEND;TZID=America/Denver:20240905T171500
DTSTAMP:20260425T055839
CREATED:20201008T220853Z
LAST-MODIFIED:20201008T220956Z
UID:10001829-1725553800-1725556500@www.castlepinesconnection.com
SUMMARY:Tour of Cedar Hill Cemetery
DESCRIPTION:4:30 p.m. – 5:15 p.m.\n880 East Wolfensberger Road\, Castle Rock\nReservations: 303-814-3164 or museum@castlerockhistoricalsociety.org
URL:https://www.castlepinesconnection.com/event/tour-of-cedar-hill-cemetery/2024-09-05/
LOCATION:Cedar Hill Cemetery\, 880 East Wolfensberger Road\, Castle Rock\, CO\, 80104
ATTACH;FMTTYPE=image/png:https://www.castlepinesconnection.com/wp-content/uploads/2020/10/CR-GHOSTLYTROUR.png
END:VEVENT
BEGIN:VEVENT
DTSTART;TZID=America/Denver:20240905T110000
DTEND;TZID=America/Denver:20240905T190000
DTSTAMP:20260425T055839
CREATED:20220318T191227Z
LAST-MODIFIED:20220330T171310Z
UID:10004572-1725534000-1725562800@www.castlepinesconnection.com
SUMMARY:Easter Bunny photos Park Meadows Mall
DESCRIPTION:Hop\, Hop\, Hooray!\nDillard’s Court at Park Meadows\nMonday through Saturday:  11 a.m. – 7 p.m\nSundays:  12 p.m. – 6 p.m.\nPet Nights – March 21\, March 28\, and April 4\,  5 p.m. – 7.p.m.
URL:https://www.castlepinesconnection.com/event/easter-bunny-photos-park-meadows-mall/2024-09-05/
LOCATION:Park Meadows Retail Resort\, 8401 Park Meadows Center Dr\, Lone Tree\, CO\, 80124\, United States
CATEGORIES:Charity Benefit,Easter
ATTACH;FMTTYPE=image/png:https://www.castlepinesconnection.com/wp-content/uploads/2022/03/bunny-photos.png
END:VEVENT
BEGIN:VEVENT
DTSTART;TZID=America/Denver:20240905T100000
DTEND;TZID=America/Denver:20240905T100000
DTSTAMP:20260425T055839
CREATED:20240823T011104Z
LAST-MODIFIED:20240823T011104Z
UID:10007405-1725530400-1725530400@www.castlepinesconnection.com
SUMMARY:Seniors’ Council Monthly Meetings - Vaccine Recommendations
DESCRIPTION:
URL:https://www.castlepinesconnection.com/event/seniors-council-monthly-meetings-vaccine-recommendations/
LOCATION:Douglas County Libraries – Castle Pines\, 360 Village Squart Lane\, Castle Pines\, CO\, 80108
CATEGORIES:CO,Castle Pines,Douglas County,Educational,Lecture,Senior
END:VEVENT
BEGIN:VEVENT
DTSTART;TZID=America/Denver:20240904T183000
DTEND;TZID=America/Denver:20240904T183000
DTSTAMP:20260425T055839
CREATED:20240823T010718Z
LAST-MODIFIED:20240823T010718Z
UID:10007404-1725474600-1725474600@www.castlepinesconnection.com
SUMMARY:Parker Arts Lecture: How AI is Changing Medicine and Ourselves
DESCRIPTION: 
URL:https://www.castlepinesconnection.com/event/parker-arts-lecture-how-ai-is-changing-medicine-and-ourselves/
LOCATION:The Schoolhouse Parker\, 19650 E. MAINSTREET\, Parker\, Colorado\, 80138
CATEGORIES:CO,Douglas County,Educational,Lecture,Parker,Performing Arts
ATTACH;FMTTYPE=image/jpeg:https://www.castlepinesconnection.com/wp-content/uploads/2024/03/30-parkerarts-e1724375089492.jpg
END:VEVENT
BEGIN:VEVENT
DTSTART;TZID=America/Denver:20240903T080000
DTEND;TZID=America/Denver:20240903T110000
DTSTAMP:20260425T055839
CREATED:20231227T192817Z
LAST-MODIFIED:20231227T192817Z
UID:10006822-1725350400-1725361200@www.castlepinesconnection.com
SUMMARY:Coffee Chat Tuesday
DESCRIPTION:
URL:https://www.castlepinesconnection.com/event/coffee-chat-tuesday-2/2024-09-03/
LOCATION:Douglas County Libraries – Castle Pines\, 360 Village Squart Lane\, Castle Pines\, CO\, 80108
CATEGORIES:Book Club,CO,Castle Pines,Douglas County
ATTACH;FMTTYPE=image/jpeg:https://www.castlepinesconnection.com/wp-content/uploads/2020/01/DouglasCountyLibrarieslogo-e1735239504162.jpg
END:VEVENT
BEGIN:VEVENT
DTSTART;TZID=America/Denver:20240902T070000
DTEND;TZID=America/Denver:20240902T070000
DTSTAMP:20260425T055839
CREATED:20240823T010208Z
LAST-MODIFIED:20240823T010208Z
UID:10007403-1725260400-1725260400@www.castlepinesconnection.com
SUMMARY:Labor Day Half Marathon
DESCRIPTION:
URL:https://www.castlepinesconnection.com/event/labor-day-half-marathon/
LOCATION:Salisbury Equestrian Park\, 11920 N. Motsenbocker Road\, Parker\, CO\, 80134
CATEGORIES:CO,Douglas County,Parker,Run,Running
END:VEVENT
BEGIN:VEVENT
DTSTART;TZID=America/Denver:20240901T140000
DTEND;TZID=America/Denver:20240901T160000
DTSTAMP:20260425T055839
CREATED:20241029T211752Z
LAST-MODIFIED:20241029T211752Z
UID:10005461-1725199200-1725206400@www.castlepinesconnection.com
SUMMARY:My Fair Lady
DESCRIPTION:
URL:https://www.castlepinesconnection.com/event/my-fair-lady/2024-09-01/
LOCATION:CO
ATTACH;FMTTYPE=image/jpeg:https://www.castlepinesconnection.com/wp-content/uploads/2020/01/DCPA-logo.jpg
END:VEVENT
BEGIN:VEVENT
DTSTART;TZID=America/Denver:20240901T100000
DTEND;TZID=America/Denver:20240901T140000
DTSTAMP:20260425T055839
CREATED:20240325T143113Z
LAST-MODIFIED:20240325T143113Z
UID:10006997-1725184800-1725199200@www.castlepinesconnection.com
SUMMARY:Highlands Ranch Farmers Market
DESCRIPTION:Every Sunday through October 27.
URL:https://www.castlepinesconnection.com/event/highlands-ranch-farmers-market/2024-09-01/
LOCATION:Highlands Ranch Town Center South\, 9352 Dorchester St\, Highlands Ranch\, Colorado\, 80129
CATEGORIES:CO,Douglas County,Fair,Family event,Farmer's Market,Food & Tasting,Fun,Highlands Ranch
END:VEVENT
BEGIN:VEVENT
DTSTART;TZID=America/Denver:20240901T090000
DTEND;TZID=America/Denver:20240901T140000
DTSTAMP:20260425T055839
CREATED:20240425T154644Z
LAST-MODIFIED:20240425T154644Z
UID:10007136-1725181200-1725199200@www.castlepinesconnection.com
SUMMARY:Festival Park Farmers Market
DESCRIPTION:
URL:https://www.castlepinesconnection.com/event/festival-park-farmers-market-3/2024-09-01/
LOCATION:Festival Park\, 300 2nd St\,\, Castle Rock\, CO\, 80104
CATEGORIES:CO,Castle Rock,Douglas County,Family event,Food & Tasting,Fun,Outdoors,Street Party
END:VEVENT
BEGIN:VEVENT
DTSTART;TZID=America/Denver:20240901T080000
DTEND;TZID=America/Denver:20240901T130000
DTSTAMP:20260425T055839
CREATED:20240424T212641Z
LAST-MODIFIED:20240424T212641Z
UID:10007088-1725177600-1725195600@www.castlepinesconnection.com
SUMMARY:Parker Farmers Market
DESCRIPTION:
URL:https://www.castlepinesconnection.com/event/parker-farmers-market-3/2024-09-01/
LOCATION:Downtown Parker on Mainstreet\, Parker\, Colorado\, 80138
CATEGORIES:CO,Douglas County,Family event,Farmer's Market,Food & Tasting,Fun
END:VEVENT
BEGIN:VEVENT
DTSTART;TZID=America/Denver:20240831T080000
DTEND;TZID=America/Denver:20240831T120000
DTSTAMP:20260425T055839
CREATED:20240528T031852Z
LAST-MODIFIED:20240528T031852Z
UID:10007254-1725091200-1725105600@www.castlepinesconnection.com
SUMMARY:Castle Rock Farmers Market
DESCRIPTION:
URL:https://www.castlepinesconnection.com/event/castle-rock-farmers-market-3/2024-08-31/
LOCATION:Douglas County Events Center\, 500 Fairgrounds Drive\, Castle Rock\, CO\, United States
CATEGORIES:CO,Castle Rock,Douglas County,Family event,Farmer's Market,Food & Tasting,Fun
END:VEVENT
BEGIN:VEVENT
DTSTART;TZID=America/Denver:20240830T180000
DTEND;TZID=America/Denver:20240830T180000
DTSTAMP:20260425T055839
CREATED:20240723T205234Z
LAST-MODIFIED:20240723T205234Z
UID:10007399-1725040800-1725040800@www.castlepinesconnection.com
SUMMARY:Groove ‘N Motion
DESCRIPTION:
URL:https://www.castlepinesconnection.com/event/groove-n-motion/
LOCATION:Cherokee Ranch & Castle\, 6113 N Daniels Park Rd\, Sedalia\, CO\, 80135\, United States
CATEGORIES:CO,Castle Pines,Concert,Live Music,concert
ATTACH;FMTTYPE=image/png:https://www.castlepinesconnection.com/wp-content/uploads/2022/05/CherokeeRanchCastleGreenLogo-e1703626279141.png
END:VEVENT
BEGIN:VEVENT
DTSTART;TZID=America/Denver:20240829T203000
DTEND;TZID=America/Denver:20240829T203000
DTSTAMP:20260425T055839
CREATED:20240723T204713Z
LAST-MODIFIED:20240723T204713Z
UID:10007397-1724963400-1724963400@www.castlepinesconnection.com
SUMMARY:Raise the Ruff - Rick Springfield
DESCRIPTION:
URL:https://www.castlepinesconnection.com/event/raise-the-ruff-rick-springfield/
LOCATION:The Mission Ballroom\, 4242 Wynkoop St\, Denver\, CO\, 80216
CATEGORIES:CO,Charity Benefit,Concert,Denver,Live Music,Shows,Singer,concert
ATTACH;FMTTYPE=image/png:https://www.castlepinesconnection.com/wp-content/uploads/2024/07/PSDS_FINAL_NEW_LOGO_RGB_SM-e1721767546265.png
END:VEVENT
BEGIN:VEVENT
DTSTART;TZID=America/Denver:20240829T160000
DTEND;TZID=America/Denver:20240829T180000
DTSTAMP:20260425T055839
CREATED:20240723T205028Z
LAST-MODIFIED:20240723T205028Z
UID:10007398-1724947200-1724954400@www.castlepinesconnection.com
SUMMARY:Ribbon Cutting - The Reserve at Lone Tree
DESCRIPTION:
URL:https://www.castlepinesconnection.com/event/ribbon-cutting-the-reserve-at-lone-tree/
LOCATION:The Reserve at Lone Tree\, 11010 High Note Ave.\, Lone Tree\, CO\, 80134
CATEGORIES:CO,Douglas County,Lone Tree,Senior
END:VEVENT
BEGIN:VEVENT
DTSTART;TZID=America/Denver:20240828T183000
DTEND;TZID=America/Denver:20240828T200000
DTSTAMP:20260425T055839
CREATED:20240527T033208Z
LAST-MODIFIED:20240527T033208Z
UID:10007216-1724869800-1724875200@www.castlepinesconnection.com
SUMMARY:Music in the Park
DESCRIPTION:Every Wednesday at Festival Park.
URL:https://www.castlepinesconnection.com/event/music-in-the-park/2024-08-28/
LOCATION:Festival Park\, 300 2nd St\,\, Castle Rock\, CO\, 80104
CATEGORIES:CO,Castle Rock,Concert,Douglas County,Fun,Live Music,concert
END:VEVENT
BEGIN:VEVENT
DTSTART;TZID=America/Denver:20240828T130000
DTEND;TZID=America/Denver:20240828T143000
DTSTAMP:20260425T055839
CREATED:20240723T204319Z
LAST-MODIFIED:20240723T204319Z
UID:10007396-1724850000-1724855400@www.castlepinesconnection.com
SUMMARY:Castle Pines Daytime Book Club
DESCRIPTION:
URL:https://www.castlepinesconnection.com/event/castle-pines-daytime-book-club-8/
LOCATION:Douglas County Libraries – Castle Pines\, 360 Village Squart Lane\, Castle Pines\, CO\, 80108
CATEGORIES:Book Club,CO,Castle Pines
ATTACH;FMTTYPE=image/jpeg:https://www.castlepinesconnection.com/wp-content/uploads/2020/12/dclibrariesLogoBoxedforWeb-e1701117552989.jpg
END:VEVENT
BEGIN:VEVENT
DTSTART;TZID=America/Denver:20240828T090000
DTEND;TZID=America/Denver:20240828T110000
DTSTAMP:20260425T055839
CREATED:20240723T204104Z
LAST-MODIFIED:20240723T204104Z
UID:10007395-1724835600-1724842800@www.castlepinesconnection.com
SUMMARY:Watercolor Paint and Hike
DESCRIPTION:
URL:https://www.castlepinesconnection.com/event/watercolor-paint-and-hike/
LOCATION:JA Ranch\, Larkspur\, CO
CATEGORIES:Art,CO,Douglas County,Educational,Fun,Nature,Nature Walk
END:VEVENT
BEGIN:VEVENT
DTSTART;TZID=America/Denver:20240827T190000
DTEND;TZID=America/Denver:20240827T190000
DTSTAMP:20260425T055839
CREATED:20240723T203828Z
LAST-MODIFIED:20240723T203828Z
UID:10007394-1724785200-1724785200@www.castlepinesconnection.com
SUMMARY:Summer Concert Series - Phillip Phillips
DESCRIPTION:
URL:https://www.castlepinesconnection.com/event/summer-concert-series-phillip-phillips/
LOCATION:Amphitheater at Philip S. Miller Park\, 1375 W. Plum Creek Parkway\, Castle Rock\, 80109
CATEGORIES:CO,Castle Rock,Concert,Douglas County,Live Music,Shows,Singer,concert
END:VEVENT
BEGIN:VEVENT
DTSTART;VALUE=DATE:20240827
DTEND;VALUE=DATE:20240906
DTSTAMP:20260425T055839
CREATED:20230828T182334Z
LAST-MODIFIED:20230828T182334Z
UID:10006485-1724716800-1725580799@www.castlepinesconnection.com
SUMMARY:Denver Oktoberfest
DESCRIPTION:Denver Oktoberfest\n@ Downtown Denver\nSeptember 22 – 24 and\nSeptember 29-October 1\nthedenveroktoberfest.com
URL:https://www.castlepinesconnection.com/event/denver-oktoberfest/2024-08-27/
LOCATION:Downtown Denver\, Denver\, Colorado
CATEGORIES:CO,Denver,Oktoberfest
ATTACH;FMTTYPE=image/png:https://www.castlepinesconnection.com/wp-content/uploads/2023/08/logo-no-date.png
END:VEVENT
BEGIN:VEVENT
DTSTART;TZID=America/Denver:20240826T183000
DTEND;TZID=America/Denver:20240826T193000
DTSTAMP:20260425T055839
CREATED:20240528T214552Z
LAST-MODIFIED:20240528T214552Z
UID:10007283-1724697000-1724700600@www.castlepinesconnection.com
SUMMARY:Yoga in the Park
DESCRIPTION:
URL:https://www.castlepinesconnection.com/event/yoga-in-the-park-2/2024-08-26/
LOCATION:Amphitheater at Philip S. Miller Park\, 1375 W. Plum Creek Parkway\, Castle Rock\, 80109
CATEGORIES:CO,Castle Rock,Douglas County,Yoga
END:VEVENT
BEGIN:VEVENT
DTSTART;TZID=America/Denver:20240825T170000
DTEND;TZID=America/Denver:20240825T170000
DTSTAMP:20260425T055840
CREATED:20240723T203549Z
LAST-MODIFIED:20240723T203549Z
UID:10007393-1724605200-1724605200@www.castlepinesconnection.com
SUMMARY:2024 Summer Concert Series: Those Crazy Nights
DESCRIPTION:
URL:https://www.castlepinesconnection.com/event/2024-summer-concert-series-those-crazy-nights/
LOCATION:Coyote Ridge Park\, 7485 Serena Drive\, Castle Pines\, CO\, 80108
CATEGORIES:CO,Castle Pines,Concert,Family event,Free Day,Fun,Live Music,Shows,Singer,concert
END:VEVENT
BEGIN:VEVENT
DTSTART;TZID=America/Denver:20240825T083000
DTEND;TZID=America/Denver:20240825T093000
DTSTAMP:20260425T055840
CREATED:20240521T165022Z
LAST-MODIFIED:20240521T165022Z
UID:10007191-1724574600-1724578200@www.castlepinesconnection.com
SUMMARY:Yoga in the Park
DESCRIPTION:
URL:https://www.castlepinesconnection.com/event/yoga-in-the-park/2024-08-25/
LOCATION:Amphitheater at Philip S. Miller Park\, 1375 W. Plum Creek Parkway\, Castle Rock\, 80109
CATEGORIES:CO,Castle Rock,Douglas County,Free Day,Yoga
END:VEVENT
BEGIN:VEVENT
DTSTART;TZID=America/Denver:20240825T073000
DTEND;TZID=America/Denver:20240825T073000
DTSTAMP:20260425T055840
CREATED:20240723T203324Z
LAST-MODIFIED:20240723T203324Z
UID:10007392-1724571000-1724571000@www.castlepinesconnection.com
SUMMARY:Bluffs 8K Trail Run
DESCRIPTION:
URL:https://www.castlepinesconnection.com/event/bluffs-8k-trail-run-2/
LOCATION:Bluffs Regional Park\, Lone Tree\, CO\, 80124\, United States
CATEGORIES:CO,Douglas County,Family event,Lone Tree,Nature,Nature Walk,Run,Running
END:VEVENT
BEGIN:VEVENT
DTSTART;VALUE=DATE:20240825
DTEND;VALUE=DATE:20240826
DTSTAMP:20260425T055840
CREATED:20240723T192438Z
LAST-MODIFIED:20240723T192438Z
UID:10007375-1724544000-1724630399@www.castlepinesconnection.com
SUMMARY:Rock The Mountain Concert Series
DESCRIPTION:This summer is going to be ROCKIN’ at Outlets at Castle Rock! We’re excited to be bringing back live entertainment in the East 4th Street Courtyard (next to H&M) for our second year. Starting Memorial Day weekend and ending on Labor Day.
URL:https://www.castlepinesconnection.com/event/rock-the-mountain-concert-series/2024-08-25/
LOCATION:Outlets at Castle Rock\, 5050 Factory Shops Blvd\, Castle Rock\, Colorado\, 80108
CATEGORIES:CO,Castle Rock,Concert,Douglas County,Family event,Fun,Live Music,Shows,Singer,Street Party,Tours,concert
END:VEVENT
BEGIN:VEVENT
DTSTART;TZID=America/Denver:20240824T150000
DTEND;TZID=America/Denver:20240824T173000
DTSTAMP:20260425T055840
CREATED:20240723T202707Z
LAST-MODIFIED:20240723T202707Z
UID:10007390-1724511600-1724520600@www.castlepinesconnection.com
SUMMARY:Meet Clifford the Big Red Dog
DESCRIPTION:
URL:https://www.castlepinesconnection.com/event/meet-clifford-the-big-red-dog/
LOCATION:Outlets at Castle Rock\, 5050 Factory Shops Blvd\, Castle Rock\, Colorado\, 80108
CATEGORIES:CO,Castle Rock,Douglas County,Family event,Free Day,Fun
END:VEVENT
BEGIN:VEVENT
DTSTART;TZID=America/Denver:20240824T143000
DTEND;TZID=America/Denver:20240824T180000
DTSTAMP:20260425T055840
CREATED:20240708T184556Z
LAST-MODIFIED:20240708T184556Z
UID:10007349-1724509800-1724522400@www.castlepinesconnection.com
SUMMARY:2024 Denver Summer Whiskey Tasting Festival
DESCRIPTION:
URL:https://www.castlepinesconnection.com/event/2024-denver-summer-whiskey-tasting-festival/
LOCATION:Jaguar Room\, 1941 Market Street\, Denver\, CO\, 80202
CATEGORIES:CO,Denver,Food & Tasting
END:VEVENT
BEGIN:VEVENT
DTSTART;TZID=America/Denver:20240824T103000
DTEND;TZID=America/Denver:20240824T113000
DTSTAMP:20260425T055840
CREATED:20240723T150229Z
LAST-MODIFIED:20240723T150229Z
UID:10007357-1724495400-1724499000@www.castlepinesconnection.com
SUMMARY:2024 Historical Walking Tour of Downtown Castle Rock
DESCRIPTION:The Castle Rock Museum is giving free walking tours of downtown Castle Rock for the summer. Join us for the August tour on Aug. 24\, 2024 at 10:30 AM. The 45-minute tour will begin at The Courtyard on Perry Street\, 333 Perry St. and will conclude at the Castle Rock Museum\, 420 Elbert Street. The tour will highlight the history of Castle Rock and its many historic buildings.
URL:https://www.castlepinesconnection.com/event/2024-historical-walking-tour-of-downtown-castle-rock/
LOCATION:Downtown Castle Rock\, Castle Rock\, CO
CATEGORIES:CO,Castle Rock,Douglas County,Educational,History,Tours
END:VEVENT
BEGIN:VEVENT
DTSTART;TZID=America/Denver:20240824T090000
DTEND;TZID=America/Denver:20240825T170000
DTSTAMP:20260425T055840
CREATED:20240719T155949Z
LAST-MODIFIED:20240719T155949Z
UID:10007356-1724490000-1724605200@www.castlepinesconnection.com
SUMMARY:Summer Art Market
DESCRIPTION:Summer Art Market takes place in the West Wash Park neighborhood on Saturday\, August 24 & Sunday\, August 25. Come shop the best in local art from 175 local artist vendors.
URL:https://www.castlepinesconnection.com/event/summer-art-market/
LOCATION:Washington Park\, South Downing and Louisiana Stree\, Denver\, CO\, 80210
CATEGORIES:Art,Art Market,Art Show,CO,Denver,Family event
END:VEVENT
BEGIN:VEVENT
DTSTART;TZID=America/Denver:20240824T090000
DTEND;TZID=America/Denver:20240824T140000
DTSTAMP:20260425T055840
CREATED:20240723T202422Z
LAST-MODIFIED:20240723T202422Z
UID:10007389-1724490000-1724508000@www.castlepinesconnection.com
SUMMARY:Touch-A-Truck
DESCRIPTION:
URL:https://www.castlepinesconnection.com/event/touch-a-truck/
LOCATION:Douglas County Fairgrounds & Event Center\, 500 Fairgrounds Road\, Castle Rock\, CO\, 80104\, United States
CATEGORIES:CO,Castle Rock,Douglas County,Educational,Family event
END:VEVENT
BEGIN:VEVENT
DTSTART;TZID=America/Denver:20240823T190000
DTEND;TZID=America/Denver:20240823T190000
DTSTAMP:20260425T055840
CREATED:20240723T202209Z
LAST-MODIFIED:20240723T202209Z
UID:10007388-1724439600-1724439600@www.castlepinesconnection.com
SUMMARY:Summer Concert Series - Damage Inc with Denver Pops Orchestra
DESCRIPTION: 
URL:https://www.castlepinesconnection.com/event/summer-concert-series-damage-inc-with-denver-pops-orchestra/
LOCATION:Amphitheater at Philip S. Miller Park\, 1375 W. Plum Creek Parkway\, Castle Rock\, 80109
CATEGORIES:CO,Castle Rock,Concert,Douglas County,Live Music,Outdoors,Shows,Singer,concert
END:VEVENT
END:VCALENDAR