BEGIN:VCALENDAR
VERSION:2.0
PRODID:-//The Castle Pines Connection - ECPv6.15.15//NONSGML v1.0//EN
CALSCALE:GREGORIAN
METHOD:PUBLISH
X-WR-CALNAME:The Castle Pines Connection
X-ORIGINAL-URL:https://www.castlepinesconnection.com
X-WR-CALDESC:Events for The Castle Pines Connection
REFRESH-INTERVAL;VALUE=DURATION:PT1H
X-Robots-Tag:noindex
X-PUBLISHED-TTL:PT1H
BEGIN:VTIMEZONE
TZID:America/Denver
BEGIN:DAYLIGHT
TZOFFSETFROM:-0700
TZOFFSETTO:-0600
TZNAME:MDT
DTSTART:20200308T090000
END:DAYLIGHT
BEGIN:STANDARD
TZOFFSETFROM:-0600
TZOFFSETTO:-0700
TZNAME:MST
DTSTART:20201101T080000
END:STANDARD
BEGIN:DAYLIGHT
TZOFFSETFROM:-0700
TZOFFSETTO:-0600
TZNAME:MDT
DTSTART:20210314T090000
END:DAYLIGHT
BEGIN:STANDARD
TZOFFSETFROM:-0600
TZOFFSETTO:-0700
TZNAME:MST
DTSTART:20211107T080000
END:STANDARD
BEGIN:DAYLIGHT
TZOFFSETFROM:-0700
TZOFFSETTO:-0600
TZNAME:MDT
DTSTART:20220313T090000
END:DAYLIGHT
BEGIN:STANDARD
TZOFFSETFROM:-0600
TZOFFSETTO:-0700
TZNAME:MST
DTSTART:20221106T080000
END:STANDARD
BEGIN:DAYLIGHT
TZOFFSETFROM:-0700
TZOFFSETTO:-0600
TZNAME:MDT
DTSTART:20230312T090000
END:DAYLIGHT
BEGIN:STANDARD
TZOFFSETFROM:-0600
TZOFFSETTO:-0700
TZNAME:MST
DTSTART:20231105T080000
END:STANDARD
END:VTIMEZONE
BEGIN:VEVENT
DTSTART;TZID=America/Denver:20210912T080000
DTEND;TZID=America/Denver:20220206T120000
DTSTAMP:20260422T190804
CREATED:20210426T231124Z
LAST-MODIFIED:20210914T193559Z
UID:10002754-1631433600-1644148800@www.castlepinesconnection.com
SUMMARY:Parker Farmers Market
DESCRIPTION:
URL:https://www.castlepinesconnection.com/event/parker-farmers-market/2021-09-12/
LOCATION:Downtown Parker\, Parker\, CO\, 80138
ATTACH;FMTTYPE=image/jpeg:https://www.castlepinesconnection.com/wp-content/uploads/2021/04/thLocalColoradLogoWEeb.jpg
END:VEVENT
BEGIN:VEVENT
DTSTART;TZID=America/Denver:20210919T080000
DTEND;TZID=America/Denver:20220213T120000
DTSTAMP:20260422T190804
CREATED:20210426T231124Z
LAST-MODIFIED:20210914T193559Z
UID:10002755-1632038400-1644753600@www.castlepinesconnection.com
SUMMARY:Parker Farmers Market
DESCRIPTION:
URL:https://www.castlepinesconnection.com/event/parker-farmers-market/2021-09-19/
LOCATION:Downtown Parker\, Parker\, CO\, 80138
ATTACH;FMTTYPE=image/jpeg:https://www.castlepinesconnection.com/wp-content/uploads/2021/04/thLocalColoradLogoWEeb.jpg
END:VEVENT
BEGIN:VEVENT
DTSTART;VALUE=DATE:20211114
DTEND;VALUE=DATE:20220314
DTSTAMP:20260422T190804
CREATED:20211031T165836Z
LAST-MODIFIED:20211031T165836Z
UID:10003268-1636848000-1647215999@www.castlepinesconnection.com
SUMMARY:Whistler to Cassatt – American Painters in France
DESCRIPTION:
URL:https://www.castlepinesconnection.com/event/whistler-to-cassatt-american-painters-in-france/
LOCATION:Denver Art Musuem\, 100 West 14th Avenue Parkway\, Denver\, CO\, 80204\, United States
ATTACH;FMTTYPE=image/jpeg:https://www.castlepinesconnection.com/wp-content/uploads/2021/10/DenverArtMuseumLogo-e1708832791108.jpg
END:VEVENT
BEGIN:VEVENT
DTSTART;TZID=America/Denver:20211212T163000
DTEND;TZID=America/Denver:20220131T210000
DTSTAMP:20260422T190804
CREATED:20211030T211225Z
LAST-MODIFIED:20211030T212700Z
UID:10003171-1639326600-1643662800@www.castlepinesconnection.com
SUMMARY:Blossoms of Light
DESCRIPTION:Closed November 25 and December 25
URL:https://www.castlepinesconnection.com/event/blossoms-of-light/2021-12-12/
LOCATION:Denver Botanic Gardens\, 1007 York Street\, Denver\, CO\, 80206
ATTACH;FMTTYPE=image/jpeg:https://www.castlepinesconnection.com/wp-content/uploads/2021/10/Blossoms-of-Lighe.jpg
END:VEVENT
BEGIN:VEVENT
DTSTART;TZID=America/Denver:20211213T163000
DTEND;TZID=America/Denver:20220201T210000
DTSTAMP:20260422T190804
CREATED:20211030T211225Z
LAST-MODIFIED:20211030T212700Z
UID:10003172-1639413000-1643749200@www.castlepinesconnection.com
SUMMARY:Blossoms of Light
DESCRIPTION:Closed November 25 and December 25
URL:https://www.castlepinesconnection.com/event/blossoms-of-light/2021-12-13/
LOCATION:Denver Botanic Gardens\, 1007 York Street\, Denver\, CO\, 80206
ATTACH;FMTTYPE=image/jpeg:https://www.castlepinesconnection.com/wp-content/uploads/2021/10/Blossoms-of-Lighe.jpg
END:VEVENT
BEGIN:VEVENT
DTSTART;TZID=America/Denver:20211214T163000
DTEND;TZID=America/Denver:20220202T210000
DTSTAMP:20260422T190804
CREATED:20211030T211225Z
LAST-MODIFIED:20211030T212700Z
UID:10003173-1639499400-1643835600@www.castlepinesconnection.com
SUMMARY:Blossoms of Light
DESCRIPTION:Closed November 25 and December 25
URL:https://www.castlepinesconnection.com/event/blossoms-of-light/2021-12-14/
LOCATION:Denver Botanic Gardens\, 1007 York Street\, Denver\, CO\, 80206
ATTACH;FMTTYPE=image/jpeg:https://www.castlepinesconnection.com/wp-content/uploads/2021/10/Blossoms-of-Lighe.jpg
END:VEVENT
BEGIN:VEVENT
DTSTART;TZID=America/Denver:20211215T163000
DTEND;TZID=America/Denver:20220203T210000
DTSTAMP:20260422T190804
CREATED:20211030T211225Z
LAST-MODIFIED:20211030T212700Z
UID:10003174-1639585800-1643922000@www.castlepinesconnection.com
SUMMARY:Blossoms of Light
DESCRIPTION:Closed November 25 and December 25
URL:https://www.castlepinesconnection.com/event/blossoms-of-light/2021-12-15/
LOCATION:Denver Botanic Gardens\, 1007 York Street\, Denver\, CO\, 80206
ATTACH;FMTTYPE=image/jpeg:https://www.castlepinesconnection.com/wp-content/uploads/2021/10/Blossoms-of-Lighe.jpg
END:VEVENT
BEGIN:VEVENT
DTSTART;TZID=America/Denver:20211216T163000
DTEND;TZID=America/Denver:20220204T210000
DTSTAMP:20260422T190804
CREATED:20211030T211225Z
LAST-MODIFIED:20211030T212700Z
UID:10003175-1639672200-1644008400@www.castlepinesconnection.com
SUMMARY:Blossoms of Light
DESCRIPTION:Closed November 25 and December 25
URL:https://www.castlepinesconnection.com/event/blossoms-of-light/2021-12-16/
LOCATION:Denver Botanic Gardens\, 1007 York Street\, Denver\, CO\, 80206
ATTACH;FMTTYPE=image/jpeg:https://www.castlepinesconnection.com/wp-content/uploads/2021/10/Blossoms-of-Lighe.jpg
END:VEVENT
BEGIN:VEVENT
DTSTART;TZID=America/Denver:20211217T163000
DTEND;TZID=America/Denver:20220205T210000
DTSTAMP:20260422T190804
CREATED:20211030T211225Z
LAST-MODIFIED:20211030T212700Z
UID:10003176-1639758600-1644094800@www.castlepinesconnection.com
SUMMARY:Blossoms of Light
DESCRIPTION:Closed November 25 and December 25
URL:https://www.castlepinesconnection.com/event/blossoms-of-light/2021-12-17/
LOCATION:Denver Botanic Gardens\, 1007 York Street\, Denver\, CO\, 80206
ATTACH;FMTTYPE=image/jpeg:https://www.castlepinesconnection.com/wp-content/uploads/2021/10/Blossoms-of-Lighe.jpg
END:VEVENT
BEGIN:VEVENT
DTSTART;TZID=America/Denver:20211218T163000
DTEND;TZID=America/Denver:20220206T210000
DTSTAMP:20260422T190804
CREATED:20211030T211225Z
LAST-MODIFIED:20211030T212700Z
UID:10003177-1639845000-1644181200@www.castlepinesconnection.com
SUMMARY:Blossoms of Light
DESCRIPTION:Closed November 25 and December 25
URL:https://www.castlepinesconnection.com/event/blossoms-of-light/2021-12-18/
LOCATION:Denver Botanic Gardens\, 1007 York Street\, Denver\, CO\, 80206
ATTACH;FMTTYPE=image/jpeg:https://www.castlepinesconnection.com/wp-content/uploads/2021/10/Blossoms-of-Lighe.jpg
END:VEVENT
BEGIN:VEVENT
DTSTART;TZID=America/Denver:20211219T163000
DTEND;TZID=America/Denver:20220207T210000
DTSTAMP:20260422T190804
CREATED:20211030T211225Z
LAST-MODIFIED:20211030T212700Z
UID:10003178-1639931400-1644267600@www.castlepinesconnection.com
SUMMARY:Blossoms of Light
DESCRIPTION:Closed November 25 and December 25
URL:https://www.castlepinesconnection.com/event/blossoms-of-light/2021-12-19/
LOCATION:Denver Botanic Gardens\, 1007 York Street\, Denver\, CO\, 80206
ATTACH;FMTTYPE=image/jpeg:https://www.castlepinesconnection.com/wp-content/uploads/2021/10/Blossoms-of-Lighe.jpg
END:VEVENT
BEGIN:VEVENT
DTSTART;TZID=America/Denver:20211220T163000
DTEND;TZID=America/Denver:20220208T210000
DTSTAMP:20260422T190804
CREATED:20211030T211225Z
LAST-MODIFIED:20211030T212700Z
UID:10003179-1640017800-1644354000@www.castlepinesconnection.com
SUMMARY:Blossoms of Light
DESCRIPTION:Closed November 25 and December 25
URL:https://www.castlepinesconnection.com/event/blossoms-of-light/2021-12-20/
LOCATION:Denver Botanic Gardens\, 1007 York Street\, Denver\, CO\, 80206
ATTACH;FMTTYPE=image/jpeg:https://www.castlepinesconnection.com/wp-content/uploads/2021/10/Blossoms-of-Lighe.jpg
END:VEVENT
BEGIN:VEVENT
DTSTART;TZID=America/Denver:20211221T163000
DTEND;TZID=America/Denver:20220209T210000
DTSTAMP:20260422T190804
CREATED:20211030T211225Z
LAST-MODIFIED:20211030T212700Z
UID:10003180-1640104200-1644440400@www.castlepinesconnection.com
SUMMARY:Blossoms of Light
DESCRIPTION:Closed November 25 and December 25
URL:https://www.castlepinesconnection.com/event/blossoms-of-light/2021-12-21/
LOCATION:Denver Botanic Gardens\, 1007 York Street\, Denver\, CO\, 80206
ATTACH;FMTTYPE=image/jpeg:https://www.castlepinesconnection.com/wp-content/uploads/2021/10/Blossoms-of-Lighe.jpg
END:VEVENT
BEGIN:VEVENT
DTSTART;TZID=America/Denver:20211222T163000
DTEND;TZID=America/Denver:20220210T210000
DTSTAMP:20260422T190804
CREATED:20211030T211225Z
LAST-MODIFIED:20211030T212700Z
UID:10003181-1640190600-1644526800@www.castlepinesconnection.com
SUMMARY:Blossoms of Light
DESCRIPTION:Closed November 25 and December 25
URL:https://www.castlepinesconnection.com/event/blossoms-of-light/2021-12-22/
LOCATION:Denver Botanic Gardens\, 1007 York Street\, Denver\, CO\, 80206
ATTACH;FMTTYPE=image/jpeg:https://www.castlepinesconnection.com/wp-content/uploads/2021/10/Blossoms-of-Lighe.jpg
END:VEVENT
BEGIN:VEVENT
DTSTART;TZID=America/Denver:20211223T163000
DTEND;TZID=America/Denver:20220211T210000
DTSTAMP:20260422T190804
CREATED:20211030T211225Z
LAST-MODIFIED:20211030T212700Z
UID:10003182-1640277000-1644613200@www.castlepinesconnection.com
SUMMARY:Blossoms of Light
DESCRIPTION:Closed November 25 and December 25
URL:https://www.castlepinesconnection.com/event/blossoms-of-light/2021-12-23/
LOCATION:Denver Botanic Gardens\, 1007 York Street\, Denver\, CO\, 80206
ATTACH;FMTTYPE=image/jpeg:https://www.castlepinesconnection.com/wp-content/uploads/2021/10/Blossoms-of-Lighe.jpg
END:VEVENT
BEGIN:VEVENT
DTSTART;TZID=America/Denver:20211224T163000
DTEND;TZID=America/Denver:20220212T210000
DTSTAMP:20260422T190804
CREATED:20211030T211225Z
LAST-MODIFIED:20211030T212700Z
UID:10003183-1640363400-1644699600@www.castlepinesconnection.com
SUMMARY:Blossoms of Light
DESCRIPTION:Closed November 25 and December 25
URL:https://www.castlepinesconnection.com/event/blossoms-of-light/2021-12-24/
LOCATION:Denver Botanic Gardens\, 1007 York Street\, Denver\, CO\, 80206
ATTACH;FMTTYPE=image/jpeg:https://www.castlepinesconnection.com/wp-content/uploads/2021/10/Blossoms-of-Lighe.jpg
END:VEVENT
BEGIN:VEVENT
DTSTART;TZID=America/Denver:20211225T163000
DTEND;TZID=America/Denver:20220213T210000
DTSTAMP:20260422T190804
CREATED:20211030T211225Z
LAST-MODIFIED:20211030T212700Z
UID:10003184-1640449800-1644786000@www.castlepinesconnection.com
SUMMARY:Blossoms of Light
DESCRIPTION:Closed November 25 and December 25
URL:https://www.castlepinesconnection.com/event/blossoms-of-light/2021-12-25/
LOCATION:Denver Botanic Gardens\, 1007 York Street\, Denver\, CO\, 80206
ATTACH;FMTTYPE=image/jpeg:https://www.castlepinesconnection.com/wp-content/uploads/2021/10/Blossoms-of-Lighe.jpg
END:VEVENT
BEGIN:VEVENT
DTSTART;TZID=America/Denver:20211226T163000
DTEND;TZID=America/Denver:20220214T210000
DTSTAMP:20260422T190804
CREATED:20211030T211225Z
LAST-MODIFIED:20211030T212700Z
UID:10003185-1640536200-1644872400@www.castlepinesconnection.com
SUMMARY:Blossoms of Light
DESCRIPTION:Closed November 25 and December 25
URL:https://www.castlepinesconnection.com/event/blossoms-of-light/2021-12-26/
LOCATION:Denver Botanic Gardens\, 1007 York Street\, Denver\, CO\, 80206
ATTACH;FMTTYPE=image/jpeg:https://www.castlepinesconnection.com/wp-content/uploads/2021/10/Blossoms-of-Lighe.jpg
END:VEVENT
BEGIN:VEVENT
DTSTART;TZID=America/Denver:20211227T163000
DTEND;TZID=America/Denver:20220215T210000
DTSTAMP:20260422T190804
CREATED:20211030T211225Z
LAST-MODIFIED:20211030T212700Z
UID:10003186-1640622600-1644958800@www.castlepinesconnection.com
SUMMARY:Blossoms of Light
DESCRIPTION:Closed November 25 and December 25
URL:https://www.castlepinesconnection.com/event/blossoms-of-light/2021-12-27/
LOCATION:Denver Botanic Gardens\, 1007 York Street\, Denver\, CO\, 80206
ATTACH;FMTTYPE=image/jpeg:https://www.castlepinesconnection.com/wp-content/uploads/2021/10/Blossoms-of-Lighe.jpg
END:VEVENT
BEGIN:VEVENT
DTSTART;TZID=America/Denver:20211228T163000
DTEND;TZID=America/Denver:20220216T210000
DTSTAMP:20260422T190804
CREATED:20211030T211225Z
LAST-MODIFIED:20211030T212700Z
UID:10003187-1640709000-1645045200@www.castlepinesconnection.com
SUMMARY:Blossoms of Light
DESCRIPTION:Closed November 25 and December 25
URL:https://www.castlepinesconnection.com/event/blossoms-of-light/2021-12-28/
LOCATION:Denver Botanic Gardens\, 1007 York Street\, Denver\, CO\, 80206
ATTACH;FMTTYPE=image/jpeg:https://www.castlepinesconnection.com/wp-content/uploads/2021/10/Blossoms-of-Lighe.jpg
END:VEVENT
BEGIN:VEVENT
DTSTART;VALUE=DATE:20211229
DTEND;VALUE=DATE:20220201
DTSTAMP:20260422T190804
CREATED:20211201T182605Z
LAST-MODIFIED:20211201T184253Z
UID:10003434-1640736000-1643673599@www.castlepinesconnection.com
SUMMARY:HOLIDAYSAFE – CDOT/Uber offer $15 ride credits –
DESCRIPTION:to prevent impaired driving\n\nIn December\, the Colorado Department of Transportation is teaming up with Uber to provide $10\,000 in ride credits valued at $15 as part of a promotion to reduce impaired driving in the state. \nColoradans can redeem the $15 ride credit using the code “HOLIDAYSAFE” in the Promotions section of the Uber app. The ride credits\, available statewide\, are limited to one use per person and valid only while supplies last. The credits must be redeemed from 5 p.m. — 5 a.m.
URL:https://www.castlepinesconnection.com/event/holidaysafe-cdot-uber-offer-15-ride-credits/2021-12-29/
LOCATION:CO
ATTACH;FMTTYPE=image/jpeg:https://www.castlepinesconnection.com/wp-content/uploads/2021/12/Colorado-CDOT-logos-e1638384158444.jpg
END:VEVENT
BEGIN:VEVENT
DTSTART;TZID=America/Denver:20211229T163000
DTEND;TZID=America/Denver:20220217T210000
DTSTAMP:20260422T190804
CREATED:20211030T211225Z
LAST-MODIFIED:20211030T212700Z
UID:10003188-1640795400-1645131600@www.castlepinesconnection.com
SUMMARY:Blossoms of Light
DESCRIPTION:Closed November 25 and December 25
URL:https://www.castlepinesconnection.com/event/blossoms-of-light/2021-12-29/
LOCATION:Denver Botanic Gardens\, 1007 York Street\, Denver\, CO\, 80206
ATTACH;FMTTYPE=image/jpeg:https://www.castlepinesconnection.com/wp-content/uploads/2021/10/Blossoms-of-Lighe.jpg
END:VEVENT
BEGIN:VEVENT
DTSTART;VALUE=DATE:20211230
DTEND;VALUE=DATE:20220202
DTSTAMP:20260422T190804
CREATED:20211201T182605Z
LAST-MODIFIED:20211201T184253Z
UID:10003435-1640822400-1643759999@www.castlepinesconnection.com
SUMMARY:HOLIDAYSAFE – CDOT/Uber offer $15 ride credits –
DESCRIPTION:to prevent impaired driving\n\nIn December\, the Colorado Department of Transportation is teaming up with Uber to provide $10\,000 in ride credits valued at $15 as part of a promotion to reduce impaired driving in the state. \nColoradans can redeem the $15 ride credit using the code “HOLIDAYSAFE” in the Promotions section of the Uber app. The ride credits\, available statewide\, are limited to one use per person and valid only while supplies last. The credits must be redeemed from 5 p.m. — 5 a.m.
URL:https://www.castlepinesconnection.com/event/holidaysafe-cdot-uber-offer-15-ride-credits/2021-12-30/
LOCATION:CO
ATTACH;FMTTYPE=image/jpeg:https://www.castlepinesconnection.com/wp-content/uploads/2021/12/Colorado-CDOT-logos-e1638384158444.jpg
END:VEVENT
BEGIN:VEVENT
DTSTART;TZID=America/Denver:20211230T163000
DTEND;TZID=America/Denver:20220218T210000
DTSTAMP:20260422T190804
CREATED:20211030T211225Z
LAST-MODIFIED:20211030T212700Z
UID:10003189-1640881800-1645218000@www.castlepinesconnection.com
SUMMARY:Blossoms of Light
DESCRIPTION:Closed November 25 and December 25
URL:https://www.castlepinesconnection.com/event/blossoms-of-light/2021-12-30/
LOCATION:Denver Botanic Gardens\, 1007 York Street\, Denver\, CO\, 80206
ATTACH;FMTTYPE=image/jpeg:https://www.castlepinesconnection.com/wp-content/uploads/2021/10/Blossoms-of-Lighe.jpg
END:VEVENT
BEGIN:VEVENT
DTSTART;VALUE=DATE:20211231
DTEND;VALUE=DATE:20220203
DTSTAMP:20260422T190804
CREATED:20211201T182605Z
LAST-MODIFIED:20211201T184253Z
UID:10003436-1640908800-1643846399@www.castlepinesconnection.com
SUMMARY:HOLIDAYSAFE – CDOT/Uber offer $15 ride credits –
DESCRIPTION:to prevent impaired driving\n\nIn December\, the Colorado Department of Transportation is teaming up with Uber to provide $10\,000 in ride credits valued at $15 as part of a promotion to reduce impaired driving in the state. \nColoradans can redeem the $15 ride credit using the code “HOLIDAYSAFE” in the Promotions section of the Uber app. The ride credits\, available statewide\, are limited to one use per person and valid only while supplies last. The credits must be redeemed from 5 p.m. — 5 a.m.
URL:https://www.castlepinesconnection.com/event/holidaysafe-cdot-uber-offer-15-ride-credits/2021-12-31/
LOCATION:CO
ATTACH;FMTTYPE=image/jpeg:https://www.castlepinesconnection.com/wp-content/uploads/2021/12/Colorado-CDOT-logos-e1638384158444.jpg
END:VEVENT
BEGIN:VEVENT
DTSTART;TZID=America/Denver:20211231T163000
DTEND;TZID=America/Denver:20220219T210000
DTSTAMP:20260422T190804
CREATED:20211030T211225Z
LAST-MODIFIED:20211030T212700Z
UID:10003190-1640968200-1645304400@www.castlepinesconnection.com
SUMMARY:Blossoms of Light
DESCRIPTION:Closed November 25 and December 25
URL:https://www.castlepinesconnection.com/event/blossoms-of-light/2021-12-31/
LOCATION:Denver Botanic Gardens\, 1007 York Street\, Denver\, CO\, 80206
ATTACH;FMTTYPE=image/jpeg:https://www.castlepinesconnection.com/wp-content/uploads/2021/10/Blossoms-of-Lighe.jpg
END:VEVENT
BEGIN:VEVENT
DTSTART;VALUE=DATE:20220101
DTEND;VALUE=DATE:20220204
DTSTAMP:20260422T190805
CREATED:20211201T182605Z
LAST-MODIFIED:20211201T184253Z
UID:10003437-1640995200-1643932799@www.castlepinesconnection.com
SUMMARY:HOLIDAYSAFE – CDOT/Uber offer $15 ride credits –
DESCRIPTION:to prevent impaired driving\n\nIn December\, the Colorado Department of Transportation is teaming up with Uber to provide $10\,000 in ride credits valued at $15 as part of a promotion to reduce impaired driving in the state. \nColoradans can redeem the $15 ride credit using the code “HOLIDAYSAFE” in the Promotions section of the Uber app. The ride credits\, available statewide\, are limited to one use per person and valid only while supplies last. The credits must be redeemed from 5 p.m. — 5 a.m.
URL:https://www.castlepinesconnection.com/event/holidaysafe-cdot-uber-offer-15-ride-credits/2022-01-01/
LOCATION:CO
ATTACH;FMTTYPE=image/jpeg:https://www.castlepinesconnection.com/wp-content/uploads/2021/12/Colorado-CDOT-logos-e1638384158444.jpg
END:VEVENT
BEGIN:VEVENT
DTSTART;TZID=America/Denver:20220101T163000
DTEND;TZID=America/Denver:20220220T210000
DTSTAMP:20260422T190805
CREATED:20211030T211225Z
LAST-MODIFIED:20211030T212700Z
UID:10003191-1641054600-1645390800@www.castlepinesconnection.com
SUMMARY:Blossoms of Light
DESCRIPTION:Closed November 25 and December 25
URL:https://www.castlepinesconnection.com/event/blossoms-of-light/2022-01-01/
LOCATION:Denver Botanic Gardens\, 1007 York Street\, Denver\, CO\, 80206
ATTACH;FMTTYPE=image/jpeg:https://www.castlepinesconnection.com/wp-content/uploads/2021/10/Blossoms-of-Lighe.jpg
END:VEVENT
BEGIN:VEVENT
DTSTART;VALUE=DATE:20220102
DTEND;VALUE=DATE:20220205
DTSTAMP:20260422T190805
CREATED:20211201T182605Z
LAST-MODIFIED:20211201T184253Z
UID:10003438-1641081600-1644019199@www.castlepinesconnection.com
SUMMARY:HOLIDAYSAFE – CDOT/Uber offer $15 ride credits –
DESCRIPTION:to prevent impaired driving\n\nIn December\, the Colorado Department of Transportation is teaming up with Uber to provide $10\,000 in ride credits valued at $15 as part of a promotion to reduce impaired driving in the state. \nColoradans can redeem the $15 ride credit using the code “HOLIDAYSAFE” in the Promotions section of the Uber app. The ride credits\, available statewide\, are limited to one use per person and valid only while supplies last. The credits must be redeemed from 5 p.m. — 5 a.m.
URL:https://www.castlepinesconnection.com/event/holidaysafe-cdot-uber-offer-15-ride-credits/2022-01-02/
LOCATION:CO
ATTACH;FMTTYPE=image/jpeg:https://www.castlepinesconnection.com/wp-content/uploads/2021/12/Colorado-CDOT-logos-e1638384158444.jpg
END:VEVENT
BEGIN:VEVENT
DTSTART;TZID=America/Denver:20220102T163000
DTEND;TZID=America/Denver:20220221T210000
DTSTAMP:20260422T190805
CREATED:20211030T211225Z
LAST-MODIFIED:20211030T212700Z
UID:10003192-1641141000-1645477200@www.castlepinesconnection.com
SUMMARY:Blossoms of Light
DESCRIPTION:Closed November 25 and December 25
URL:https://www.castlepinesconnection.com/event/blossoms-of-light/2022-01-02/
LOCATION:Denver Botanic Gardens\, 1007 York Street\, Denver\, CO\, 80206
ATTACH;FMTTYPE=image/jpeg:https://www.castlepinesconnection.com/wp-content/uploads/2021/10/Blossoms-of-Lighe.jpg
END:VEVENT
END:VCALENDAR