BEGIN:VCALENDAR
VERSION:2.0
PRODID:-//The Castle Pines Connection - ECPv6.15.15//NONSGML v1.0//EN
CALSCALE:GREGORIAN
METHOD:PUBLISH
X-ORIGINAL-URL:https://www.castlepinesconnection.com
X-WR-CALDESC:Events for The Castle Pines Connection
REFRESH-INTERVAL;VALUE=DURATION:PT1H
X-Robots-Tag:noindex
X-PUBLISHED-TTL:PT1H
BEGIN:VTIMEZONE
TZID:America/Denver
BEGIN:DAYLIGHT
TZOFFSETFROM:-0700
TZOFFSETTO:-0600
TZNAME:MDT
DTSTART:20230312T090000
END:DAYLIGHT
BEGIN:STANDARD
TZOFFSETFROM:-0600
TZOFFSETTO:-0700
TZNAME:MST
DTSTART:20231105T080000
END:STANDARD
BEGIN:DAYLIGHT
TZOFFSETFROM:-0700
TZOFFSETTO:-0600
TZNAME:MDT
DTSTART:20240310T090000
END:DAYLIGHT
BEGIN:STANDARD
TZOFFSETFROM:-0600
TZOFFSETTO:-0700
TZNAME:MST
DTSTART:20241103T080000
END:STANDARD
BEGIN:DAYLIGHT
TZOFFSETFROM:-0700
TZOFFSETTO:-0600
TZNAME:MDT
DTSTART:20250309T090000
END:DAYLIGHT
BEGIN:STANDARD
TZOFFSETFROM:-0600
TZOFFSETTO:-0700
TZNAME:MST
DTSTART:20251102T080000
END:STANDARD
END:VTIMEZONE
BEGIN:VEVENT
DTSTART;VALUE=DATE:20240817
DTEND;VALUE=DATE:20240827
DTSTAMP:20260424T122709
CREATED:20230828T182334Z
LAST-MODIFIED:20230828T182334Z
UID:10006475-1723852800-1724716799@www.castlepinesconnection.com
SUMMARY:Denver Oktoberfest
DESCRIPTION:Denver Oktoberfest\n@ Downtown Denver\nSeptember 22 – 24 and\nSeptember 29-October 1\nthedenveroktoberfest.com
URL:https://www.castlepinesconnection.com/event/denver-oktoberfest/2024-08-17/
LOCATION:Downtown Denver\, Denver\, Colorado
CATEGORIES:CO,Denver,Oktoberfest
ATTACH;FMTTYPE=image/png:https://www.castlepinesconnection.com/wp-content/uploads/2023/08/logo-no-date.png
END:VEVENT
BEGIN:VEVENT
DTSTART;VALUE=DATE:20240818
DTEND;VALUE=DATE:20240828
DTSTAMP:20260424T122709
CREATED:20230828T182334Z
LAST-MODIFIED:20230828T182334Z
UID:10006476-1723939200-1724803199@www.castlepinesconnection.com
SUMMARY:Denver Oktoberfest
DESCRIPTION:Denver Oktoberfest\n@ Downtown Denver\nSeptember 22 – 24 and\nSeptember 29-October 1\nthedenveroktoberfest.com
URL:https://www.castlepinesconnection.com/event/denver-oktoberfest/2024-08-18/
LOCATION:Downtown Denver\, Denver\, Colorado
CATEGORIES:CO,Denver,Oktoberfest
ATTACH;FMTTYPE=image/png:https://www.castlepinesconnection.com/wp-content/uploads/2023/08/logo-no-date.png
END:VEVENT
BEGIN:VEVENT
DTSTART;VALUE=DATE:20240819
DTEND;VALUE=DATE:20240829
DTSTAMP:20260424T122709
CREATED:20230828T182334Z
LAST-MODIFIED:20230828T182334Z
UID:10006477-1724025600-1724889599@www.castlepinesconnection.com
SUMMARY:Denver Oktoberfest
DESCRIPTION:Denver Oktoberfest\n@ Downtown Denver\nSeptember 22 – 24 and\nSeptember 29-October 1\nthedenveroktoberfest.com
URL:https://www.castlepinesconnection.com/event/denver-oktoberfest/2024-08-19/
LOCATION:Downtown Denver\, Denver\, Colorado
CATEGORIES:CO,Denver,Oktoberfest
ATTACH;FMTTYPE=image/png:https://www.castlepinesconnection.com/wp-content/uploads/2023/08/logo-no-date.png
END:VEVENT
BEGIN:VEVENT
DTSTART;VALUE=DATE:20240820
DTEND;VALUE=DATE:20240830
DTSTAMP:20260424T122709
CREATED:20230828T182334Z
LAST-MODIFIED:20230828T182334Z
UID:10006478-1724112000-1724975999@www.castlepinesconnection.com
SUMMARY:Denver Oktoberfest
DESCRIPTION:Denver Oktoberfest\n@ Downtown Denver\nSeptember 22 – 24 and\nSeptember 29-October 1\nthedenveroktoberfest.com
URL:https://www.castlepinesconnection.com/event/denver-oktoberfest/2024-08-20/
LOCATION:Downtown Denver\, Denver\, Colorado
CATEGORIES:CO,Denver,Oktoberfest
ATTACH;FMTTYPE=image/png:https://www.castlepinesconnection.com/wp-content/uploads/2023/08/logo-no-date.png
END:VEVENT
BEGIN:VEVENT
DTSTART;VALUE=DATE:20240821
DTEND;VALUE=DATE:20240831
DTSTAMP:20260424T122709
CREATED:20230828T182334Z
LAST-MODIFIED:20230828T182334Z
UID:10006479-1724198400-1725062399@www.castlepinesconnection.com
SUMMARY:Denver Oktoberfest
DESCRIPTION:Denver Oktoberfest\n@ Downtown Denver\nSeptember 22 – 24 and\nSeptember 29-October 1\nthedenveroktoberfest.com
URL:https://www.castlepinesconnection.com/event/denver-oktoberfest/2024-08-21/
LOCATION:Downtown Denver\, Denver\, Colorado
CATEGORIES:CO,Denver,Oktoberfest
ATTACH;FMTTYPE=image/png:https://www.castlepinesconnection.com/wp-content/uploads/2023/08/logo-no-date.png
END:VEVENT
BEGIN:VEVENT
DTSTART;VALUE=DATE:20240822
DTEND;VALUE=DATE:20240901
DTSTAMP:20260424T122709
CREATED:20230828T182334Z
LAST-MODIFIED:20230828T182334Z
UID:10006480-1724284800-1725148799@www.castlepinesconnection.com
SUMMARY:Denver Oktoberfest
DESCRIPTION:Denver Oktoberfest\n@ Downtown Denver\nSeptember 22 – 24 and\nSeptember 29-October 1\nthedenveroktoberfest.com
URL:https://www.castlepinesconnection.com/event/denver-oktoberfest/2024-08-22/
LOCATION:Downtown Denver\, Denver\, Colorado
CATEGORIES:CO,Denver,Oktoberfest
ATTACH;FMTTYPE=image/png:https://www.castlepinesconnection.com/wp-content/uploads/2023/08/logo-no-date.png
END:VEVENT
BEGIN:VEVENT
DTSTART;VALUE=DATE:20240823
DTEND;VALUE=DATE:20240902
DTSTAMP:20260424T122709
CREATED:20230828T182334Z
LAST-MODIFIED:20230828T182334Z
UID:10006481-1724371200-1725235199@www.castlepinesconnection.com
SUMMARY:Denver Oktoberfest
DESCRIPTION:Denver Oktoberfest\n@ Downtown Denver\nSeptember 22 – 24 and\nSeptember 29-October 1\nthedenveroktoberfest.com
URL:https://www.castlepinesconnection.com/event/denver-oktoberfest/2024-08-23/
LOCATION:Downtown Denver\, Denver\, Colorado
CATEGORIES:CO,Denver,Oktoberfest
ATTACH;FMTTYPE=image/png:https://www.castlepinesconnection.com/wp-content/uploads/2023/08/logo-no-date.png
END:VEVENT
BEGIN:VEVENT
DTSTART;VALUE=DATE:20240824
DTEND;VALUE=DATE:20240903
DTSTAMP:20260424T122709
CREATED:20230828T182334Z
LAST-MODIFIED:20230828T182334Z
UID:10006482-1724457600-1725321599@www.castlepinesconnection.com
SUMMARY:Denver Oktoberfest
DESCRIPTION:Denver Oktoberfest\n@ Downtown Denver\nSeptember 22 – 24 and\nSeptember 29-October 1\nthedenveroktoberfest.com
URL:https://www.castlepinesconnection.com/event/denver-oktoberfest/2024-08-24/
LOCATION:Downtown Denver\, Denver\, Colorado
CATEGORIES:CO,Denver,Oktoberfest
ATTACH;FMTTYPE=image/png:https://www.castlepinesconnection.com/wp-content/uploads/2023/08/logo-no-date.png
END:VEVENT
BEGIN:VEVENT
DTSTART;VALUE=DATE:20240825
DTEND;VALUE=DATE:20240904
DTSTAMP:20260424T122709
CREATED:20230828T182334Z
LAST-MODIFIED:20230828T182334Z
UID:10006483-1724544000-1725407999@www.castlepinesconnection.com
SUMMARY:Denver Oktoberfest
DESCRIPTION:Denver Oktoberfest\n@ Downtown Denver\nSeptember 22 – 24 and\nSeptember 29-October 1\nthedenveroktoberfest.com
URL:https://www.castlepinesconnection.com/event/denver-oktoberfest/2024-08-25/
LOCATION:Downtown Denver\, Denver\, Colorado
CATEGORIES:CO,Denver,Oktoberfest
ATTACH;FMTTYPE=image/png:https://www.castlepinesconnection.com/wp-content/uploads/2023/08/logo-no-date.png
END:VEVENT
BEGIN:VEVENT
DTSTART;VALUE=DATE:20240826
DTEND;VALUE=DATE:20240905
DTSTAMP:20260424T122709
CREATED:20230828T182334Z
LAST-MODIFIED:20230828T182334Z
UID:10006484-1724630400-1725494399@www.castlepinesconnection.com
SUMMARY:Denver Oktoberfest
DESCRIPTION:Denver Oktoberfest\n@ Downtown Denver\nSeptember 22 – 24 and\nSeptember 29-October 1\nthedenveroktoberfest.com
URL:https://www.castlepinesconnection.com/event/denver-oktoberfest/2024-08-26/
LOCATION:Downtown Denver\, Denver\, Colorado
CATEGORIES:CO,Denver,Oktoberfest
ATTACH;FMTTYPE=image/png:https://www.castlepinesconnection.com/wp-content/uploads/2023/08/logo-no-date.png
END:VEVENT
BEGIN:VEVENT
DTSTART;TZID=America/Denver:20240826T110000
DTEND;TZID=America/Denver:20240826T190000
DTSTAMP:20260424T122709
CREATED:20220318T191227Z
LAST-MODIFIED:20220330T171310Z
UID:10004562-1724670000-1724698800@www.castlepinesconnection.com
SUMMARY:Easter Bunny photos Park Meadows Mall
DESCRIPTION:Hop\, Hop\, Hooray!\nDillard’s Court at Park Meadows\nMonday through Saturday:  11 a.m. – 7 p.m\nSundays:  12 p.m. – 6 p.m.\nPet Nights – March 21\, March 28\, and April 4\,  5 p.m. – 7.p.m.
URL:https://www.castlepinesconnection.com/event/easter-bunny-photos-park-meadows-mall/2024-08-26/
LOCATION:Park Meadows Retail Resort\, 8401 Park Meadows Center Dr\, Lone Tree\, CO\, 80124\, United States
CATEGORIES:Charity Benefit,Easter
ATTACH;FMTTYPE=image/png:https://www.castlepinesconnection.com/wp-content/uploads/2022/03/bunny-photos.png
END:VEVENT
BEGIN:VEVENT
DTSTART;TZID=America/Denver:20240826T163000
DTEND;TZID=America/Denver:20240826T171500
DTSTAMP:20260424T122709
CREATED:20201008T220853Z
LAST-MODIFIED:20201008T220956Z
UID:10001819-1724689800-1724692500@www.castlepinesconnection.com
SUMMARY:Tour of Cedar Hill Cemetery
DESCRIPTION:4:30 p.m. – 5:15 p.m.\n880 East Wolfensberger Road\, Castle Rock\nReservations: 303-814-3164 or museum@castlerockhistoricalsociety.org
URL:https://www.castlepinesconnection.com/event/tour-of-cedar-hill-cemetery/2024-08-26/
LOCATION:Cedar Hill Cemetery\, 880 East Wolfensberger Road\, Castle Rock\, CO\, 80104
ATTACH;FMTTYPE=image/png:https://www.castlepinesconnection.com/wp-content/uploads/2020/10/CR-GHOSTLYTROUR.png
END:VEVENT
BEGIN:VEVENT
DTSTART;TZID=America/Denver:20240826T183000
DTEND;TZID=America/Denver:20240826T193000
DTSTAMP:20260424T122709
CREATED:20240528T214552Z
LAST-MODIFIED:20240528T214552Z
UID:10007283-1724697000-1724700600@www.castlepinesconnection.com
SUMMARY:Yoga in the Park
DESCRIPTION:
URL:https://www.castlepinesconnection.com/event/yoga-in-the-park-2/2024-08-26/
LOCATION:Amphitheater at Philip S. Miller Park\, 1375 W. Plum Creek Parkway\, Castle Rock\, 80109
CATEGORIES:CO,Castle Rock,Douglas County,Yoga
END:VEVENT
BEGIN:VEVENT
DTSTART;VALUE=DATE:20240827
DTEND;VALUE=DATE:20240906
DTSTAMP:20260424T122709
CREATED:20230828T182334Z
LAST-MODIFIED:20230828T182334Z
UID:10006485-1724716800-1725580799@www.castlepinesconnection.com
SUMMARY:Denver Oktoberfest
DESCRIPTION:Denver Oktoberfest\n@ Downtown Denver\nSeptember 22 – 24 and\nSeptember 29-October 1\nthedenveroktoberfest.com
URL:https://www.castlepinesconnection.com/event/denver-oktoberfest/2024-08-27/
LOCATION:Downtown Denver\, Denver\, Colorado
CATEGORIES:CO,Denver,Oktoberfest
ATTACH;FMTTYPE=image/png:https://www.castlepinesconnection.com/wp-content/uploads/2023/08/logo-no-date.png
END:VEVENT
BEGIN:VEVENT
DTSTART;TZID=America/Denver:20240827T080000
DTEND;TZID=America/Denver:20240827T110000
DTSTAMP:20260424T122709
CREATED:20231227T192817Z
LAST-MODIFIED:20231227T192817Z
UID:10006821-1724745600-1724756400@www.castlepinesconnection.com
SUMMARY:Coffee Chat Tuesday
DESCRIPTION:
URL:https://www.castlepinesconnection.com/event/coffee-chat-tuesday-2/2024-08-27/
LOCATION:Douglas County Libraries – Castle Pines\, 360 Village Squart Lane\, Castle Pines\, CO\, 80108
CATEGORIES:Book Club,CO,Castle Pines,Douglas County
ATTACH;FMTTYPE=image/jpeg:https://www.castlepinesconnection.com/wp-content/uploads/2020/01/DouglasCountyLibrarieslogo-e1735239504162.jpg
END:VEVENT
BEGIN:VEVENT
DTSTART;TZID=America/Denver:20240827T110000
DTEND;TZID=America/Denver:20240827T190000
DTSTAMP:20260424T122709
CREATED:20220318T191227Z
LAST-MODIFIED:20220330T171310Z
UID:10004563-1724756400-1724785200@www.castlepinesconnection.com
SUMMARY:Easter Bunny photos Park Meadows Mall
DESCRIPTION:Hop\, Hop\, Hooray!\nDillard’s Court at Park Meadows\nMonday through Saturday:  11 a.m. – 7 p.m\nSundays:  12 p.m. – 6 p.m.\nPet Nights – March 21\, March 28\, and April 4\,  5 p.m. – 7.p.m.
URL:https://www.castlepinesconnection.com/event/easter-bunny-photos-park-meadows-mall/2024-08-27/
LOCATION:Park Meadows Retail Resort\, 8401 Park Meadows Center Dr\, Lone Tree\, CO\, 80124\, United States
CATEGORIES:Charity Benefit,Easter
ATTACH;FMTTYPE=image/png:https://www.castlepinesconnection.com/wp-content/uploads/2022/03/bunny-photos.png
END:VEVENT
BEGIN:VEVENT
DTSTART;TZID=America/Denver:20240827T163000
DTEND;TZID=America/Denver:20240827T171500
DTSTAMP:20260424T122709
CREATED:20201008T220853Z
LAST-MODIFIED:20201008T220956Z
UID:10001820-1724776200-1724778900@www.castlepinesconnection.com
SUMMARY:Tour of Cedar Hill Cemetery
DESCRIPTION:4:30 p.m. – 5:15 p.m.\n880 East Wolfensberger Road\, Castle Rock\nReservations: 303-814-3164 or museum@castlerockhistoricalsociety.org
URL:https://www.castlepinesconnection.com/event/tour-of-cedar-hill-cemetery/2024-08-27/
LOCATION:Cedar Hill Cemetery\, 880 East Wolfensberger Road\, Castle Rock\, CO\, 80104
ATTACH;FMTTYPE=image/png:https://www.castlepinesconnection.com/wp-content/uploads/2020/10/CR-GHOSTLYTROUR.png
END:VEVENT
BEGIN:VEVENT
DTSTART;TZID=America/Denver:20240827T190000
DTEND;TZID=America/Denver:20240827T190000
DTSTAMP:20260424T122709
CREATED:20240723T203828Z
LAST-MODIFIED:20240723T203828Z
UID:10007394-1724785200-1724785200@www.castlepinesconnection.com
SUMMARY:Summer Concert Series - Phillip Phillips
DESCRIPTION:
URL:https://www.castlepinesconnection.com/event/summer-concert-series-phillip-phillips/
LOCATION:Amphitheater at Philip S. Miller Park\, 1375 W. Plum Creek Parkway\, Castle Rock\, 80109
CATEGORIES:CO,Castle Rock,Concert,Douglas County,Live Music,Shows,Singer,concert
END:VEVENT
BEGIN:VEVENT
DTSTART;VALUE=DATE:20240828
DTEND;VALUE=DATE:20240907
DTSTAMP:20260424T122709
CREATED:20230828T182334Z
LAST-MODIFIED:20230828T182334Z
UID:10006486-1724803200-1725667199@www.castlepinesconnection.com
SUMMARY:Denver Oktoberfest
DESCRIPTION:Denver Oktoberfest\n@ Downtown Denver\nSeptember 22 – 24 and\nSeptember 29-October 1\nthedenveroktoberfest.com
URL:https://www.castlepinesconnection.com/event/denver-oktoberfest/2024-08-28/
LOCATION:Downtown Denver\, Denver\, Colorado
CATEGORIES:CO,Denver,Oktoberfest
ATTACH;FMTTYPE=image/png:https://www.castlepinesconnection.com/wp-content/uploads/2023/08/logo-no-date.png
END:VEVENT
BEGIN:VEVENT
DTSTART;TZID=America/Denver:20240828T090000
DTEND;TZID=America/Denver:20240828T110000
DTSTAMP:20260424T122709
CREATED:20240723T204104Z
LAST-MODIFIED:20240723T204104Z
UID:10007395-1724835600-1724842800@www.castlepinesconnection.com
SUMMARY:Watercolor Paint and Hike
DESCRIPTION:
URL:https://www.castlepinesconnection.com/event/watercolor-paint-and-hike/
LOCATION:JA Ranch\, Larkspur\, CO
CATEGORIES:Art,CO,Douglas County,Educational,Fun,Nature,Nature Walk
END:VEVENT
BEGIN:VEVENT
DTSTART;TZID=America/Denver:20240828T110000
DTEND;TZID=America/Denver:20240828T190000
DTSTAMP:20260424T122709
CREATED:20220318T191227Z
LAST-MODIFIED:20220330T171310Z
UID:10004564-1724842800-1724871600@www.castlepinesconnection.com
SUMMARY:Easter Bunny photos Park Meadows Mall
DESCRIPTION:Hop\, Hop\, Hooray!\nDillard’s Court at Park Meadows\nMonday through Saturday:  11 a.m. – 7 p.m\nSundays:  12 p.m. – 6 p.m.\nPet Nights – March 21\, March 28\, and April 4\,  5 p.m. – 7.p.m.
URL:https://www.castlepinesconnection.com/event/easter-bunny-photos-park-meadows-mall/2024-08-28/
LOCATION:Park Meadows Retail Resort\, 8401 Park Meadows Center Dr\, Lone Tree\, CO\, 80124\, United States
CATEGORIES:Charity Benefit,Easter
ATTACH;FMTTYPE=image/png:https://www.castlepinesconnection.com/wp-content/uploads/2022/03/bunny-photos.png
END:VEVENT
BEGIN:VEVENT
DTSTART;TZID=America/Denver:20240828T130000
DTEND;TZID=America/Denver:20240828T143000
DTSTAMP:20260424T122709
CREATED:20240723T204319Z
LAST-MODIFIED:20240723T204319Z
UID:10007396-1724850000-1724855400@www.castlepinesconnection.com
SUMMARY:Castle Pines Daytime Book Club
DESCRIPTION:
URL:https://www.castlepinesconnection.com/event/castle-pines-daytime-book-club-8/
LOCATION:Douglas County Libraries – Castle Pines\, 360 Village Squart Lane\, Castle Pines\, CO\, 80108
CATEGORIES:Book Club,CO,Castle Pines
ATTACH;FMTTYPE=image/jpeg:https://www.castlepinesconnection.com/wp-content/uploads/2020/12/dclibrariesLogoBoxedforWeb-e1701117552989.jpg
END:VEVENT
BEGIN:VEVENT
DTSTART;TZID=America/Denver:20240828T163000
DTEND;TZID=America/Denver:20240828T171500
DTSTAMP:20260424T122709
CREATED:20201008T220853Z
LAST-MODIFIED:20201008T220956Z
UID:10001821-1724862600-1724865300@www.castlepinesconnection.com
SUMMARY:Tour of Cedar Hill Cemetery
DESCRIPTION:4:30 p.m. – 5:15 p.m.\n880 East Wolfensberger Road\, Castle Rock\nReservations: 303-814-3164 or museum@castlerockhistoricalsociety.org
URL:https://www.castlepinesconnection.com/event/tour-of-cedar-hill-cemetery/2024-08-28/
LOCATION:Cedar Hill Cemetery\, 880 East Wolfensberger Road\, Castle Rock\, CO\, 80104
ATTACH;FMTTYPE=image/png:https://www.castlepinesconnection.com/wp-content/uploads/2020/10/CR-GHOSTLYTROUR.png
END:VEVENT
BEGIN:VEVENT
DTSTART;TZID=America/Denver:20240828T183000
DTEND;TZID=America/Denver:20240828T200000
DTSTAMP:20260424T122709
CREATED:20240527T033208Z
LAST-MODIFIED:20240527T033208Z
UID:10007216-1724869800-1724875200@www.castlepinesconnection.com
SUMMARY:Music in the Park
DESCRIPTION:Every Wednesday at Festival Park.
URL:https://www.castlepinesconnection.com/event/music-in-the-park/2024-08-28/
LOCATION:Festival Park\, 300 2nd St\,\, Castle Rock\, CO\, 80104
CATEGORIES:CO,Castle Rock,Concert,Douglas County,Fun,Live Music,concert
END:VEVENT
BEGIN:VEVENT
DTSTART;VALUE=DATE:20240829
DTEND;VALUE=DATE:20240908
DTSTAMP:20260424T122709
CREATED:20230828T182334Z
LAST-MODIFIED:20230828T182334Z
UID:10006487-1724889600-1725753599@www.castlepinesconnection.com
SUMMARY:Denver Oktoberfest
DESCRIPTION:Denver Oktoberfest\n@ Downtown Denver\nSeptember 22 – 24 and\nSeptember 29-October 1\nthedenveroktoberfest.com
URL:https://www.castlepinesconnection.com/event/denver-oktoberfest/2024-08-29/
LOCATION:Downtown Denver\, Denver\, Colorado
CATEGORIES:CO,Denver,Oktoberfest
ATTACH;FMTTYPE=image/png:https://www.castlepinesconnection.com/wp-content/uploads/2023/08/logo-no-date.png
END:VEVENT
BEGIN:VEVENT
DTSTART;TZID=America/Denver:20240829T110000
DTEND;TZID=America/Denver:20240829T190000
DTSTAMP:20260424T122709
CREATED:20220318T191227Z
LAST-MODIFIED:20220330T171310Z
UID:10004565-1724929200-1724958000@www.castlepinesconnection.com
SUMMARY:Easter Bunny photos Park Meadows Mall
DESCRIPTION:Hop\, Hop\, Hooray!\nDillard’s Court at Park Meadows\nMonday through Saturday:  11 a.m. – 7 p.m\nSundays:  12 p.m. – 6 p.m.\nPet Nights – March 21\, March 28\, and April 4\,  5 p.m. – 7.p.m.
URL:https://www.castlepinesconnection.com/event/easter-bunny-photos-park-meadows-mall/2024-08-29/
LOCATION:Park Meadows Retail Resort\, 8401 Park Meadows Center Dr\, Lone Tree\, CO\, 80124\, United States
CATEGORIES:Charity Benefit,Easter
ATTACH;FMTTYPE=image/png:https://www.castlepinesconnection.com/wp-content/uploads/2022/03/bunny-photos.png
END:VEVENT
BEGIN:VEVENT
DTSTART;TZID=America/Denver:20240829T160000
DTEND;TZID=America/Denver:20240829T180000
DTSTAMP:20260424T122709
CREATED:20240723T205028Z
LAST-MODIFIED:20240723T205028Z
UID:10007398-1724947200-1724954400@www.castlepinesconnection.com
SUMMARY:Ribbon Cutting - The Reserve at Lone Tree
DESCRIPTION:
URL:https://www.castlepinesconnection.com/event/ribbon-cutting-the-reserve-at-lone-tree/
LOCATION:The Reserve at Lone Tree\, 11010 High Note Ave.\, Lone Tree\, CO\, 80134
CATEGORIES:CO,Douglas County,Lone Tree,Senior
END:VEVENT
BEGIN:VEVENT
DTSTART;TZID=America/Denver:20240829T163000
DTEND;TZID=America/Denver:20240829T171500
DTSTAMP:20260424T122709
CREATED:20201008T220853Z
LAST-MODIFIED:20201008T220956Z
UID:10001822-1724949000-1724951700@www.castlepinesconnection.com
SUMMARY:Tour of Cedar Hill Cemetery
DESCRIPTION:4:30 p.m. – 5:15 p.m.\n880 East Wolfensberger Road\, Castle Rock\nReservations: 303-814-3164 or museum@castlerockhistoricalsociety.org
URL:https://www.castlepinesconnection.com/event/tour-of-cedar-hill-cemetery/2024-08-29/
LOCATION:Cedar Hill Cemetery\, 880 East Wolfensberger Road\, Castle Rock\, CO\, 80104
ATTACH;FMTTYPE=image/png:https://www.castlepinesconnection.com/wp-content/uploads/2020/10/CR-GHOSTLYTROUR.png
END:VEVENT
BEGIN:VEVENT
DTSTART;TZID=America/Denver:20240829T203000
DTEND;TZID=America/Denver:20240829T203000
DTSTAMP:20260424T122709
CREATED:20240723T204713Z
LAST-MODIFIED:20240723T204713Z
UID:10007397-1724963400-1724963400@www.castlepinesconnection.com
SUMMARY:Raise the Ruff - Rick Springfield
DESCRIPTION:
URL:https://www.castlepinesconnection.com/event/raise-the-ruff-rick-springfield/
LOCATION:The Mission Ballroom\, 4242 Wynkoop St\, Denver\, CO\, 80216
CATEGORIES:CO,Charity Benefit,Concert,Denver,Live Music,Shows,Singer,concert
ATTACH;FMTTYPE=image/png:https://www.castlepinesconnection.com/wp-content/uploads/2024/07/PSDS_FINAL_NEW_LOGO_RGB_SM-e1721767546265.png
END:VEVENT
BEGIN:VEVENT
DTSTART;VALUE=DATE:20240830
DTEND;VALUE=DATE:20240909
DTSTAMP:20260424T122709
CREATED:20230828T182334Z
LAST-MODIFIED:20230828T182334Z
UID:10006488-1724976000-1725839999@www.castlepinesconnection.com
SUMMARY:Denver Oktoberfest
DESCRIPTION:Denver Oktoberfest\n@ Downtown Denver\nSeptember 22 – 24 and\nSeptember 29-October 1\nthedenveroktoberfest.com
URL:https://www.castlepinesconnection.com/event/denver-oktoberfest/2024-08-30/
LOCATION:Downtown Denver\, Denver\, Colorado
CATEGORIES:CO,Denver,Oktoberfest
ATTACH;FMTTYPE=image/png:https://www.castlepinesconnection.com/wp-content/uploads/2023/08/logo-no-date.png
END:VEVENT
END:VCALENDAR