BEGIN:VCALENDAR
VERSION:2.0
PRODID:-//The Castle Pines Connection - ECPv6.15.15//NONSGML v1.0//EN
CALSCALE:GREGORIAN
METHOD:PUBLISH
X-WR-CALNAME:The Castle Pines Connection
X-ORIGINAL-URL:https://www.castlepinesconnection.com
X-WR-CALDESC:Events for The Castle Pines Connection
REFRESH-INTERVAL;VALUE=DURATION:PT1H
X-Robots-Tag:noindex
X-PUBLISHED-TTL:PT1H
BEGIN:VTIMEZONE
TZID:America/Denver
BEGIN:DAYLIGHT
TZOFFSETFROM:-0700
TZOFFSETTO:-0600
TZNAME:MDT
DTSTART:20230312T090000
END:DAYLIGHT
BEGIN:STANDARD
TZOFFSETFROM:-0600
TZOFFSETTO:-0700
TZNAME:MST
DTSTART:20231105T080000
END:STANDARD
BEGIN:DAYLIGHT
TZOFFSETFROM:-0700
TZOFFSETTO:-0600
TZNAME:MDT
DTSTART:20240310T090000
END:DAYLIGHT
BEGIN:STANDARD
TZOFFSETFROM:-0600
TZOFFSETTO:-0700
TZNAME:MST
DTSTART:20241103T080000
END:STANDARD
BEGIN:DAYLIGHT
TZOFFSETFROM:-0700
TZOFFSETTO:-0600
TZNAME:MDT
DTSTART:20250309T090000
END:DAYLIGHT
BEGIN:STANDARD
TZOFFSETFROM:-0600
TZOFFSETTO:-0700
TZNAME:MST
DTSTART:20251102T080000
END:STANDARD
END:VTIMEZONE
BEGIN:VEVENT
DTSTART;VALUE=DATE:20240925
DTEND;VALUE=DATE:20241103
DTSTAMP:20260423T031915
CREATED:20240920T163026Z
LAST-MODIFIED:20240920T163026Z
UID:10007465-1727222400-1730591999@www.castlepinesconnection.com
SUMMARY:Fall Festival at the Anderson Farms
DESCRIPTION: 
URL:https://www.castlepinesconnection.com/event/fall-festival-at-the-anderson-farms/
LOCATION:Anderson Farms\, 6728 County Rd 3 1/4\, Erie\, Colorado\, 80516
CATEGORIES:CO,Denver,Fall Festival,Family event,Holiday event
ATTACH;FMTTYPE=image/png:https://www.castlepinesconnection.com/wp-content/uploads/2024/09/AndersonFarms-e1726849702628.png
END:VEVENT
BEGIN:VEVENT
DTSTART;VALUE=DATE:20241005
DTEND;VALUE=DATE:20241015
DTSTAMP:20260423T031915
CREATED:20230828T182334Z
LAST-MODIFIED:20230828T182334Z
UID:10006524-1728086400-1728950399@www.castlepinesconnection.com
SUMMARY:Denver Oktoberfest
DESCRIPTION:Denver Oktoberfest\n@ Downtown Denver\nSeptember 22 – 24 and\nSeptember 29-October 1\nthedenveroktoberfest.com
URL:https://www.castlepinesconnection.com/event/denver-oktoberfest/2024-10-05/
LOCATION:Downtown Denver\, Denver\, Colorado
CATEGORIES:CO,Denver,Oktoberfest
ATTACH;FMTTYPE=image/png:https://www.castlepinesconnection.com/wp-content/uploads/2023/08/logo-no-date.png
END:VEVENT
BEGIN:VEVENT
DTSTART;VALUE=DATE:20241006
DTEND;VALUE=DATE:20241016
DTSTAMP:20260423T031915
CREATED:20230828T182334Z
LAST-MODIFIED:20230828T182334Z
UID:10006525-1728172800-1729036799@www.castlepinesconnection.com
SUMMARY:Denver Oktoberfest
DESCRIPTION:Denver Oktoberfest\n@ Downtown Denver\nSeptember 22 – 24 and\nSeptember 29-October 1\nthedenveroktoberfest.com
URL:https://www.castlepinesconnection.com/event/denver-oktoberfest/2024-10-06/
LOCATION:Downtown Denver\, Denver\, Colorado
CATEGORIES:CO,Denver,Oktoberfest
ATTACH;FMTTYPE=image/png:https://www.castlepinesconnection.com/wp-content/uploads/2023/08/logo-no-date.png
END:VEVENT
BEGIN:VEVENT
DTSTART;VALUE=DATE:20241007
DTEND;VALUE=DATE:20241017
DTSTAMP:20260423T031915
CREATED:20230828T182334Z
LAST-MODIFIED:20230828T182334Z
UID:10006526-1728259200-1729123199@www.castlepinesconnection.com
SUMMARY:Denver Oktoberfest
DESCRIPTION:Denver Oktoberfest\n@ Downtown Denver\nSeptember 22 – 24 and\nSeptember 29-October 1\nthedenveroktoberfest.com
URL:https://www.castlepinesconnection.com/event/denver-oktoberfest/2024-10-07/
LOCATION:Downtown Denver\, Denver\, Colorado
CATEGORIES:CO,Denver,Oktoberfest
ATTACH;FMTTYPE=image/png:https://www.castlepinesconnection.com/wp-content/uploads/2023/08/logo-no-date.png
END:VEVENT
BEGIN:VEVENT
DTSTART;VALUE=DATE:20241008
DTEND;VALUE=DATE:20241018
DTSTAMP:20260423T031915
CREATED:20230828T182334Z
LAST-MODIFIED:20230828T182334Z
UID:10006527-1728345600-1729209599@www.castlepinesconnection.com
SUMMARY:Denver Oktoberfest
DESCRIPTION:Denver Oktoberfest\n@ Downtown Denver\nSeptember 22 – 24 and\nSeptember 29-October 1\nthedenveroktoberfest.com
URL:https://www.castlepinesconnection.com/event/denver-oktoberfest/2024-10-08/
LOCATION:Downtown Denver\, Denver\, Colorado
CATEGORIES:CO,Denver,Oktoberfest
ATTACH;FMTTYPE=image/png:https://www.castlepinesconnection.com/wp-content/uploads/2023/08/logo-no-date.png
END:VEVENT
BEGIN:VEVENT
DTSTART;VALUE=DATE:20241009
DTEND;VALUE=DATE:20241019
DTSTAMP:20260423T031915
CREATED:20230828T182334Z
LAST-MODIFIED:20230828T182334Z
UID:10006528-1728432000-1729295999@www.castlepinesconnection.com
SUMMARY:Denver Oktoberfest
DESCRIPTION:Denver Oktoberfest\n@ Downtown Denver\nSeptember 22 – 24 and\nSeptember 29-October 1\nthedenveroktoberfest.com
URL:https://www.castlepinesconnection.com/event/denver-oktoberfest/2024-10-09/
LOCATION:Downtown Denver\, Denver\, Colorado
CATEGORIES:CO,Denver,Oktoberfest
ATTACH;FMTTYPE=image/png:https://www.castlepinesconnection.com/wp-content/uploads/2023/08/logo-no-date.png
END:VEVENT
BEGIN:VEVENT
DTSTART;VALUE=DATE:20241010
DTEND;VALUE=DATE:20241020
DTSTAMP:20260423T031915
CREATED:20230828T182334Z
LAST-MODIFIED:20230828T182334Z
UID:10006529-1728518400-1729382399@www.castlepinesconnection.com
SUMMARY:Denver Oktoberfest
DESCRIPTION:Denver Oktoberfest\n@ Downtown Denver\nSeptember 22 – 24 and\nSeptember 29-October 1\nthedenveroktoberfest.com
URL:https://www.castlepinesconnection.com/event/denver-oktoberfest/2024-10-10/
LOCATION:Downtown Denver\, Denver\, Colorado
CATEGORIES:CO,Denver,Oktoberfest
ATTACH;FMTTYPE=image/png:https://www.castlepinesconnection.com/wp-content/uploads/2023/08/logo-no-date.png
END:VEVENT
BEGIN:VEVENT
DTSTART;VALUE=DATE:20241011
DTEND;VALUE=DATE:20241019
DTSTAMP:20260423T031915
CREATED:20241004T143805Z
LAST-MODIFIED:20241004T143805Z
UID:10007541-1728604800-1729295999@www.castlepinesconnection.com
SUMMARY:Fall Break Camps at Übergrippen
DESCRIPTION:
URL:https://www.castlepinesconnection.com/event/fall-break-camps-at-ubergrippen/
LOCATION:Übergrippen Castle Rock\, 3690 Bilberry St\, Castle Rock\, 80109
CATEGORIES:CO,Castle Rock,Climbinh,Douglas County,Educational,Family event,Fun,Outdoors,Sports
ATTACH;FMTTYPE=image/png:https://www.castlepinesconnection.com/wp-content/uploads/2024/10/Ubergrippen-logo-x1-cr-1.png
END:VEVENT
BEGIN:VEVENT
DTSTART;VALUE=DATE:20241011
DTEND;VALUE=DATE:20241021
DTSTAMP:20260423T031915
CREATED:20230828T182334Z
LAST-MODIFIED:20230828T182334Z
UID:10006530-1728604800-1729468799@www.castlepinesconnection.com
SUMMARY:Denver Oktoberfest
DESCRIPTION:Denver Oktoberfest\n@ Downtown Denver\nSeptember 22 – 24 and\nSeptember 29-October 1\nthedenveroktoberfest.com
URL:https://www.castlepinesconnection.com/event/denver-oktoberfest/2024-10-11/
LOCATION:Downtown Denver\, Denver\, Colorado
CATEGORIES:CO,Denver,Oktoberfest
ATTACH;FMTTYPE=image/png:https://www.castlepinesconnection.com/wp-content/uploads/2023/08/logo-no-date.png
END:VEVENT
BEGIN:VEVENT
DTSTART;VALUE=DATE:20241012
DTEND;VALUE=DATE:20241022
DTSTAMP:20260423T031915
CREATED:20230828T182334Z
LAST-MODIFIED:20230828T182334Z
UID:10006531-1728691200-1729555199@www.castlepinesconnection.com
SUMMARY:Denver Oktoberfest
DESCRIPTION:Denver Oktoberfest\n@ Downtown Denver\nSeptember 22 – 24 and\nSeptember 29-October 1\nthedenveroktoberfest.com
URL:https://www.castlepinesconnection.com/event/denver-oktoberfest/2024-10-12/
LOCATION:Downtown Denver\, Denver\, Colorado
CATEGORIES:CO,Denver,Oktoberfest
ATTACH;FMTTYPE=image/png:https://www.castlepinesconnection.com/wp-content/uploads/2023/08/logo-no-date.png
END:VEVENT
BEGIN:VEVENT
DTSTART;VALUE=DATE:20241013
DTEND;VALUE=DATE:20241023
DTSTAMP:20260423T031915
CREATED:20230828T182334Z
LAST-MODIFIED:20230828T182334Z
UID:10006532-1728777600-1729641599@www.castlepinesconnection.com
SUMMARY:Denver Oktoberfest
DESCRIPTION:Denver Oktoberfest\n@ Downtown Denver\nSeptember 22 – 24 and\nSeptember 29-October 1\nthedenveroktoberfest.com
URL:https://www.castlepinesconnection.com/event/denver-oktoberfest/2024-10-13/
LOCATION:Downtown Denver\, Denver\, Colorado
CATEGORIES:CO,Denver,Oktoberfest
ATTACH;FMTTYPE=image/png:https://www.castlepinesconnection.com/wp-content/uploads/2023/08/logo-no-date.png
END:VEVENT
BEGIN:VEVENT
DTSTART;VALUE=DATE:20241014
DTEND;VALUE=DATE:20241024
DTSTAMP:20260423T031915
CREATED:20230828T182334Z
LAST-MODIFIED:20230828T182334Z
UID:10006533-1728864000-1729727999@www.castlepinesconnection.com
SUMMARY:Denver Oktoberfest
DESCRIPTION:Denver Oktoberfest\n@ Downtown Denver\nSeptember 22 – 24 and\nSeptember 29-October 1\nthedenveroktoberfest.com
URL:https://www.castlepinesconnection.com/event/denver-oktoberfest/2024-10-14/
LOCATION:Downtown Denver\, Denver\, Colorado
CATEGORIES:CO,Denver,Oktoberfest
ATTACH;FMTTYPE=image/png:https://www.castlepinesconnection.com/wp-content/uploads/2023/08/logo-no-date.png
END:VEVENT
BEGIN:VEVENT
DTSTART;TZID=America/Denver:20241014T110000
DTEND;TZID=America/Denver:20241014T190000
DTSTAMP:20260423T031915
CREATED:20220318T191227Z
LAST-MODIFIED:20220330T171310Z
UID:10004611-1728903600-1728932400@www.castlepinesconnection.com
SUMMARY:Easter Bunny photos Park Meadows Mall
DESCRIPTION:Hop\, Hop\, Hooray!\nDillard’s Court at Park Meadows\nMonday through Saturday:  11 a.m. – 7 p.m\nSundays:  12 p.m. – 6 p.m.\nPet Nights – March 21\, March 28\, and April 4\,  5 p.m. – 7.p.m.
URL:https://www.castlepinesconnection.com/event/easter-bunny-photos-park-meadows-mall/2024-10-14/
LOCATION:Park Meadows Retail Resort\, 8401 Park Meadows Center Dr\, Lone Tree\, CO\, 80124\, United States
CATEGORIES:Charity Benefit,Easter
ATTACH;FMTTYPE=image/png:https://www.castlepinesconnection.com/wp-content/uploads/2022/03/bunny-photos.png
END:VEVENT
BEGIN:VEVENT
DTSTART;TZID=America/Denver:20241014T160000
DTEND;TZID=America/Denver:20241014T173000
DTSTAMP:20260423T031915
CREATED:20240923T170752Z
LAST-MODIFIED:20240923T170752Z
UID:10007491-1728921600-1728927000@www.castlepinesconnection.com
SUMMARY:Bark for Books
DESCRIPTION:
URL:https://www.castlepinesconnection.com/event/bark-for-books-11/
LOCATION:Douglas County Libraries – Castle Pines\, 360 Village Squart Lane\, Castle Pines\, CO\, 80108
CATEGORIES:Book Club,CO,Castle Pines,Douglas County,Family event,Fun,Reading
END:VEVENT
BEGIN:VEVENT
DTSTART;TZID=America/Denver:20241014T163000
DTEND;TZID=America/Denver:20241014T171500
DTSTAMP:20260423T031915
CREATED:20201008T220853Z
LAST-MODIFIED:20201008T220956Z
UID:10001868-1728923400-1728926100@www.castlepinesconnection.com
SUMMARY:Tour of Cedar Hill Cemetery
DESCRIPTION:4:30 p.m. – 5:15 p.m.\n880 East Wolfensberger Road\, Castle Rock\nReservations: 303-814-3164 or museum@castlerockhistoricalsociety.org
URL:https://www.castlepinesconnection.com/event/tour-of-cedar-hill-cemetery/2024-10-14/
LOCATION:Cedar Hill Cemetery\, 880 East Wolfensberger Road\, Castle Rock\, CO\, 80104
ATTACH;FMTTYPE=image/png:https://www.castlepinesconnection.com/wp-content/uploads/2020/10/CR-GHOSTLYTROUR.png
END:VEVENT
BEGIN:VEVENT
DTSTART;VALUE=DATE:20241015
DTEND;VALUE=DATE:20241025
DTSTAMP:20260423T031915
CREATED:20230828T182334Z
LAST-MODIFIED:20230828T182334Z
UID:10006534-1728950400-1729814399@www.castlepinesconnection.com
SUMMARY:Denver Oktoberfest
DESCRIPTION:Denver Oktoberfest\n@ Downtown Denver\nSeptember 22 – 24 and\nSeptember 29-October 1\nthedenveroktoberfest.com
URL:https://www.castlepinesconnection.com/event/denver-oktoberfest/2024-10-15/
LOCATION:Downtown Denver\, Denver\, Colorado
CATEGORIES:CO,Denver,Oktoberfest
ATTACH;FMTTYPE=image/png:https://www.castlepinesconnection.com/wp-content/uploads/2023/08/logo-no-date.png
END:VEVENT
BEGIN:VEVENT
DTSTART;TZID=America/Denver:20241015T080000
DTEND;TZID=America/Denver:20241015T110000
DTSTAMP:20260423T031915
CREATED:20231227T192817Z
LAST-MODIFIED:20231227T192817Z
UID:10006828-1728979200-1728990000@www.castlepinesconnection.com
SUMMARY:Coffee Chat Tuesday
DESCRIPTION:
URL:https://www.castlepinesconnection.com/event/coffee-chat-tuesday-2/2024-10-15/
LOCATION:Douglas County Libraries – Castle Pines\, 360 Village Squart Lane\, Castle Pines\, CO\, 80108
CATEGORIES:Book Club,CO,Castle Pines,Douglas County
ATTACH;FMTTYPE=image/jpeg:https://www.castlepinesconnection.com/wp-content/uploads/2020/01/DouglasCountyLibrarieslogo-e1735239504162.jpg
END:VEVENT
BEGIN:VEVENT
DTSTART;TZID=America/Denver:20241015T090000
DTEND;TZID=America/Denver:20241015T090000
DTSTAMP:20260423T031915
CREATED:20240923T172023Z
LAST-MODIFIED:20240923T172023Z
UID:10007494-1728982800-1728982800@www.castlepinesconnection.com
SUMMARY:Come one Come ALL Ride
DESCRIPTION:Start at Gate 1 of the Village or Ziggi’s\, Castle Pines.
URL:https://www.castlepinesconnection.com/event/come-one-come-all-ride/2024-10-15/
LOCATION:Castle Pines
CATEGORIES:CO,Castle Pines,Cycling Club,Douglas County
ATTACH;FMTTYPE=image/jpeg:https://www.castlepinesconnection.com/wp-content/uploads/2016/06/villageIdiotsLogo-e1740431351786.jpg
END:VEVENT
BEGIN:VEVENT
DTSTART;TZID=America/Denver:20241015T110000
DTEND;TZID=America/Denver:20241015T190000
DTSTAMP:20260423T031915
CREATED:20220318T191227Z
LAST-MODIFIED:20220330T171310Z
UID:10004612-1728990000-1729018800@www.castlepinesconnection.com
SUMMARY:Easter Bunny photos Park Meadows Mall
DESCRIPTION:Hop\, Hop\, Hooray!\nDillard’s Court at Park Meadows\nMonday through Saturday:  11 a.m. – 7 p.m\nSundays:  12 p.m. – 6 p.m.\nPet Nights – March 21\, March 28\, and April 4\,  5 p.m. – 7.p.m.
URL:https://www.castlepinesconnection.com/event/easter-bunny-photos-park-meadows-mall/2024-10-15/
LOCATION:Park Meadows Retail Resort\, 8401 Park Meadows Center Dr\, Lone Tree\, CO\, 80124\, United States
CATEGORIES:Charity Benefit,Easter
ATTACH;FMTTYPE=image/png:https://www.castlepinesconnection.com/wp-content/uploads/2022/03/bunny-photos.png
END:VEVENT
BEGIN:VEVENT
DTSTART;TZID=America/Denver:20241015T163000
DTEND;TZID=America/Denver:20241015T171500
DTSTAMP:20260423T031915
CREATED:20201008T220853Z
LAST-MODIFIED:20201008T220956Z
UID:10001869-1729009800-1729012500@www.castlepinesconnection.com
SUMMARY:Tour of Cedar Hill Cemetery
DESCRIPTION:4:30 p.m. – 5:15 p.m.\n880 East Wolfensberger Road\, Castle Rock\nReservations: 303-814-3164 or museum@castlerockhistoricalsociety.org
URL:https://www.castlepinesconnection.com/event/tour-of-cedar-hill-cemetery/2024-10-15/
LOCATION:Cedar Hill Cemetery\, 880 East Wolfensberger Road\, Castle Rock\, CO\, 80104
ATTACH;FMTTYPE=image/png:https://www.castlepinesconnection.com/wp-content/uploads/2020/10/CR-GHOSTLYTROUR.png
END:VEVENT
BEGIN:VEVENT
DTSTART;VALUE=DATE:20241016
DTEND;VALUE=DATE:20241026
DTSTAMP:20260423T031915
CREATED:20230828T182334Z
LAST-MODIFIED:20230828T182334Z
UID:10006535-1729036800-1729900799@www.castlepinesconnection.com
SUMMARY:Denver Oktoberfest
DESCRIPTION:Denver Oktoberfest\n@ Downtown Denver\nSeptember 22 – 24 and\nSeptember 29-October 1\nthedenveroktoberfest.com
URL:https://www.castlepinesconnection.com/event/denver-oktoberfest/2024-10-16/
LOCATION:Downtown Denver\, Denver\, Colorado
CATEGORIES:CO,Denver,Oktoberfest
ATTACH;FMTTYPE=image/png:https://www.castlepinesconnection.com/wp-content/uploads/2023/08/logo-no-date.png
END:VEVENT
BEGIN:VEVENT
DTSTART;TZID=America/Denver:20241016T110000
DTEND;TZID=America/Denver:20241016T190000
DTSTAMP:20260423T031915
CREATED:20220318T191227Z
LAST-MODIFIED:20220330T171310Z
UID:10004613-1729076400-1729105200@www.castlepinesconnection.com
SUMMARY:Easter Bunny photos Park Meadows Mall
DESCRIPTION:Hop\, Hop\, Hooray!\nDillard’s Court at Park Meadows\nMonday through Saturday:  11 a.m. – 7 p.m\nSundays:  12 p.m. – 6 p.m.\nPet Nights – March 21\, March 28\, and April 4\,  5 p.m. – 7.p.m.
URL:https://www.castlepinesconnection.com/event/easter-bunny-photos-park-meadows-mall/2024-10-16/
LOCATION:Park Meadows Retail Resort\, 8401 Park Meadows Center Dr\, Lone Tree\, CO\, 80124\, United States
CATEGORIES:Charity Benefit,Easter
ATTACH;FMTTYPE=image/png:https://www.castlepinesconnection.com/wp-content/uploads/2022/03/bunny-photos.png
END:VEVENT
BEGIN:VEVENT
DTSTART;TZID=America/Denver:20241016T160000
DTEND;TZID=America/Denver:20241016T173000
DTSTAMP:20260423T031915
CREATED:20240923T194814Z
LAST-MODIFIED:20240923T194814Z
UID:10007498-1729094400-1729099800@www.castlepinesconnection.com
SUMMARY:Teen Library Connections
DESCRIPTION:
URL:https://www.castlepinesconnection.com/event/teen-library-connections-4/
LOCATION:Douglas County Libraries – Castle Pines\, 360 Village Squart Lane\, Castle Pines\, CO\, 80108
CATEGORIES:CO,Castle Pines,Douglas County,Educational,Volunteer
END:VEVENT
BEGIN:VEVENT
DTSTART;TZID=America/Denver:20241016T163000
DTEND;TZID=America/Denver:20241016T171500
DTSTAMP:20260423T031915
CREATED:20201008T220853Z
LAST-MODIFIED:20201008T220956Z
UID:10001870-1729096200-1729098900@www.castlepinesconnection.com
SUMMARY:Tour of Cedar Hill Cemetery
DESCRIPTION:4:30 p.m. – 5:15 p.m.\n880 East Wolfensberger Road\, Castle Rock\nReservations: 303-814-3164 or museum@castlerockhistoricalsociety.org
URL:https://www.castlepinesconnection.com/event/tour-of-cedar-hill-cemetery/2024-10-16/
LOCATION:Cedar Hill Cemetery\, 880 East Wolfensberger Road\, Castle Rock\, CO\, 80104
ATTACH;FMTTYPE=image/png:https://www.castlepinesconnection.com/wp-content/uploads/2020/10/CR-GHOSTLYTROUR.png
END:VEVENT
BEGIN:VEVENT
DTSTART;TZID=America/Denver:20241016T183000
DTEND;TZID=America/Denver:20241016T183000
DTSTAMP:20260423T031915
CREATED:20240923T195129Z
LAST-MODIFIED:20240923T195129Z
UID:10007499-1729103400-1729103400@www.castlepinesconnection.com
SUMMARY:The Magic of Jen Kramer
DESCRIPTION:
URL:https://www.castlepinesconnection.com/event/the-magic-of-jen-kramer/
LOCATION:PACE Center\, 20000 Pikes Peak Avenue\, Parker\, CO\, 80138
CATEGORIES:Art,CO,Comedy,Denver,Douglas County,Fun,Parker,Performing Arts,Shows
ATTACH;FMTTYPE=image/png:https://www.castlepinesconnection.com/wp-content/uploads/2020/01/ParkerArtsWithPaceSchoolhouse-e1729867324979.png
END:VEVENT
BEGIN:VEVENT
DTSTART;TZID=America/Denver:20241016T190000
DTEND;TZID=America/Denver:20241016T190000
DTSTAMP:20260423T031915
CREATED:20240912T145609Z
LAST-MODIFIED:20240912T145905Z
UID:10007455-1729105200-1729105200@www.castlepinesconnection.com
SUMMARY:Ghostly & Tragic Tales of Castle Rock
DESCRIPTION:Join us for a walking tour of Downtown Castle Rock featuring tales of ghostly and tragic events in Castle Rock’s history. \nCome hear stories of The Rock\, The Old Stone Church\, The B&B Café\, Hangman’s Gulch and more.  The nighttime tours will be at 7:00pm on Oct. 2nd & 3rd\, 9th\, 16th\, 17th\, 23rd & 30th.  There will also be daytime tours on Oct. 12th & 26th at 1:00pm.
URL:https://www.castlepinesconnection.com/event/ghostly-tragic-tales-of-castle-rock-3/2024-10-16/
LOCATION:Castle Rock Museum\, 20 Elbert St\, Castle Rock\, CO\, 80104
CATEGORIES:CO,Castle Rock,Douglas County,Fun,Halloween,History,Museum
ATTACH;FMTTYPE=image/jpeg:https://www.castlepinesconnection.com/wp-content/uploads/2024/09/CRHSM-logo-137-kb-e1742826674721.jpg
END:VEVENT
BEGIN:VEVENT
DTSTART;VALUE=DATE:20241017
DTEND;VALUE=DATE:20241027
DTSTAMP:20260423T031915
CREATED:20230828T182334Z
LAST-MODIFIED:20230828T182334Z
UID:10006536-1729123200-1729987199@www.castlepinesconnection.com
SUMMARY:Denver Oktoberfest
DESCRIPTION:Denver Oktoberfest\n@ Downtown Denver\nSeptember 22 – 24 and\nSeptember 29-October 1\nthedenveroktoberfest.com
URL:https://www.castlepinesconnection.com/event/denver-oktoberfest/2024-10-17/
LOCATION:Downtown Denver\, Denver\, Colorado
CATEGORIES:CO,Denver,Oktoberfest
ATTACH;FMTTYPE=image/png:https://www.castlepinesconnection.com/wp-content/uploads/2023/08/logo-no-date.png
END:VEVENT
BEGIN:VEVENT
DTSTART;TZID=America/Denver:20241017T110000
DTEND;TZID=America/Denver:20241017T190000
DTSTAMP:20260423T031915
CREATED:20220318T191227Z
LAST-MODIFIED:20220330T171310Z
UID:10004614-1729162800-1729191600@www.castlepinesconnection.com
SUMMARY:Easter Bunny photos Park Meadows Mall
DESCRIPTION:Hop\, Hop\, Hooray!\nDillard’s Court at Park Meadows\nMonday through Saturday:  11 a.m. – 7 p.m\nSundays:  12 p.m. – 6 p.m.\nPet Nights – March 21\, March 28\, and April 4\,  5 p.m. – 7.p.m.
URL:https://www.castlepinesconnection.com/event/easter-bunny-photos-park-meadows-mall/2024-10-17/
LOCATION:Park Meadows Retail Resort\, 8401 Park Meadows Center Dr\, Lone Tree\, CO\, 80124\, United States
CATEGORIES:Charity Benefit,Easter
ATTACH;FMTTYPE=image/png:https://www.castlepinesconnection.com/wp-content/uploads/2022/03/bunny-photos.png
END:VEVENT
BEGIN:VEVENT
DTSTART;TZID=America/Denver:20241017T163000
DTEND;TZID=America/Denver:20241017T171500
DTSTAMP:20260423T031915
CREATED:20201008T220853Z
LAST-MODIFIED:20201008T220956Z
UID:10001871-1729182600-1729185300@www.castlepinesconnection.com
SUMMARY:Tour of Cedar Hill Cemetery
DESCRIPTION:4:30 p.m. – 5:15 p.m.\n880 East Wolfensberger Road\, Castle Rock\nReservations: 303-814-3164 or museum@castlerockhistoricalsociety.org
URL:https://www.castlepinesconnection.com/event/tour-of-cedar-hill-cemetery/2024-10-17/
LOCATION:Cedar Hill Cemetery\, 880 East Wolfensberger Road\, Castle Rock\, CO\, 80104
ATTACH;FMTTYPE=image/png:https://www.castlepinesconnection.com/wp-content/uploads/2020/10/CR-GHOSTLYTROUR.png
END:VEVENT
BEGIN:VEVENT
DTSTART;TZID=America/Denver:20241017T173000
DTEND;TZID=America/Denver:20241017T173000
DTSTAMP:20260423T031915
CREATED:20240923T195456Z
LAST-MODIFIED:20240923T195456Z
UID:10007500-1729186200-1729186200@www.castlepinesconnection.com
SUMMARY:Paranormal Party
DESCRIPTION: 
URL:https://www.castlepinesconnection.com/event/paranormal-party/
LOCATION:Highlands Ranch Mansion\, 9950 E Gateway Drive\, Highlands Ranch\, CO\, 80126
CATEGORIES:CO,Denver,Douglas County,Halloween,Highlands Ranch,Holiday event
END:VEVENT
END:VCALENDAR