BEGIN:VCALENDAR
VERSION:2.0
PRODID:-//The Castle Pines Connection - ECPv6.15.15//NONSGML v1.0//EN
CALSCALE:GREGORIAN
METHOD:PUBLISH
X-ORIGINAL-URL:https://www.castlepinesconnection.com
X-WR-CALDESC:Events for The Castle Pines Connection
REFRESH-INTERVAL;VALUE=DURATION:PT1H
X-Robots-Tag:noindex
X-PUBLISHED-TTL:PT1H
BEGIN:VTIMEZONE
TZID:America/Denver
BEGIN:DAYLIGHT
TZOFFSETFROM:-0700
TZOFFSETTO:-0600
TZNAME:MDT
DTSTART:20230312T090000
END:DAYLIGHT
BEGIN:STANDARD
TZOFFSETFROM:-0600
TZOFFSETTO:-0700
TZNAME:MST
DTSTART:20231105T080000
END:STANDARD
BEGIN:DAYLIGHT
TZOFFSETFROM:-0700
TZOFFSETTO:-0600
TZNAME:MDT
DTSTART:20240310T090000
END:DAYLIGHT
BEGIN:STANDARD
TZOFFSETFROM:-0600
TZOFFSETTO:-0700
TZNAME:MST
DTSTART:20241103T080000
END:STANDARD
BEGIN:DAYLIGHT
TZOFFSETFROM:-0700
TZOFFSETTO:-0600
TZNAME:MDT
DTSTART:20250309T090000
END:DAYLIGHT
BEGIN:STANDARD
TZOFFSETFROM:-0600
TZOFFSETTO:-0700
TZNAME:MST
DTSTART:20251102T080000
END:STANDARD
END:VTIMEZONE
BEGIN:VEVENT
DTSTART;VALUE=DATE:20240925
DTEND;VALUE=DATE:20241103
DTSTAMP:20260420T022029
CREATED:20240920T163026Z
LAST-MODIFIED:20240920T163026Z
UID:10007465-1727222400-1730591999@www.castlepinesconnection.com
SUMMARY:Fall Festival at the Anderson Farms
DESCRIPTION: 
URL:https://www.castlepinesconnection.com/event/fall-festival-at-the-anderson-farms/
LOCATION:Anderson Farms\, 6728 County Rd 3 1/4\, Erie\, Colorado\, 80516
CATEGORIES:CO,Denver,Fall Festival,Family event,Holiday event
ATTACH;FMTTYPE=image/png:https://www.castlepinesconnection.com/wp-content/uploads/2024/09/AndersonFarms-e1726849702628.png
END:VEVENT
BEGIN:VEVENT
DTSTART;VALUE=DATE:20241019
DTEND;VALUE=DATE:20241029
DTSTAMP:20260420T022029
CREATED:20230828T182334Z
LAST-MODIFIED:20230828T182334Z
UID:10006538-1729296000-1730159999@www.castlepinesconnection.com
SUMMARY:Denver Oktoberfest
DESCRIPTION:Denver Oktoberfest\n@ Downtown Denver\nSeptember 22 – 24 and\nSeptember 29-October 1\nthedenveroktoberfest.com
URL:https://www.castlepinesconnection.com/event/denver-oktoberfest/2024-10-19/
LOCATION:Downtown Denver\, Denver\, Colorado
CATEGORIES:CO,Denver,Oktoberfest
ATTACH;FMTTYPE=image/png:https://www.castlepinesconnection.com/wp-content/uploads/2023/08/logo-no-date.png
END:VEVENT
BEGIN:VEVENT
DTSTART;VALUE=DATE:20241020
DTEND;VALUE=DATE:20241030
DTSTAMP:20260420T022029
CREATED:20230828T182334Z
LAST-MODIFIED:20230828T182334Z
UID:10006539-1729382400-1730246399@www.castlepinesconnection.com
SUMMARY:Denver Oktoberfest
DESCRIPTION:Denver Oktoberfest\n@ Downtown Denver\nSeptember 22 – 24 and\nSeptember 29-October 1\nthedenveroktoberfest.com
URL:https://www.castlepinesconnection.com/event/denver-oktoberfest/2024-10-20/
LOCATION:Downtown Denver\, Denver\, Colorado
CATEGORIES:CO,Denver,Oktoberfest
ATTACH;FMTTYPE=image/png:https://www.castlepinesconnection.com/wp-content/uploads/2023/08/logo-no-date.png
END:VEVENT
BEGIN:VEVENT
DTSTART;VALUE=DATE:20241021
DTEND;VALUE=DATE:20241031
DTSTAMP:20260420T022029
CREATED:20230828T182334Z
LAST-MODIFIED:20230828T182334Z
UID:10006540-1729468800-1730332799@www.castlepinesconnection.com
SUMMARY:Denver Oktoberfest
DESCRIPTION:Denver Oktoberfest\n@ Downtown Denver\nSeptember 22 – 24 and\nSeptember 29-October 1\nthedenveroktoberfest.com
URL:https://www.castlepinesconnection.com/event/denver-oktoberfest/2024-10-21/
LOCATION:Downtown Denver\, Denver\, Colorado
CATEGORIES:CO,Denver,Oktoberfest
ATTACH;FMTTYPE=image/png:https://www.castlepinesconnection.com/wp-content/uploads/2023/08/logo-no-date.png
END:VEVENT
BEGIN:VEVENT
DTSTART;VALUE=DATE:20241022
DTEND;VALUE=DATE:20241101
DTSTAMP:20260420T022029
CREATED:20230828T182334Z
LAST-MODIFIED:20230828T182334Z
UID:10006541-1729555200-1730419199@www.castlepinesconnection.com
SUMMARY:Denver Oktoberfest
DESCRIPTION:Denver Oktoberfest\n@ Downtown Denver\nSeptember 22 – 24 and\nSeptember 29-October 1\nthedenveroktoberfest.com
URL:https://www.castlepinesconnection.com/event/denver-oktoberfest/2024-10-22/
LOCATION:Downtown Denver\, Denver\, Colorado
CATEGORIES:CO,Denver,Oktoberfest
ATTACH;FMTTYPE=image/png:https://www.castlepinesconnection.com/wp-content/uploads/2023/08/logo-no-date.png
END:VEVENT
BEGIN:VEVENT
DTSTART;VALUE=DATE:20241023
DTEND;VALUE=DATE:20241102
DTSTAMP:20260420T022029
CREATED:20230828T182334Z
LAST-MODIFIED:20230828T182334Z
UID:10006542-1729641600-1730505599@www.castlepinesconnection.com
SUMMARY:Denver Oktoberfest
DESCRIPTION:Denver Oktoberfest\n@ Downtown Denver\nSeptember 22 – 24 and\nSeptember 29-October 1\nthedenveroktoberfest.com
URL:https://www.castlepinesconnection.com/event/denver-oktoberfest/2024-10-23/
LOCATION:Downtown Denver\, Denver\, Colorado
CATEGORIES:CO,Denver,Oktoberfest
ATTACH;FMTTYPE=image/png:https://www.castlepinesconnection.com/wp-content/uploads/2023/08/logo-no-date.png
END:VEVENT
BEGIN:VEVENT
DTSTART;VALUE=DATE:20241024
DTEND;VALUE=DATE:20241103
DTSTAMP:20260420T022029
CREATED:20230828T182334Z
LAST-MODIFIED:20230828T182334Z
UID:10006543-1729728000-1730591999@www.castlepinesconnection.com
SUMMARY:Denver Oktoberfest
DESCRIPTION:Denver Oktoberfest\n@ Downtown Denver\nSeptember 22 – 24 and\nSeptember 29-October 1\nthedenveroktoberfest.com
URL:https://www.castlepinesconnection.com/event/denver-oktoberfest/2024-10-24/
LOCATION:Downtown Denver\, Denver\, Colorado
CATEGORIES:CO,Denver,Oktoberfest
ATTACH;FMTTYPE=image/png:https://www.castlepinesconnection.com/wp-content/uploads/2023/08/logo-no-date.png
END:VEVENT
BEGIN:VEVENT
DTSTART;VALUE=DATE:20241025
DTEND;VALUE=DATE:20241104
DTSTAMP:20260420T022029
CREATED:20230828T182334Z
LAST-MODIFIED:20230828T182334Z
UID:10006544-1729814400-1730674799@www.castlepinesconnection.com
SUMMARY:Denver Oktoberfest
DESCRIPTION:Denver Oktoberfest\n@ Downtown Denver\nSeptember 22 – 24 and\nSeptember 29-October 1\nthedenveroktoberfest.com
URL:https://www.castlepinesconnection.com/event/denver-oktoberfest/2024-10-25/
LOCATION:Downtown Denver\, Denver\, Colorado
CATEGORIES:CO,Denver,Oktoberfest
ATTACH;FMTTYPE=image/png:https://www.castlepinesconnection.com/wp-content/uploads/2023/08/logo-no-date.png
END:VEVENT
BEGIN:VEVENT
DTSTART;VALUE=DATE:20241026
DTEND;VALUE=DATE:20241105
DTSTAMP:20260420T022029
CREATED:20230828T182334Z
LAST-MODIFIED:20230828T182334Z
UID:10006545-1729900800-1730761199@www.castlepinesconnection.com
SUMMARY:Denver Oktoberfest
DESCRIPTION:Denver Oktoberfest\n@ Downtown Denver\nSeptember 22 – 24 and\nSeptember 29-October 1\nthedenveroktoberfest.com
URL:https://www.castlepinesconnection.com/event/denver-oktoberfest/2024-10-26/
LOCATION:Downtown Denver\, Denver\, Colorado
CATEGORIES:CO,Denver,Oktoberfest
ATTACH;FMTTYPE=image/png:https://www.castlepinesconnection.com/wp-content/uploads/2023/08/logo-no-date.png
END:VEVENT
BEGIN:VEVENT
DTSTART;VALUE=DATE:20241027
DTEND;VALUE=DATE:20241106
DTSTAMP:20260420T022029
CREATED:20230828T182334Z
LAST-MODIFIED:20230828T182334Z
UID:10006546-1729987200-1730847599@www.castlepinesconnection.com
SUMMARY:Denver Oktoberfest
DESCRIPTION:Denver Oktoberfest\n@ Downtown Denver\nSeptember 22 – 24 and\nSeptember 29-October 1\nthedenveroktoberfest.com
URL:https://www.castlepinesconnection.com/event/denver-oktoberfest/2024-10-27/
LOCATION:Downtown Denver\, Denver\, Colorado
CATEGORIES:CO,Denver,Oktoberfest
ATTACH;FMTTYPE=image/png:https://www.castlepinesconnection.com/wp-content/uploads/2023/08/logo-no-date.png
END:VEVENT
BEGIN:VEVENT
DTSTART;VALUE=DATE:20241028
DTEND;VALUE=DATE:20241107
DTSTAMP:20260420T022029
CREATED:20230828T182334Z
LAST-MODIFIED:20230828T182334Z
UID:10006547-1730073600-1730933999@www.castlepinesconnection.com
SUMMARY:Denver Oktoberfest
DESCRIPTION:Denver Oktoberfest\n@ Downtown Denver\nSeptember 22 – 24 and\nSeptember 29-October 1\nthedenveroktoberfest.com
URL:https://www.castlepinesconnection.com/event/denver-oktoberfest/2024-10-28/
LOCATION:Downtown Denver\, Denver\, Colorado
CATEGORIES:CO,Denver,Oktoberfest
ATTACH;FMTTYPE=image/png:https://www.castlepinesconnection.com/wp-content/uploads/2023/08/logo-no-date.png
END:VEVENT
BEGIN:VEVENT
DTSTART;TZID=America/Denver:20241028T110000
DTEND;TZID=America/Denver:20241028T190000
DTSTAMP:20260420T022029
CREATED:20220318T191227Z
LAST-MODIFIED:20220330T171310Z
UID:10004625-1730113200-1730142000@www.castlepinesconnection.com
SUMMARY:Easter Bunny photos Park Meadows Mall
DESCRIPTION:Hop\, Hop\, Hooray!\nDillard’s Court at Park Meadows\nMonday through Saturday:  11 a.m. – 7 p.m\nSundays:  12 p.m. – 6 p.m.\nPet Nights – March 21\, March 28\, and April 4\,  5 p.m. – 7.p.m.
URL:https://www.castlepinesconnection.com/event/easter-bunny-photos-park-meadows-mall/2024-10-28/
LOCATION:Park Meadows Retail Resort\, 8401 Park Meadows Center Dr\, Lone Tree\, CO\, 80124\, United States
CATEGORIES:Charity Benefit,Easter
ATTACH;FMTTYPE=image/png:https://www.castlepinesconnection.com/wp-content/uploads/2022/03/bunny-photos.png
END:VEVENT
BEGIN:VEVENT
DTSTART;TZID=America/Denver:20241028T163000
DTEND;TZID=America/Denver:20241028T171500
DTSTAMP:20260420T022029
CREATED:20201008T220853Z
LAST-MODIFIED:20201008T220956Z
UID:10001882-1730133000-1730135700@www.castlepinesconnection.com
SUMMARY:Tour of Cedar Hill Cemetery
DESCRIPTION:4:30 p.m. – 5:15 p.m.\n880 East Wolfensberger Road\, Castle Rock\nReservations: 303-814-3164 or museum@castlerockhistoricalsociety.org
URL:https://www.castlepinesconnection.com/event/tour-of-cedar-hill-cemetery/2024-10-28/
LOCATION:Cedar Hill Cemetery\, 880 East Wolfensberger Road\, Castle Rock\, CO\, 80104
ATTACH;FMTTYPE=image/png:https://www.castlepinesconnection.com/wp-content/uploads/2020/10/CR-GHOSTLYTROUR.png
END:VEVENT
BEGIN:VEVENT
DTSTART;VALUE=DATE:20241029
DTEND;VALUE=DATE:20241108
DTSTAMP:20260420T022029
CREATED:20230828T182334Z
LAST-MODIFIED:20230828T182334Z
UID:10006548-1730160000-1731020399@www.castlepinesconnection.com
SUMMARY:Denver Oktoberfest
DESCRIPTION:Denver Oktoberfest\n@ Downtown Denver\nSeptember 22 – 24 and\nSeptember 29-October 1\nthedenveroktoberfest.com
URL:https://www.castlepinesconnection.com/event/denver-oktoberfest/2024-10-29/
LOCATION:Downtown Denver\, Denver\, Colorado
CATEGORIES:CO,Denver,Oktoberfest
ATTACH;FMTTYPE=image/png:https://www.castlepinesconnection.com/wp-content/uploads/2023/08/logo-no-date.png
END:VEVENT
BEGIN:VEVENT
DTSTART;TZID=America/Denver:20241029T080000
DTEND;TZID=America/Denver:20241029T110000
DTSTAMP:20260420T022029
CREATED:20231227T192817Z
LAST-MODIFIED:20231227T192817Z
UID:10006830-1730188800-1730199600@www.castlepinesconnection.com
SUMMARY:Coffee Chat Tuesday
DESCRIPTION:
URL:https://www.castlepinesconnection.com/event/coffee-chat-tuesday-2/2024-10-29/
LOCATION:Douglas County Libraries – Castle Pines\, 360 Village Squart Lane\, Castle Pines\, CO\, 80108
CATEGORIES:Book Club,CO,Castle Pines,Douglas County
ATTACH;FMTTYPE=image/jpeg:https://www.castlepinesconnection.com/wp-content/uploads/2020/01/DouglasCountyLibrarieslogo-e1735239504162.jpg
END:VEVENT
BEGIN:VEVENT
DTSTART;TZID=America/Denver:20241029T090000
DTEND;TZID=America/Denver:20241029T090000
DTSTAMP:20260420T022029
CREATED:20240923T172023Z
LAST-MODIFIED:20240923T172023Z
UID:10007496-1730192400-1730192400@www.castlepinesconnection.com
SUMMARY:Come one Come ALL Ride
DESCRIPTION:Start at Gate 1 of the Village or Ziggi’s\, Castle Pines.
URL:https://www.castlepinesconnection.com/event/come-one-come-all-ride/2024-10-29/
LOCATION:Castle Pines
CATEGORIES:CO,Castle Pines,Cycling Club,Douglas County
ATTACH;FMTTYPE=image/jpeg:https://www.castlepinesconnection.com/wp-content/uploads/2016/06/villageIdiotsLogo-e1740431351786.jpg
END:VEVENT
BEGIN:VEVENT
DTSTART;TZID=America/Denver:20241029T110000
DTEND;TZID=America/Denver:20241029T190000
DTSTAMP:20260420T022029
CREATED:20220318T191227Z
LAST-MODIFIED:20220330T171310Z
UID:10004626-1730199600-1730228400@www.castlepinesconnection.com
SUMMARY:Easter Bunny photos Park Meadows Mall
DESCRIPTION:Hop\, Hop\, Hooray!\nDillard’s Court at Park Meadows\nMonday through Saturday:  11 a.m. – 7 p.m\nSundays:  12 p.m. – 6 p.m.\nPet Nights – March 21\, March 28\, and April 4\,  5 p.m. – 7.p.m.
URL:https://www.castlepinesconnection.com/event/easter-bunny-photos-park-meadows-mall/2024-10-29/
LOCATION:Park Meadows Retail Resort\, 8401 Park Meadows Center Dr\, Lone Tree\, CO\, 80124\, United States
CATEGORIES:Charity Benefit,Easter
ATTACH;FMTTYPE=image/png:https://www.castlepinesconnection.com/wp-content/uploads/2022/03/bunny-photos.png
END:VEVENT
BEGIN:VEVENT
DTSTART;TZID=America/Denver:20241029T163000
DTEND;TZID=America/Denver:20241029T171500
DTSTAMP:20260420T022029
CREATED:20201008T220853Z
LAST-MODIFIED:20201008T220956Z
UID:10001883-1730219400-1730222100@www.castlepinesconnection.com
SUMMARY:Tour of Cedar Hill Cemetery
DESCRIPTION:4:30 p.m. – 5:15 p.m.\n880 East Wolfensberger Road\, Castle Rock\nReservations: 303-814-3164 or museum@castlerockhistoricalsociety.org
URL:https://www.castlepinesconnection.com/event/tour-of-cedar-hill-cemetery/2024-10-29/
LOCATION:Cedar Hill Cemetery\, 880 East Wolfensberger Road\, Castle Rock\, CO\, 80104
ATTACH;FMTTYPE=image/png:https://www.castlepinesconnection.com/wp-content/uploads/2020/10/CR-GHOSTLYTROUR.png
END:VEVENT
BEGIN:VEVENT
DTSTART;TZID=America/Denver:20241030T190000
DTEND;TZID=America/Denver:20241030T190000
DTSTAMP:20260420T022029
CREATED:20240912T145609Z
LAST-MODIFIED:20240912T145905Z
UID:10007459-1730314800-1730314800@www.castlepinesconnection.com
SUMMARY:Ghostly & Tragic Tales of Castle Rock
DESCRIPTION:Join us for a walking tour of Downtown Castle Rock featuring tales of ghostly and tragic events in Castle Rock’s history. \nCome hear stories of The Rock\, The Old Stone Church\, The B&B Café\, Hangman’s Gulch and more.  The nighttime tours will be at 7:00pm on Oct. 2nd & 3rd\, 9th\, 16th\, 17th\, 23rd & 30th.  There will also be daytime tours on Oct. 12th & 26th at 1:00pm.
URL:https://www.castlepinesconnection.com/event/ghostly-tragic-tales-of-castle-rock-3/2024-10-30/
LOCATION:Castle Rock Museum\, 20 Elbert St\, Castle Rock\, CO\, 80104
CATEGORIES:CO,Castle Rock,Douglas County,Fun,Halloween,History,Museum
ATTACH;FMTTYPE=image/jpeg:https://www.castlepinesconnection.com/wp-content/uploads/2024/09/CRHSM-logo-137-kb-e1742826674721.jpg
END:VEVENT
BEGIN:VEVENT
DTSTART;TZID=America/Denver:20241031T193000
DTEND;TZID=America/Denver:20241031T193000
DTSTAMP:20260420T022029
CREATED:20240923T212803Z
LAST-MODIFIED:20240923T212803Z
UID:10007539-1730403000-1730403000@www.castlepinesconnection.com
SUMMARY:The Dan Band
DESCRIPTION:
URL:https://www.castlepinesconnection.com/event/the-dan-band/
LOCATION:PACE Center\, 20000 Pikes Peak Avenue\, Parker\, CO\, 80138
CATEGORIES:CO,Concert,Denver,Live Music,Parker,Performing Arts,Shows,Singer,Tours,concert
END:VEVENT
BEGIN:VEVENT
DTSTART;TZID=America/Denver:20241101T180000
DTEND;TZID=America/Denver:20241101T180000
DTSTAMP:20260420T022029
CREATED:20241025T143653Z
LAST-MODIFIED:20241025T143653Z
UID:10007548-1730484000-1730484000@www.castlepinesconnection.com
SUMMARY:Murder & Mystery at the Castle! Glamour\, Glitz and Murder
DESCRIPTION:
URL:https://www.castlepinesconnection.com/event/murder-mystery-at-the-castle-glamour-glitz-and-murder/
LOCATION:Cherokee Ranch & Castle\, 6113 N Daniels Park Rd\, Sedalia\, CO\, 80135\, United States
CATEGORIES:CO,Castle Pines,Douglas County,Fun,Murder Mystery
ATTACH;FMTTYPE=image/png:https://www.castlepinesconnection.com/wp-content/uploads/2024/08/cherokeeranchandcastle-e1732313724886.png
END:VEVENT
BEGIN:VEVENT
DTSTART;TZID=America/Denver:20241101T183000
DTEND;TZID=America/Denver:20241101T183000
DTSTAMP:20260420T022029
CREATED:20241025T144229Z
LAST-MODIFIED:20241025T144229Z
UID:10007549-1730485800-1730485800@www.castlepinesconnection.com
SUMMARY:The Pout-Pout Fish
DESCRIPTION: 
URL:https://www.castlepinesconnection.com/event/the-pout-pout-fish/
LOCATION:PACE Center\, 20000 Pikes Peak Avenue\, Parker\, CO\, 80138
CATEGORIES:CO,Concert,Douglas County,Family event,Fun,Musical,Parker,Performing Arts,Shows,Singer,Tours,theater
ATTACH;FMTTYPE=image/png:https://www.castlepinesconnection.com/wp-content/uploads/2020/01/ParkerArtsWithPaceSchoolhouse-e1729867324979.png
END:VEVENT
BEGIN:VEVENT
DTSTART;TZID=America/Denver:20241102T090000
DTEND;TZID=America/Denver:20241102T140000
DTSTAMP:20260420T022029
CREATED:20241025T150743Z
LAST-MODIFIED:20241025T150743Z
UID:10007550-1730538000-1730556000@www.castlepinesconnection.com
SUMMARY:Leaf and Pumpkin Composting
DESCRIPTION:
URL:https://www.castlepinesconnection.com/event/leaf-and-pumpkin-composting-2/
LOCATION:Elk Ridge Park\, 7005 Mira Vista Lane\, Castle Pines\, CO\, 80108
CATEGORIES:CO,Castle Pines,Douglas County
END:VEVENT
BEGIN:VEVENT
DTSTART;TZID=America/Denver:20241102T100000
DTEND;TZID=America/Denver:20241102T160000
DTSTAMP:20260420T022029
CREATED:20241025T151156Z
LAST-MODIFIED:20241025T151156Z
UID:10007551-1730541600-1730563200@www.castlepinesconnection.com
SUMMARY:Sample Day at Alice + Kate Bakery
DESCRIPTION:
URL:https://www.castlepinesconnection.com/event/sample-day-at-alice-kate-bakery/
LOCATION:Alice + Kate Bakery\, 572 E Castle Pines Parkway\, Suite A5\, Castle Pines\, Colorado\, 80108
CATEGORIES:CO,Castle Pines,Christmas,Douglas County,Family event,Food & Tasting,Holiday event
ATTACH;FMTTYPE=image/jpeg:https://www.castlepinesconnection.com/wp-content/uploads/2024/09/Alice_Kate_Logo_12-e1767031621332.jpeg
END:VEVENT
BEGIN:VEVENT
DTSTART;TZID=America/Denver:20241102T103000
DTEND;TZID=America/Denver:20241102T140000
DTSTAMP:20260420T022029
CREATED:20241025T151534Z
LAST-MODIFIED:20241025T151534Z
UID:10007552-1730543400-1730556000@www.castlepinesconnection.com
SUMMARY:Pie Bake-Off
DESCRIPTION:
URL:https://www.castlepinesconnection.com/event/pie-bake-off-4/
LOCATION:The Millhouse at Philip S. Miller Park\, 1375 W. Plum Creek Parkway\, Castle Rock\, CO\, 80109
CATEGORIES:CO,Castle Rock,Christmas,Douglas County,Food & Tasting,Holiday event
END:VEVENT
BEGIN:VEVENT
DTSTART;TZID=America/Denver:20241102T160000
DTEND;TZID=America/Denver:20241102T200000
DTSTAMP:20260420T022029
CREATED:20241022T013352Z
LAST-MODIFIED:20241024T134612Z
UID:10007547-1730563200-1730577600@www.castlepinesconnection.com
SUMMARY:Unlock the Holidays at Park Meadows
DESCRIPTION:Join us on November 2\, 2024\, as we unveil a winter wonderland like no other! Our annual Unlock the Holidays event promises an enchanting celebration for all ages\, overflowing with festive fun\, captivating entertainment\, and unforgettable experiences.
URL:https://www.castlepinesconnection.com/event/unlock-the-holidays-at-park-meadows/
LOCATION:Park Meadows Retail Resort\, 8401 Park Meadows Center Dr\, Lone Tree\, CO\, 80124\, United States
CATEGORIES:CO,Douglas County,Family event,Fun,Holiday event
ATTACH;FMTTYPE=image/png:https://www.castlepinesconnection.com/wp-content/uploads/2024/10/2H3E6OJLZ5HHLBTLCQVPOT7E6E-e1729560718671.png
END:VEVENT
BEGIN:VEVENT
DTSTART;TZID=America/Denver:20241103T100000
DTEND;TZID=America/Denver:20241103T100000
DTSTAMP:20260420T022029
CREATED:20241025T151933Z
LAST-MODIFIED:20241025T151933Z
UID:10007553-1730628000-1730628000@www.castlepinesconnection.com
SUMMARY:Pikes Peak Road Runners Fall Series III
DESCRIPTION: 
URL:https://www.castlepinesconnection.com/event/pikes-peak-road-runners-fall-series-iii/
LOCATION:Piñon Valley Park\, 5585 Mule Deer Drive\, Colorado Springs\, Colorado\, 80919
CATEGORIES:CO,Marathon,Nature,Outdoors,Run,Running
END:VEVENT
BEGIN:VEVENT
DTSTART;TZID=America/Denver:20241103T150000
DTEND;TZID=America/Denver:20241103T180000
DTSTAMP:20260420T022029
CREATED:20241025T152421Z
LAST-MODIFIED:20241025T152421Z
UID:10007554-1730646000-1730656800@www.castlepinesconnection.com
SUMMARY:FREE NIGHT Parker Science Night
DESCRIPTION:
URL:https://www.castlepinesconnection.com/event/free-night-parker-science-night/
LOCATION:PACE Center\, 20000 Pikes Peak Avenue\, Parker\, CO\, 80138
CATEGORIES:CO,Douglas County,Educational,Family event,Free Day,Fun,Parker
ATTACH;FMTTYPE=image/jpeg:https://www.castlepinesconnection.com/wp-content/uploads/2024/10/Science-Night_2560x1000-e1761333201443.jpg
END:VEVENT
END:VCALENDAR