BEGIN:VCALENDAR
VERSION:2.0
PRODID:-//The Castle Pines Connection - ECPv6.15.15//NONSGML v1.0//EN
CALSCALE:GREGORIAN
METHOD:PUBLISH
X-WR-CALNAME:The Castle Pines Connection
X-ORIGINAL-URL:https://www.castlepinesconnection.com
X-WR-CALDESC:Events for The Castle Pines Connection
REFRESH-INTERVAL;VALUE=DURATION:PT1H
X-Robots-Tag:noindex
X-PUBLISHED-TTL:PT1H
BEGIN:VTIMEZONE
TZID:America/Denver
BEGIN:DAYLIGHT
TZOFFSETFROM:-0700
TZOFFSETTO:-0600
TZNAME:MDT
DTSTART:20250309T090000
END:DAYLIGHT
BEGIN:STANDARD
TZOFFSETFROM:-0600
TZOFFSETTO:-0700
TZNAME:MST
DTSTART:20251102T080000
END:STANDARD
BEGIN:DAYLIGHT
TZOFFSETFROM:-0700
TZOFFSETTO:-0600
TZNAME:MDT
DTSTART:20260308T090000
END:DAYLIGHT
BEGIN:STANDARD
TZOFFSETFROM:-0600
TZOFFSETTO:-0700
TZNAME:MST
DTSTART:20261101T080000
END:STANDARD
BEGIN:DAYLIGHT
TZOFFSETFROM:-0700
TZOFFSETTO:-0600
TZNAME:MDT
DTSTART:20270314T090000
END:DAYLIGHT
BEGIN:STANDARD
TZOFFSETFROM:-0600
TZOFFSETTO:-0700
TZNAME:MST
DTSTART:20271107T080000
END:STANDARD
BEGIN:DAYLIGHT
TZOFFSETFROM:-0700
TZOFFSETTO:-0600
TZNAME:MDT
DTSTART:20280312T090000
END:DAYLIGHT
BEGIN:STANDARD
TZOFFSETFROM:-0600
TZOFFSETTO:-0700
TZNAME:MST
DTSTART:20281105T080000
END:STANDARD
END:VTIMEZONE
BEGIN:VEVENT
DTSTART;TZID=America/Denver:20260106T080000
DTEND;TZID=America/Denver:20261229T110000
DTSTAMP:20260420T032509
CREATED:20251229T170036Z
LAST-MODIFIED:20251229T170111Z
UID:10010194-1767686400-1798542000@www.castlepinesconnection.com
SUMMARY:Coffee Chat Tuesday
DESCRIPTION:
URL:https://www.castlepinesconnection.com/event/coffee-chat-tuesday-4/2026-01-06/
LOCATION:Douglas County Libraries – Castle Pines\, 360 Village Squart Lane\, Castle Pines\, CO\, 80108
CATEGORIES:Book Club,CO,Castle Pines,Douglas County,Senior
ATTACH;FMTTYPE=image/jpeg:https://www.castlepinesconnection.com/wp-content/uploads/2020/01/DouglasCountyLibrarieslogo-e1735239504162.jpg
END:VEVENT
BEGIN:VEVENT
DTSTART;TZID=America/Denver:20260113T080000
DTEND;TZID=America/Denver:20270105T110000
DTSTAMP:20260420T032509
CREATED:20251229T170036Z
LAST-MODIFIED:20251229T170111Z
UID:10010195-1768291200-1799146800@www.castlepinesconnection.com
SUMMARY:Coffee Chat Tuesday
DESCRIPTION:
URL:https://www.castlepinesconnection.com/event/coffee-chat-tuesday-4/2026-01-13/
LOCATION:Douglas County Libraries – Castle Pines\, 360 Village Squart Lane\, Castle Pines\, CO\, 80108
CATEGORIES:Book Club,CO,Castle Pines,Douglas County,Senior
ATTACH;FMTTYPE=image/jpeg:https://www.castlepinesconnection.com/wp-content/uploads/2020/01/DouglasCountyLibrarieslogo-e1735239504162.jpg
END:VEVENT
BEGIN:VEVENT
DTSTART;TZID=America/Denver:20260120T080000
DTEND;TZID=America/Denver:20270112T110000
DTSTAMP:20260420T032509
CREATED:20251229T170036Z
LAST-MODIFIED:20251229T170111Z
UID:10010196-1768896000-1799751600@www.castlepinesconnection.com
SUMMARY:Coffee Chat Tuesday
DESCRIPTION:
URL:https://www.castlepinesconnection.com/event/coffee-chat-tuesday-4/2026-01-20/
LOCATION:Douglas County Libraries – Castle Pines\, 360 Village Squart Lane\, Castle Pines\, CO\, 80108
CATEGORIES:Book Club,CO,Castle Pines,Douglas County,Senior
ATTACH;FMTTYPE=image/jpeg:https://www.castlepinesconnection.com/wp-content/uploads/2020/01/DouglasCountyLibrarieslogo-e1735239504162.jpg
END:VEVENT
BEGIN:VEVENT
DTSTART;TZID=America/Denver:20260127T080000
DTEND;TZID=America/Denver:20270119T110000
DTSTAMP:20260420T032509
CREATED:20251229T170036Z
LAST-MODIFIED:20251229T170111Z
UID:10010197-1769500800-1800356400@www.castlepinesconnection.com
SUMMARY:Coffee Chat Tuesday
DESCRIPTION:
URL:https://www.castlepinesconnection.com/event/coffee-chat-tuesday-4/2026-01-27/
LOCATION:Douglas County Libraries – Castle Pines\, 360 Village Squart Lane\, Castle Pines\, CO\, 80108
CATEGORIES:Book Club,CO,Castle Pines,Douglas County,Senior
ATTACH;FMTTYPE=image/jpeg:https://www.castlepinesconnection.com/wp-content/uploads/2020/01/DouglasCountyLibrarieslogo-e1735239504162.jpg
END:VEVENT
BEGIN:VEVENT
DTSTART;TZID=America/Denver:20260203T080000
DTEND;TZID=America/Denver:20270126T110000
DTSTAMP:20260420T032509
CREATED:20251229T170036Z
LAST-MODIFIED:20251229T170111Z
UID:10010198-1770105600-1800961200@www.castlepinesconnection.com
SUMMARY:Coffee Chat Tuesday
DESCRIPTION:
URL:https://www.castlepinesconnection.com/event/coffee-chat-tuesday-4/2026-02-03/
LOCATION:Douglas County Libraries – Castle Pines\, 360 Village Squart Lane\, Castle Pines\, CO\, 80108
CATEGORIES:Book Club,CO,Castle Pines,Douglas County,Senior
ATTACH;FMTTYPE=image/jpeg:https://www.castlepinesconnection.com/wp-content/uploads/2020/01/DouglasCountyLibrarieslogo-e1735239504162.jpg
END:VEVENT
BEGIN:VEVENT
DTSTART;TZID=America/Denver:20260209T153000
DTEND;TZID=America/Denver:20260209T200000
DTSTAMP:20260420T032509
CREATED:20260126T151505Z
LAST-MODIFIED:20260126T151505Z
UID:10010309-1770651000-1770667200@www.castlepinesconnection.com
SUMMARY:Battle of the Books
DESCRIPTION:
URL:https://www.castlepinesconnection.com/event/battle-of-the-books-2/
LOCATION:Douglas County Libraries – Castle Pines\, 360 Village Squart Lane\, Castle Pines\, CO\, 80108
CATEGORIES:CO,Castle Pines,Douglas County,Educational,Volunteer
ATTACH;FMTTYPE=image/jpeg:https://www.castlepinesconnection.com/wp-content/uploads/2020/12/dclibrariesLogoBoxedforWeb-e1701117552989.jpg
END:VEVENT
BEGIN:VEVENT
DTSTART;TZID=America/Denver:20260209T190000
DTEND;TZID=America/Denver:20260209T190000
DTSTAMP:20260420T032509
CREATED:20260126T151756Z
LAST-MODIFIED:20260126T151845Z
UID:10010310-1770663600-1770663600@www.castlepinesconnection.com
SUMMARY:Nuggets vs. Cavaliers
DESCRIPTION:
URL:https://www.castlepinesconnection.com/event/nuggets-vs-cavaliers-2/
LOCATION:Ball Arena\, 1000 Chopper Circle\, Denver\, Denver\, 80204
CATEGORIES:CO,Denver,Nuggets,Sports
END:VEVENT
BEGIN:VEVENT
DTSTART;VALUE=DATE:20260210
DTEND;VALUE=DATE:20260211
DTSTAMP:20260420T032509
CREATED:20260126T152011Z
LAST-MODIFIED:20260126T152011Z
UID:10010311-1770681600-1770767999@www.castlepinesconnection.com
SUMMARY:FREE DAY Denver Art Museum
DESCRIPTION:
URL:https://www.castlepinesconnection.com/event/free-day-denver-art-museum-31/
LOCATION:Denver Art Musuem\, 100 West 14th Avenue Parkway\, Denver\, CO\, 80204\, United States
CATEGORIES:Art,Art Show,CO,Denver,Family event,Free Day,Museum
ATTACH;FMTTYPE=image/jpeg:https://www.castlepinesconnection.com/wp-content/uploads/2021/10/DenverArtMuseumLogo-e1708832791108.jpg
END:VEVENT
BEGIN:VEVENT
DTSTART;TZID=America/Denver:20260210T080000
DTEND;TZID=America/Denver:20270202T110000
DTSTAMP:20260420T032509
CREATED:20251229T170036Z
LAST-MODIFIED:20251229T170111Z
UID:10010199-1770710400-1801566000@www.castlepinesconnection.com
SUMMARY:Coffee Chat Tuesday
DESCRIPTION:
URL:https://www.castlepinesconnection.com/event/coffee-chat-tuesday-4/2026-02-10/
LOCATION:Douglas County Libraries – Castle Pines\, 360 Village Squart Lane\, Castle Pines\, CO\, 80108
CATEGORIES:Book Club,CO,Castle Pines,Douglas County,Senior
ATTACH;FMTTYPE=image/jpeg:https://www.castlepinesconnection.com/wp-content/uploads/2020/01/DouglasCountyLibrarieslogo-e1735239504162.jpg
END:VEVENT
BEGIN:VEVENT
DTSTART;TZID=America/Denver:20260210T170000
DTEND;TZID=America/Denver:20260210T180000
DTSTAMP:20260420T032509
CREATED:20260126T152214Z
LAST-MODIFIED:20260126T152214Z
UID:10010312-1770742800-1770746400@www.castlepinesconnection.com
SUMMARY:Junior Page Turners Book Club
DESCRIPTION:
URL:https://www.castlepinesconnection.com/event/junior-page-turners-book-club-8/
LOCATION:Douglas County Libraries – Castle Pines\, 360 Village Squart Lane\, Castle Pines\, CO\, 80108
CATEGORIES:Book Club,CO,Castle Pines,Douglas County,Educational,Family event,Fun
ATTACH;FMTTYPE=image/jpeg:https://www.castlepinesconnection.com/wp-content/uploads/2020/12/dclibrariesLogoBoxedforWeb-e1701117552989.jpg
END:VEVENT
BEGIN:VEVENT
DTSTART;TZID=America/Denver:20260211T200000
DTEND;TZID=America/Denver:20260211T200000
DTSTAMP:20260420T032509
CREATED:20260126T152353Z
LAST-MODIFIED:20260126T152423Z
UID:10010313-1770840000-1770840000@www.castlepinesconnection.com
SUMMARY:Nuggets vs. Grizzlies
DESCRIPTION:
URL:https://www.castlepinesconnection.com/event/nuggets-vs-grizzlies/
LOCATION:Ball Arena\, 1000 Chopper Circle\, Denver\, Denver\, 80204
CATEGORIES:CO,Denver,Nuggets,Sports
END:VEVENT
BEGIN:VEVENT
DTSTART;VALUE=DATE:20260212
DTEND;VALUE=DATE:20260213
DTSTAMP:20260420T032509
CREATED:20260126T152534Z
LAST-MODIFIED:20260126T152534Z
UID:10010314-1770854400-1770940799@www.castlepinesconnection.com
SUMMARY:FREE DAY York Street and Chatfield Farms
DESCRIPTION:
URL:https://www.castlepinesconnection.com/event/free-day-york-street-and-chatfield-farms-3/
LOCATION:Denver Botanic Garden Chatfield Farms\, 8500 Deer Creek Canyon Road\, Littleton\, CO\, 80128
CATEGORIES:CO,Denver,Family event,Free Day,Fun,Museum,Nature,Nature Walk
ATTACH;FMTTYPE=image/jpeg:https://www.castlepinesconnection.com/wp-content/uploads/2020/10/Denver-Botanic-Gardens-LogoWeb-e1761334965506.jpg
END:VEVENT
BEGIN:VEVENT
DTSTART;VALUE=DATE:20260213
DTEND;VALUE=DATE:20260215
DTSTAMP:20260420T032509
CREATED:20260126T152713Z
LAST-MODIFIED:20260126T152713Z
UID:10010315-1770940800-1771113599@www.castlepinesconnection.com
SUMMARY:Valentines Tea with Tour
DESCRIPTION:
URL:https://www.castlepinesconnection.com/event/valentines-tea-with-tour-4/
LOCATION:Cherokee Ranch & Castle\, 6113 N Daniels Park Rd\, Sedalia\, CO\, 80135\, United States
CATEGORIES:CO,Castle Pines,Family event,Fun
ATTACH;FMTTYPE=image/png:https://www.castlepinesconnection.com/wp-content/uploads/2024/08/cherokeeranchandcastle-e1732313724886.png
END:VEVENT
BEGIN:VEVENT
DTSTART;TZID=America/Denver:20260213T193000
DTEND;TZID=America/Denver:20260213T193000
DTSTAMP:20260420T032509
CREATED:20260126T173625Z
LAST-MODIFIED:20260126T173625Z
UID:10010316-1771011000-1771011000@www.castlepinesconnection.com
SUMMARY:A Mardi Gras Celebration: Dirty Dozen Brass Band
DESCRIPTION:
URL:https://www.castlepinesconnection.com/event/a-mardi-gras-celebration-dirty-dozen-brass-band/
LOCATION:Lone Tree Arts Center\, 10075 Commons St\, Lone Tree\, CO\, 80124\, United States
CATEGORIES:Art,CO,Concert,Douglas County,Live Music,Lone Tree,Performing Arts,Shows,Singer,concert
END:VEVENT
BEGIN:VEVENT
DTSTART;VALUE=DATE:20260214
DTEND;VALUE=DATE:20260223
DTSTAMP:20260420T032509
CREATED:20260128T160412Z
LAST-MODIFIED:20260128T160412Z
UID:10010341-1771027200-1771804799@www.castlepinesconnection.com
SUMMARY:Colorado Garden & Home Show
DESCRIPTION:
URL:https://www.castlepinesconnection.com/event/colorado-garden-home-show-2/
LOCATION:Colorado Convention Center\, 700 14th Street\, Denver\, CO\, 80202
ATTACH;FMTTYPE=image/png:https://www.castlepinesconnection.com/wp-content/uploads/2026/01/CGHS-Logo-e1769616219470.png
END:VEVENT
BEGIN:VEVENT
DTSTART;TZID=America/Denver:20260214T100000
DTEND;TZID=America/Denver:20260214T100000
DTSTAMP:20260420T032509
CREATED:20260126T173834Z
LAST-MODIFIED:20260126T173834Z
UID:10010317-1771063200-1771063200@www.castlepinesconnection.com
SUMMARY:Love ‘em or Leave ‘em Valentine’s Day 5K/10K
DESCRIPTION:
URL:https://www.castlepinesconnection.com/event/love-em-or-leave-em-valentines-day-5k-10k-2/
LOCATION:Salisbury Equestrian Park\, 11920 N. Motsenbocker Road\, Parker\, CO\, 80134
CATEGORIES:CO,Douglas County,Marathon,Parker,Run,Running,Sports
END:VEVENT
BEGIN:VEVENT
DTSTART;TZID=America/Denver:20260214T130000
DTEND;TZID=America/Denver:20260214T130000
DTSTAMP:20260420T032509
CREATED:20260126T174024Z
LAST-MODIFIED:20260126T174037Z
UID:10010318-1771074000-1771074000@www.castlepinesconnection.com
SUMMARY:Branch & Bloom Educational Workshop
DESCRIPTION:
URL:https://www.castlepinesconnection.com/event/branch-bloom-educational-workshop-2/
LOCATION:Lone Tree Arts Center\, 10075 Commons St\, Lone Tree\, CO\, 80124\, United States
CATEGORIES:Art,CO,Dance,Douglas County,Educational,Lecture,Lone Tree,Performing Arts,Shows
END:VEVENT
BEGIN:VEVENT
DTSTART;TZID=America/Denver:20260215T133000
DTEND;TZID=America/Denver:20260215T133000
DTSTAMP:20260420T032509
CREATED:20260126T174402Z
LAST-MODIFIED:20260126T174428Z
UID:10010319-1771162200-1771162200@www.castlepinesconnection.com
SUMMARY:The Jersey's Rock the Castle - MATINEE!
DESCRIPTION:
URL:https://www.castlepinesconnection.com/event/the-jerseys-rock-the-castle-matinee/
LOCATION:Cherokee Ranch & Castle\, 6113 N Daniels Park Rd\, Sedalia\, CO\, 80135\, United States
CATEGORIES:CO,Castle Pines,Family event,Fun
ATTACH;FMTTYPE=image/png:https://www.castlepinesconnection.com/wp-content/uploads/2024/08/cherokeeranchandcastle-e1732313724886.png
END:VEVENT
END:VCALENDAR