BEGIN:VCALENDAR
VERSION:2.0
PRODID:-//The Castle Pines Connection - ECPv6.15.15//NONSGML v1.0//EN
CALSCALE:GREGORIAN
METHOD:PUBLISH
X-WR-CALNAME:The Castle Pines Connection
X-ORIGINAL-URL:https://www.castlepinesconnection.com
X-WR-CALDESC:Events for The Castle Pines Connection
REFRESH-INTERVAL;VALUE=DURATION:PT1H
X-Robots-Tag:noindex
X-PUBLISHED-TTL:PT1H
BEGIN:VTIMEZONE
TZID:America/Denver
BEGIN:DAYLIGHT
TZOFFSETFROM:-0700
TZOFFSETTO:-0600
TZNAME:MDT
DTSTART:20250309T090000
END:DAYLIGHT
BEGIN:STANDARD
TZOFFSETFROM:-0600
TZOFFSETTO:-0700
TZNAME:MST
DTSTART:20251102T080000
END:STANDARD
BEGIN:DAYLIGHT
TZOFFSETFROM:-0700
TZOFFSETTO:-0600
TZNAME:MDT
DTSTART:20260308T090000
END:DAYLIGHT
BEGIN:STANDARD
TZOFFSETFROM:-0600
TZOFFSETTO:-0700
TZNAME:MST
DTSTART:20261101T080000
END:STANDARD
BEGIN:DAYLIGHT
TZOFFSETFROM:-0700
TZOFFSETTO:-0600
TZNAME:MDT
DTSTART:20270314T090000
END:DAYLIGHT
BEGIN:STANDARD
TZOFFSETFROM:-0600
TZOFFSETTO:-0700
TZNAME:MST
DTSTART:20271107T080000
END:STANDARD
BEGIN:DAYLIGHT
TZOFFSETFROM:-0700
TZOFFSETTO:-0600
TZNAME:MDT
DTSTART:20280312T090000
END:DAYLIGHT
BEGIN:STANDARD
TZOFFSETFROM:-0600
TZOFFSETTO:-0700
TZNAME:MST
DTSTART:20281105T080000
END:STANDARD
END:VTIMEZONE
BEGIN:VEVENT
DTSTART;TZID=America/Denver:20260106T080000
DTEND;TZID=America/Denver:20261229T110000
DTSTAMP:20260420T012102
CREATED:20251229T170036Z
LAST-MODIFIED:20251229T170111Z
UID:10010194-1767686400-1798542000@www.castlepinesconnection.com
SUMMARY:Coffee Chat Tuesday
DESCRIPTION:
URL:https://www.castlepinesconnection.com/event/coffee-chat-tuesday-4/2026-01-06/
LOCATION:Douglas County Libraries – Castle Pines\, 360 Village Squart Lane\, Castle Pines\, CO\, 80108
CATEGORIES:Book Club,CO,Castle Pines,Douglas County,Senior
ATTACH;FMTTYPE=image/jpeg:https://www.castlepinesconnection.com/wp-content/uploads/2020/01/DouglasCountyLibrarieslogo-e1735239504162.jpg
END:VEVENT
BEGIN:VEVENT
DTSTART;TZID=America/Denver:20260113T080000
DTEND;TZID=America/Denver:20270105T110000
DTSTAMP:20260420T012102
CREATED:20251229T170036Z
LAST-MODIFIED:20251229T170111Z
UID:10010195-1768291200-1799146800@www.castlepinesconnection.com
SUMMARY:Coffee Chat Tuesday
DESCRIPTION:
URL:https://www.castlepinesconnection.com/event/coffee-chat-tuesday-4/2026-01-13/
LOCATION:Douglas County Libraries – Castle Pines\, 360 Village Squart Lane\, Castle Pines\, CO\, 80108
CATEGORIES:Book Club,CO,Castle Pines,Douglas County,Senior
ATTACH;FMTTYPE=image/jpeg:https://www.castlepinesconnection.com/wp-content/uploads/2020/01/DouglasCountyLibrarieslogo-e1735239504162.jpg
END:VEVENT
BEGIN:VEVENT
DTSTART;TZID=America/Denver:20260120T080000
DTEND;TZID=America/Denver:20270112T110000
DTSTAMP:20260420T012102
CREATED:20251229T170036Z
LAST-MODIFIED:20251229T170111Z
UID:10010196-1768896000-1799751600@www.castlepinesconnection.com
SUMMARY:Coffee Chat Tuesday
DESCRIPTION:
URL:https://www.castlepinesconnection.com/event/coffee-chat-tuesday-4/2026-01-20/
LOCATION:Douglas County Libraries – Castle Pines\, 360 Village Squart Lane\, Castle Pines\, CO\, 80108
CATEGORIES:Book Club,CO,Castle Pines,Douglas County,Senior
ATTACH;FMTTYPE=image/jpeg:https://www.castlepinesconnection.com/wp-content/uploads/2020/01/DouglasCountyLibrarieslogo-e1735239504162.jpg
END:VEVENT
BEGIN:VEVENT
DTSTART;TZID=America/Denver:20260127T080000
DTEND;TZID=America/Denver:20270119T110000
DTSTAMP:20260420T012102
CREATED:20251229T170036Z
LAST-MODIFIED:20251229T170111Z
UID:10010197-1769500800-1800356400@www.castlepinesconnection.com
SUMMARY:Coffee Chat Tuesday
DESCRIPTION:
URL:https://www.castlepinesconnection.com/event/coffee-chat-tuesday-4/2026-01-27/
LOCATION:Douglas County Libraries – Castle Pines\, 360 Village Squart Lane\, Castle Pines\, CO\, 80108
CATEGORIES:Book Club,CO,Castle Pines,Douglas County,Senior
ATTACH;FMTTYPE=image/jpeg:https://www.castlepinesconnection.com/wp-content/uploads/2020/01/DouglasCountyLibrarieslogo-e1735239504162.jpg
END:VEVENT
BEGIN:VEVENT
DTSTART;TZID=America/Denver:20260203T080000
DTEND;TZID=America/Denver:20270126T110000
DTSTAMP:20260420T012102
CREATED:20251229T170036Z
LAST-MODIFIED:20251229T170111Z
UID:10010198-1770105600-1800961200@www.castlepinesconnection.com
SUMMARY:Coffee Chat Tuesday
DESCRIPTION:
URL:https://www.castlepinesconnection.com/event/coffee-chat-tuesday-4/2026-02-03/
LOCATION:Douglas County Libraries – Castle Pines\, 360 Village Squart Lane\, Castle Pines\, CO\, 80108
CATEGORIES:Book Club,CO,Castle Pines,Douglas County,Senior
ATTACH;FMTTYPE=image/jpeg:https://www.castlepinesconnection.com/wp-content/uploads/2020/01/DouglasCountyLibrarieslogo-e1735239504162.jpg
END:VEVENT
BEGIN:VEVENT
DTSTART;TZID=America/Denver:20260210T080000
DTEND;TZID=America/Denver:20270202T110000
DTSTAMP:20260420T012102
CREATED:20251229T170036Z
LAST-MODIFIED:20251229T170111Z
UID:10010199-1770710400-1801566000@www.castlepinesconnection.com
SUMMARY:Coffee Chat Tuesday
DESCRIPTION:
URL:https://www.castlepinesconnection.com/event/coffee-chat-tuesday-4/2026-02-10/
LOCATION:Douglas County Libraries – Castle Pines\, 360 Village Squart Lane\, Castle Pines\, CO\, 80108
CATEGORIES:Book Club,CO,Castle Pines,Douglas County,Senior
ATTACH;FMTTYPE=image/jpeg:https://www.castlepinesconnection.com/wp-content/uploads/2020/01/DouglasCountyLibrarieslogo-e1735239504162.jpg
END:VEVENT
BEGIN:VEVENT
DTSTART;TZID=America/Denver:20260217T080000
DTEND;TZID=America/Denver:20270209T110000
DTSTAMP:20260420T012102
CREATED:20251229T170036Z
LAST-MODIFIED:20251229T170111Z
UID:10010200-1771315200-1802170800@www.castlepinesconnection.com
SUMMARY:Coffee Chat Tuesday
DESCRIPTION:
URL:https://www.castlepinesconnection.com/event/coffee-chat-tuesday-4/2026-02-17/
LOCATION:Douglas County Libraries – Castle Pines\, 360 Village Squart Lane\, Castle Pines\, CO\, 80108
CATEGORIES:Book Club,CO,Castle Pines,Douglas County,Senior
ATTACH;FMTTYPE=image/jpeg:https://www.castlepinesconnection.com/wp-content/uploads/2020/01/DouglasCountyLibrarieslogo-e1735239504162.jpg
END:VEVENT
BEGIN:VEVENT
DTSTART;TZID=America/Denver:20260224T080000
DTEND;TZID=America/Denver:20270216T110000
DTSTAMP:20260420T012102
CREATED:20251229T170036Z
LAST-MODIFIED:20251229T170111Z
UID:10010201-1771920000-1802775600@www.castlepinesconnection.com
SUMMARY:Coffee Chat Tuesday
DESCRIPTION:
URL:https://www.castlepinesconnection.com/event/coffee-chat-tuesday-4/2026-02-24/
LOCATION:Douglas County Libraries – Castle Pines\, 360 Village Squart Lane\, Castle Pines\, CO\, 80108
CATEGORIES:Book Club,CO,Castle Pines,Douglas County,Senior
ATTACH;FMTTYPE=image/jpeg:https://www.castlepinesconnection.com/wp-content/uploads/2020/01/DouglasCountyLibrarieslogo-e1735239504162.jpg
END:VEVENT
BEGIN:VEVENT
DTSTART;TZID=America/Denver:20260303T080000
DTEND;TZID=America/Denver:20270223T110000
DTSTAMP:20260420T012102
CREATED:20251229T170036Z
LAST-MODIFIED:20251229T170111Z
UID:10010202-1772524800-1803380400@www.castlepinesconnection.com
SUMMARY:Coffee Chat Tuesday
DESCRIPTION:
URL:https://www.castlepinesconnection.com/event/coffee-chat-tuesday-4/2026-03-03/
LOCATION:Douglas County Libraries – Castle Pines\, 360 Village Squart Lane\, Castle Pines\, CO\, 80108
CATEGORIES:Book Club,CO,Castle Pines,Douglas County,Senior
ATTACH;FMTTYPE=image/jpeg:https://www.castlepinesconnection.com/wp-content/uploads/2020/01/DouglasCountyLibrarieslogo-e1735239504162.jpg
END:VEVENT
BEGIN:VEVENT
DTSTART;TZID=America/Denver:20260310T080000
DTEND;TZID=America/Denver:20270302T100000
DTSTAMP:20260420T012102
CREATED:20251229T170036Z
LAST-MODIFIED:20251229T170111Z
UID:10010203-1773129600-1803981600@www.castlepinesconnection.com
SUMMARY:Coffee Chat Tuesday
DESCRIPTION:
URL:https://www.castlepinesconnection.com/event/coffee-chat-tuesday-4/2026-03-10/
LOCATION:Douglas County Libraries – Castle Pines\, 360 Village Squart Lane\, Castle Pines\, CO\, 80108
CATEGORIES:Book Club,CO,Castle Pines,Douglas County,Senior
ATTACH;FMTTYPE=image/jpeg:https://www.castlepinesconnection.com/wp-content/uploads/2020/01/DouglasCountyLibrarieslogo-e1735239504162.jpg
END:VEVENT
BEGIN:VEVENT
DTSTART;VALUE=DATE:20260314
DTEND;VALUE=DATE:20260330
DTSTAMP:20260420T012102
CREATED:20260223T171618Z
LAST-MODIFIED:20260223T171618Z
UID:10010370-1773446400-1774828799@www.castlepinesconnection.com
SUMMARY:Goodnight Moon
DESCRIPTION:
URL:https://www.castlepinesconnection.com/event/goodnight-moon/
LOCATION:The Schoolhouse Parker\, 19650 E. MAINSTREET\, Parker\, Colorado\, 80138
CATEGORIES:Art,Art Show,CO,Douglas County,Family event,Parker,Performing Arts,Shows,Singer,theater
ATTACH;FMTTYPE=image/png:https://www.castlepinesconnection.com/wp-content/uploads/2020/01/ParkerArtsWithPaceSchoolhouse-e1729867324979.png
END:VEVENT
BEGIN:VEVENT
DTSTART;VALUE=DATE:20260316
DTEND;VALUE=DATE:20260317
DTSTAMP:20260420T012102
CREATED:20260223T172222Z
LAST-MODIFIED:20260223T172222Z
UID:10010372-1773619200-1773705599@www.castlepinesconnection.com
SUMMARY:Goodnight Moon – Nursery Rhyme Sing Along
DESCRIPTION:Two Shows: 10 a.m. & Noon
URL:https://www.castlepinesconnection.com/event/goodnight-moon-nursery-rhyme-sing-along/
LOCATION:The Schoolhouse Parker\, 19650 E. MAINSTREET\, Parker\, Colorado\, 80138
CATEGORIES:Art,Art Show,CO,Douglas County,Family event,Musical,Parker,Performing Arts,Shows,Singer,theater
ATTACH;FMTTYPE=image/png:https://www.castlepinesconnection.com/wp-content/uploads/2020/01/ParkerArtsWithPaceSchoolhouse-e1729867324979.png
END:VEVENT
BEGIN:VEVENT
DTSTART;TZID=America/Denver:20260316T193000
DTEND;TZID=America/Denver:20260316T193000
DTSTAMP:20260420T012102
CREATED:20260223T172421Z
LAST-MODIFIED:20260223T172440Z
UID:10010373-1773689400-1773689400@www.castlepinesconnection.com
SUMMARY:Avalanche vs. Penguins
DESCRIPTION:
URL:https://www.castlepinesconnection.com/event/avalanche-vs-penguins/
LOCATION:Ball Arena\, 1000 Chopper Circle\, Denver\, Denver\, 80204
CATEGORIES:CO,Denver
ATTACH;FMTTYPE=image/jpeg:https://www.castlepinesconnection.com/wp-content/uploads/2022/06/34-colorado-avalanche-logo-e1763742320258.jpg
END:VEVENT
BEGIN:VEVENT
DTSTART;VALUE=DATE:20260317
DTEND;VALUE=DATE:20260407
DTSTAMP:20260420T012102
CREATED:20260223T172742Z
LAST-MODIFIED:20260223T172742Z
UID:10010374-1773705600-1775519999@www.castlepinesconnection.com
SUMMARY:March Madness
DESCRIPTION:
URL:https://www.castlepinesconnection.com/event/march-madness/
LOCATION:Co
END:VEVENT
BEGIN:VEVENT
DTSTART;TZID=America/Denver:20260317T080000
DTEND;TZID=America/Denver:20270309T100000
DTSTAMP:20260420T012102
CREATED:20251229T170036Z
LAST-MODIFIED:20251229T170111Z
UID:10010204-1773734400-1804586400@www.castlepinesconnection.com
SUMMARY:Coffee Chat Tuesday
DESCRIPTION:
URL:https://www.castlepinesconnection.com/event/coffee-chat-tuesday-4/2026-03-17/
LOCATION:Douglas County Libraries – Castle Pines\, 360 Village Squart Lane\, Castle Pines\, CO\, 80108
CATEGORIES:Book Club,CO,Castle Pines,Douglas County,Senior
ATTACH;FMTTYPE=image/jpeg:https://www.castlepinesconnection.com/wp-content/uploads/2020/01/DouglasCountyLibrarieslogo-e1735239504162.jpg
END:VEVENT
BEGIN:VEVENT
DTSTART;TZID=America/Denver:20260317T190000
DTEND;TZID=America/Denver:20260317T190000
DTSTAMP:20260420T012102
CREATED:20260223T173108Z
LAST-MODIFIED:20260223T173128Z
UID:10010375-1773774000-1773774000@www.castlepinesconnection.com
SUMMARY:Nuggets vs. 76ers
DESCRIPTION:
URL:https://www.castlepinesconnection.com/event/nuggets-vs-76ers-2/
LOCATION:Ball Arena\, 1000 Chopper Circle\, Denver\, Denver\, 80204
CATEGORIES:CO,Denver,Nuggets,Sports
END:VEVENT
BEGIN:VEVENT
DTSTART;TZID=America/Denver:20260318T133000
DTEND;TZID=America/Denver:20260318T133000
DTSTAMP:20260420T012102
CREATED:20260223T173348Z
LAST-MODIFIED:20260223T173348Z
UID:10010376-1773840600-1773840600@www.castlepinesconnection.com
SUMMARY:Arts in the Afternoon Opera Colorado: Romeo and Juliet
DESCRIPTION:
URL:https://www.castlepinesconnection.com/event/arts-in-the-afternoon-opera-colorado-romeo-and-juliet/
LOCATION:Lone Tree Arts Center\, 10075 Commons St\, Lone Tree\, CO\, 80124\, United States
CATEGORIES:Art,CO,Concert,Dance,Douglas County,Fun,Live Music,Lone Tree,Performing Arts,Senior,Shows,Singer,concert
END:VEVENT
BEGIN:VEVENT
DTSTART;TZID=America/Denver:20260318T173000
DTEND;TZID=America/Denver:20260318T193000
DTSTAMP:20260420T012102
CREATED:20260223T173749Z
LAST-MODIFIED:20260223T173749Z
UID:10010377-1773855000-1773862200@www.castlepinesconnection.com
SUMMARY:Fired Up - I Want to Start a Business
DESCRIPTION:
URL:https://www.castlepinesconnection.com/event/fired-up-i-want-to-start-a-business-3/
LOCATION:Douglas County Libraries – Castle Pines\, 360 Village Squart Lane\, Castle Pines\, CO\, 80108
CATEGORIES:Castle Pines
ATTACH;FMTTYPE=image/jpeg:https://www.castlepinesconnection.com/wp-content/uploads/2020/12/dclibrariesLogoBoxedforWeb-e1701117552989.jpg
END:VEVENT
BEGIN:VEVENT
DTSTART;TZID=America/Denver:20260319T133000
DTEND;TZID=America/Denver:20260319T133000
DTSTAMP:20260420T012102
CREATED:20260223T173949Z
LAST-MODIFIED:20260223T173949Z
UID:10010378-1773927000-1773927000@www.castlepinesconnection.com
SUMMARY:SPARK! Hands on Activity: Tagawa Gardens
DESCRIPTION:
URL:https://www.castlepinesconnection.com/event/spark-hands-on-activity-tagawa-gardens/
LOCATION:Lone Tree Arts Center\, 10075 Commons St\, Lone Tree\, CO\, 80124\, United States
CATEGORIES:CO,Dance,Douglas County,Lone Tree,Performing Arts,Senior,Shows
ATTACH;FMTTYPE=image/jpeg:https://www.castlepinesconnection.com/wp-content/uploads/2017/02/SparkLogo-1-e1735250503799.jpg
END:VEVENT
BEGIN:VEVENT
DTSTART;TZID=America/Denver:20260319T193000
DTEND;TZID=America/Denver:20260319T193000
DTSTAMP:20260420T012102
CREATED:20260223T174318Z
LAST-MODIFIED:20260223T174318Z
UID:10010379-1773948600-1773948600@www.castlepinesconnection.com
SUMMARY:The Young Dubliners
DESCRIPTION:
URL:https://www.castlepinesconnection.com/event/the-young-dubliners/
LOCATION:PACE Center\, 20000 Pikes Peak Avenue\, Parker\, CO\, 80138
CATEGORIES:CO,Concert,Douglas County,Live Music,Parker,Performing Arts,Shows,St. Patrick's Day,Symphony,concert
ATTACH;FMTTYPE=image/png:https://www.castlepinesconnection.com/wp-content/uploads/2020/01/ParkerArtsWithPaceSchoolhouse-e1729867324979.png
END:VEVENT
BEGIN:VEVENT
DTSTART;TZID=America/Denver:20260320T180000
DTEND;TZID=America/Denver:20260320T180000
DTSTAMP:20260420T012102
CREATED:20260223T174548Z
LAST-MODIFIED:20260223T174548Z
UID:10010380-1774029600-1774029600@www.castlepinesconnection.com
SUMMARY:Wine Tasting at the Castle!
DESCRIPTION:
URL:https://www.castlepinesconnection.com/event/wine-tasting-at-the-castle-9/
LOCATION:Cherokee Ranch & Castle\, 6113 N Daniels Park Rd\, Sedalia\, CO\, 80135\, United States
CATEGORIES:CO,Castle Pines,Douglas County,Food & Tasting
END:VEVENT
BEGIN:VEVENT
DTSTART;TZID=America/Denver:20260320T180000
DTEND;TZID=America/Denver:20260320T180000
DTSTAMP:20260420T012102
CREATED:20260223T174950Z
LAST-MODIFIED:20260223T174950Z
UID:10010381-1774029600-1774029600@www.castlepinesconnection.com
SUMMARY:A Celtic Castle with the Denver Brass 5 & Colorado Pipes & Drum
DESCRIPTION:
URL:https://www.castlepinesconnection.com/event/a-celtic-castle/
LOCATION:Cherokee Ranch & Castle\, 6113 N Daniels Park Rd\, Sedalia\, CO\, 80135\, United States
CATEGORIES:CO,Castle Pines,Douglas County,Live Music,Performing Arts,Shows,Singer
END:VEVENT
BEGIN:VEVENT
DTSTART;TZID=America/Denver:20260321T193000
DTEND;TZID=America/Denver:20260321T193000
DTSTAMP:20260420T012102
CREATED:20260223T175344Z
LAST-MODIFIED:20260223T175415Z
UID:10010382-1774121400-1774121400@www.castlepinesconnection.com
SUMMARY:A St. Patrick's Day Celebration with Solas
DESCRIPTION:
URL:https://www.castlepinesconnection.com/event/a-st-patricks-day-celebration-with-solas/
LOCATION:Lone Tree Arts Center\, 10075 Commons St\, Lone Tree\, CO\, 80124\, United States
CATEGORIES:CO,Concert,Douglas County,Live Music,Lone Tree,Orchestra,Performing Arts,Shows,concert
END:VEVENT
BEGIN:VEVENT
DTSTART;TZID=America/Denver:20260322T150000
DTEND;TZID=America/Denver:20260322T150000
DTSTAMP:20260420T012102
CREATED:20260223T175632Z
LAST-MODIFIED:20260223T175648Z
UID:10010383-1774191600-1774191600@www.castlepinesconnection.com
SUMMARY:Nuggets vs. Trail Blazers
DESCRIPTION:
URL:https://www.castlepinesconnection.com/event/nuggets-vs-trail-blazers-2/
LOCATION:Ball Arena\, 1000 Chopper Circle\, Denver\, Denver\, 80204
CATEGORIES:CO,Denver,Nuggets,Sports
END:VEVENT
END:VCALENDAR