BEGIN:VCALENDAR
VERSION:2.0
PRODID:-//The Castle Pines Connection - ECPv6.15.15//NONSGML v1.0//EN
CALSCALE:GREGORIAN
METHOD:PUBLISH
X-ORIGINAL-URL:https://www.castlepinesconnection.com
X-WR-CALDESC:Events for The Castle Pines Connection
REFRESH-INTERVAL;VALUE=DURATION:PT1H
X-Robots-Tag:noindex
X-PUBLISHED-TTL:PT1H
BEGIN:VTIMEZONE
TZID:America/Denver
BEGIN:DAYLIGHT
TZOFFSETFROM:-0700
TZOFFSETTO:-0600
TZNAME:MDT
DTSTART:20200308T090000
END:DAYLIGHT
BEGIN:STANDARD
TZOFFSETFROM:-0600
TZOFFSETTO:-0700
TZNAME:MST
DTSTART:20201101T080000
END:STANDARD
BEGIN:DAYLIGHT
TZOFFSETFROM:-0700
TZOFFSETTO:-0600
TZNAME:MDT
DTSTART:20210314T090000
END:DAYLIGHT
BEGIN:STANDARD
TZOFFSETFROM:-0600
TZOFFSETTO:-0700
TZNAME:MST
DTSTART:20211107T080000
END:STANDARD
BEGIN:DAYLIGHT
TZOFFSETFROM:-0700
TZOFFSETTO:-0600
TZNAME:MDT
DTSTART:20220313T090000
END:DAYLIGHT
BEGIN:STANDARD
TZOFFSETFROM:-0600
TZOFFSETTO:-0700
TZNAME:MST
DTSTART:20221106T080000
END:STANDARD
BEGIN:DAYLIGHT
TZOFFSETFROM:-0700
TZOFFSETTO:-0600
TZNAME:MDT
DTSTART:20230312T090000
END:DAYLIGHT
BEGIN:STANDARD
TZOFFSETFROM:-0600
TZOFFSETTO:-0700
TZNAME:MST
DTSTART:20231105T080000
END:STANDARD
BEGIN:DAYLIGHT
TZOFFSETFROM:-0700
TZOFFSETTO:-0600
TZNAME:MDT
DTSTART:20240310T090000
END:DAYLIGHT
BEGIN:STANDARD
TZOFFSETFROM:-0600
TZOFFSETTO:-0700
TZNAME:MST
DTSTART:20241103T080000
END:STANDARD
END:VTIMEZONE
BEGIN:VEVENT
DTSTART;TZID=America/Denver:20230304T130000
DTEND;TZID=America/Denver:20230304T143000
DTSTAMP:20260425T144015
CREATED:20230219T020623Z
LAST-MODIFIED:20230219T020623Z
UID:10005942-1677934800-1677940200@www.castlepinesconnection.com
SUMMARY:Fairy Tale Ball: Robin Hood
DESCRIPTION:Fairy Tale Ball: Robin Hood\n\nSaturday\, March 04\, 2023\n 1:00 PM – 2:30 PM\n\nOur Castle Pines Fairy Tale Ball is a smaller\, more intimate experience than at our larger locations. Please join us and see what it’s like to hang out with Robin Hood! Get to know the hero of Nottingham while taking part in some light crafting\, a fun activity\, and a special Storytime. \nThis event is ideal for ages 4-10\, but all ages are welcome. Costumes are encouraged!
URL:https://www.castlepinesconnection.com/event/fairy-tale-ball-robin-hood/
CATEGORIES:Dance,Family event,Fun
ATTACH;FMTTYPE=image/jpeg:https://www.castlepinesconnection.com/wp-content/uploads/2023/02/robinhoodball.jpg
END:VEVENT
BEGIN:VEVENT
DTSTART;TZID=America/Denver:20220604T100000
DTEND;TZID=America/Denver:20220604T113000
DTSTAMP:20260425T144015
CREATED:20220523T170943Z
LAST-MODIFIED:20220523T171054Z
UID:10004773-1654336800-1654342200@www.castlepinesconnection.com
SUMMARY:Summer Reading Registration
DESCRIPTION:
URL:https://www.castlepinesconnection.com/event/summer-reading-registration/
LOCATION:Douglas County Libraries – Castle Pines\, 360 Village Squart Lane\, Castle Pines\, CO\, 80108
ATTACH;FMTTYPE=image/jpeg:https://www.castlepinesconnection.com/wp-content/uploads/2020/12/dclibrariesLogoBoxedforWeb-e1701117552989.jpg
END:VEVENT
BEGIN:VEVENT
DTSTART;TZID=America/Denver:20220323T180000
DTEND;TZID=America/Denver:20220323T190000
DTSTAMP:20260425T144015
CREATED:20220221T203802Z
LAST-MODIFIED:20220221T203849Z
UID:10003638-1648058400-1648062000@www.castlepinesconnection.com
SUMMARY:Wildfire Safety Series: The Basics of Mitigation and Home Gardening
DESCRIPTION:MARCH 23 @ 6:00 PM – 7:00 PM \nFree \nThis presentation by South Metro Fire Rescue’s Risk Reduction Specialist\, Einar Jensen\, will explain how to perform mitigation on trees\, shrubs and grasses and the science behind those strategies. \nCity of Castle Pines \nPhone:303.705.0200 \nEmail: communications@castlepinesco.gov \n\n\nhttps://www.castlepinesco.gov/event/wildfire-safety-series-the-basics-of-mitigation-and-home-gardening/ \n 
URL:https://www.castlepinesconnection.com/event/wildfire-safety-series-the-basics-of-mitigation-and-home-gardening/
LOCATION:Douglas County Libraries – Castle Pines\, 360 Village Squart Lane\, Castle Pines\, CO\, 80108
CATEGORIES:Educational,Lecture,National Parks,Nature,Safety Training
ATTACH;FMTTYPE=image/jpeg:https://www.castlepinesconnection.com/wp-content/uploads/2022/02/Wilfire_Mitigation.jpg
END:VEVENT
BEGIN:VEVENT
DTSTART;TZID=America/Denver:20220307T180000
DTEND;TZID=America/Denver:20220307T200000
DTSTAMP:20260425T144015
CREATED:20220221T183358Z
LAST-MODIFIED:20220221T184339Z
UID:10003615-1646676000-1646683200@www.castlepinesconnection.com
SUMMARY:Play Chess!
DESCRIPTION:Love to play chess? \nDid you know on Monday’s the Castle Rock Chess Club and Play Chess! Parker are two Douglas County libraries groups that gather at 6 p.m. for friendly competition among players of all ages and abilities? Check the events calendar at www.dcl.org/authors-events \nhttps://douglascountylibraries.evanced.info/signup/EventDetails?eventid=196743 \n  \n 
URL:https://www.castlepinesconnection.com/event/play-chess/
LOCATION:Douglas County Library\, 100 S Wilcox Street\, Castle Rock\, Colorado\, 80104
CATEGORIES:Chess Club,Games
ATTACH;FMTTYPE=image/png:https://www.castlepinesconnection.com/wp-content/uploads/2022/02/CastleRock_ChessClub.png
END:VEVENT
BEGIN:VEVENT
DTSTART;TZID=America/Denver:20211216T180000
DTEND;TZID=America/Denver:20211216T200000
DTSTAMP:20260425T144015
CREATED:20211122T184930Z
LAST-MODIFIED:20211122T185830Z
UID:10003303-1639677600-1639684800@www.castlepinesconnection.com
SUMMARY:A Visit with Santa
DESCRIPTION:
URL:https://www.castlepinesconnection.com/event/santa-in-the-pines-2/2021-12-16/2/
LOCATION:Douglas County Libraries – Castle Pines\, 360 Village Squart Lane\, Castle Pines\, CO\, 80108
ATTACH;FMTTYPE=image/png:https://www.castlepinesconnection.com/wp-content/uploads/2021/10/santa.png
END:VEVENT
BEGIN:VEVENT
DTSTART;TZID=America/Denver:20210723T100000
DTEND;TZID=America/Denver:20210723T103000
DTSTAMP:20260425T144015
CREATED:20210618T181458Z
LAST-MODIFIED:20210618T183926Z
UID:10002916-1627034400-1627036200@www.castlepinesconnection.com
SUMMARY:Outdoor Storytime: Castle Pines Coyote Ridge Park
DESCRIPTION:Every Friday July 2 – July 25
URL:https://www.castlepinesconnection.com/event/outdoor-storytime-castle-pines-coyote-ridge-park/2021-07-23/
ATTACH;FMTTYPE=image/jpeg:https://www.castlepinesconnection.com/wp-content/uploads/2020/12/dclibrariesLogoBoxedforWeb-e1701117552989.jpg
END:VEVENT
BEGIN:VEVENT
DTSTART;TZID=America/Denver:20210512T183000
DTEND;TZID=America/Denver:20210512T200000
DTSTAMP:20260425T144015
CREATED:20210427T223033Z
LAST-MODIFIED:20210427T223145Z
UID:10002761-1620844200-1620849600@www.castlepinesconnection.com
SUMMARY:Virtual Book Lovers at Home for adults
DESCRIPTION:
URL:https://www.castlepinesconnection.com/event/virtual-book-lovers-at-home-for-adults/
CATEGORIES:Virtual event
ATTACH;FMTTYPE=image/jpeg:https://www.castlepinesconnection.com/wp-content/uploads/2021/04/BookloversAsHome.jpg
END:VEVENT
BEGIN:VEVENT
DTSTART;TZID=America/Denver:20210504T190000
DTEND;TZID=America/Denver:20210504T200000
DTSTAMP:20260425T144015
CREATED:20210426T211027Z
LAST-MODIFIED:20210426T211027Z
UID:10002710-1620154800-1620158400@www.castlepinesconnection.com
SUMMARY:Virtual Quarantine(ish) Quiz Show – Stars Wars\, The Final Installment
DESCRIPTION:
URL:https://www.castlepinesconnection.com/event/virtual-quarantineish-quiz-show-stars-wars-the-final-installment/
ATTACH;FMTTYPE=image/jpeg:https://www.castlepinesconnection.com/wp-content/uploads/2020/12/dclibrariesLogoBoxedforWeb-e1701117552989.jpg
END:VEVENT
BEGIN:VEVENT
DTSTART;TZID=America/Denver:20210321T090000
DTEND;TZID=America/Denver:20210321T230000
DTSTAMP:20260425T144015
CREATED:20210222T202754Z
LAST-MODIFIED:20210222T202839Z
UID:10002461-1616317200-1616367600@www.castlepinesconnection.com
SUMMARY:A Storybook Holiday: “The Tale of Peter Rabbit”
DESCRIPTION:
URL:https://www.castlepinesconnection.com/event/a-storybook-holiday-the-tale-of-peter-rabbit/
ATTACH;FMTTYPE=image/png:https://www.castlepinesconnection.com/wp-content/uploads/2021/02/peter-e1614025635681.png
END:VEVENT
BEGIN:VEVENT
DTSTART;TZID=America/Denver:20210305T190000
DTEND;TZID=America/Denver:20210305T200000
DTSTAMP:20260425T144015
CREATED:20210222T163956Z
LAST-MODIFIED:20210222T164028Z
UID:10002439-1614970800-1614974400@www.castlepinesconnection.com
SUMMARY:Quarantine(ish) Quiz Show – Star Wars\, Part 2
DESCRIPTION:Registration required. Zoom link will be emailed 24 hours prior to the event.
URL:https://www.castlepinesconnection.com/event/quarantineish-quiz-show-star-wars-part-2/
CATEGORIES:Virtual event
ATTACH;FMTTYPE=image/jpeg:https://www.castlepinesconnection.com/wp-content/uploads/2020/12/dclibrariesLogoBoxedforWeb-e1701117552989.jpg
END:VEVENT
END:VCALENDAR