BEGIN:VCALENDAR
VERSION:2.0
PRODID:-//The Castle Pines Connection - ECPv6.15.15//NONSGML v1.0//EN
CALSCALE:GREGORIAN
METHOD:PUBLISH
X-WR-CALNAME:The Castle Pines Connection
X-ORIGINAL-URL:https://www.castlepinesconnection.com
X-WR-CALDESC:Events for The Castle Pines Connection
REFRESH-INTERVAL;VALUE=DURATION:PT1H
X-Robots-Tag:noindex
X-PUBLISHED-TTL:PT1H
BEGIN:VTIMEZONE
TZID:America/Denver
BEGIN:DAYLIGHT
TZOFFSETFROM:-0700
TZOFFSETTO:-0600
TZNAME:MDT
DTSTART:20200308T090000
END:DAYLIGHT
BEGIN:STANDARD
TZOFFSETFROM:-0600
TZOFFSETTO:-0700
TZNAME:MST
DTSTART:20201101T080000
END:STANDARD
BEGIN:DAYLIGHT
TZOFFSETFROM:-0700
TZOFFSETTO:-0600
TZNAME:MDT
DTSTART:20210314T090000
END:DAYLIGHT
BEGIN:STANDARD
TZOFFSETFROM:-0600
TZOFFSETTO:-0700
TZNAME:MST
DTSTART:20211107T080000
END:STANDARD
BEGIN:DAYLIGHT
TZOFFSETFROM:-0700
TZOFFSETTO:-0600
TZNAME:MDT
DTSTART:20220313T090000
END:DAYLIGHT
BEGIN:STANDARD
TZOFFSETFROM:-0600
TZOFFSETTO:-0700
TZNAME:MST
DTSTART:20221106T080000
END:STANDARD
BEGIN:DAYLIGHT
TZOFFSETFROM:-0700
TZOFFSETTO:-0600
TZNAME:MDT
DTSTART:20230312T090000
END:DAYLIGHT
BEGIN:STANDARD
TZOFFSETFROM:-0600
TZOFFSETTO:-0700
TZNAME:MST
DTSTART:20231105T080000
END:STANDARD
BEGIN:DAYLIGHT
TZOFFSETFROM:-0700
TZOFFSETTO:-0600
TZNAME:MDT
DTSTART:20240310T090000
END:DAYLIGHT
BEGIN:STANDARD
TZOFFSETFROM:-0600
TZOFFSETTO:-0700
TZNAME:MST
DTSTART:20241103T080000
END:STANDARD
BEGIN:DAYLIGHT
TZOFFSETFROM:-0700
TZOFFSETTO:-0600
TZNAME:MDT
DTSTART:20250309T090000
END:DAYLIGHT
BEGIN:STANDARD
TZOFFSETFROM:-0600
TZOFFSETTO:-0700
TZNAME:MST
DTSTART:20251102T080000
END:STANDARD
END:VTIMEZONE
BEGIN:VEVENT
DTSTART;TZID=America/Denver:20240113T200000
DTEND;TZID=America/Denver:20240113T200000
DTSTAMP:20260425T174150
CREATED:20231227T145257Z
LAST-MODIFIED:20231227T145257Z
UID:10006759-1705176000-1705176000@www.castlepinesconnection.com
SUMMARY:John Jorgenson Bluegrass Band
DESCRIPTION:
URL:https://www.castlepinesconnection.com/event/john-jorgenson-bluegrass-band/
CATEGORIES:CO,Concert,Live Music,Lone Tree,Performing Arts,Shows,Singer,concert
END:VEVENT
BEGIN:VEVENT
DTSTART;TZID=America/Denver:20231203T143000
DTEND;TZID=America/Denver:20231203T143000
DTSTAMP:20260425T174150
CREATED:20231127T174916Z
LAST-MODIFIED:20231127T174916Z
UID:10006689-1701613800-1701613800@www.castlepinesconnection.com
SUMMARY:Lone Tree Symphony Orchestra Presents Festival of Lights
DESCRIPTION:
URL:https://www.castlepinesconnection.com/event/lone-tree-symphony-orchestra-presents-festival-of-lights-2/
CATEGORIES:CO,Christmas,Concert,Douglas County,Family event,Live Music,Lone Tree,Performing Arts,Shows,Singer,Symphony,Winter,Winter,concert
ATTACH;FMTTYPE=image/jpeg:https://www.castlepinesconnection.com/wp-content/uploads/2023/11/LTSO-December-2-and-3-2023-e1701107131723.jpg
END:VEVENT
BEGIN:VEVENT
DTSTART;TZID=America/Denver:20230325T200000
DTEND;TZID=America/Denver:20230325T220000
DTSTAMP:20260425T174150
CREATED:20230315T015232Z
LAST-MODIFIED:20230315T015232Z
UID:10005970-1679774400-1679781600@www.castlepinesconnection.com
SUMMARY:https://www.lonetreeartscenter.org/showinfo.php?id=1480
DESCRIPTION:
URL:https://www.castlepinesconnection.com/event/https-www-lonetreeartscenter-org-showinfo-phpid1480/
CATEGORIES:Educational,Lone Tree
ATTACH;FMTTYPE=image/png:https://www.castlepinesconnection.com/wp-content/uploads/2020/01/LoneTreeArtsLogo-e1740432031224.png
END:VEVENT
BEGIN:VEVENT
DTSTART;TZID=America/Denver:20230301T190000
DTEND;TZID=America/Denver:20230301T220000
DTSTAMP:20260425T174150
CREATED:20230219T024510Z
LAST-MODIFIED:20230219T024510Z
UID:10005957-1677697200-1677708000@www.castlepinesconnection.com
SUMMARY:Douglas County Libraries Presents C.J. Box
DESCRIPTION:Join DCL as we welcome NYT Bestselling author C.J. Box to discuss his new book\, Storm Watch. Premium ticket includes a hardcover copy of Storm Watch and a place in the signing line. Companion tickets are also available and only include the presentation. \nDouglas County Libraries elevates our community by inspiring a love of reading\, discovery\, and connection.
URL:https://www.castlepinesconnection.com/event/douglas-county-libraries-presents-c-j-box/
CATEGORIES:Book Signing,Lone Tree
ATTACH;FMTTYPE=image/png:https://www.castlepinesconnection.com/wp-content/uploads/2023/02/CJBOX.png
END:VEVENT
BEGIN:VEVENT
DTSTART;TZID=America/Denver:20230222T133000
DTEND;TZID=America/Denver:20230222T163000
DTSTAMP:20260425T174150
CREATED:20230122T233609Z
LAST-MODIFIED:20230122T233609Z
UID:10005854-1677072600-1677083400@www.castlepinesconnection.com
SUMMARY:Blue Arts in the Afternoon: Fantasies and Romances with Phillip Stevens and Betsy Schwarm
DESCRIPTION:Blue Arts in the Afternoon: Fantasies\nand Romances with Phillip Stevens and Betsy Schwarm\n@ Lone Tree Arts Center\n1:30 p.m.\nlonetreeartscenter.org
URL:https://www.castlepinesconnection.com/event/blue-arts-in-the-afternoon-fantasies-and-romances-with-phillip-stevens-and-betsy-schwarm/
ATTACH;FMTTYPE=image/jpeg:https://www.castlepinesconnection.com/wp-content/uploads/2023/01/Blue_Arts_Lone_Tree.jpg
END:VEVENT
BEGIN:VEVENT
DTSTART;TZID=America/Denver:20230128T200000
DTEND;TZID=America/Denver:20230128T220000
DTSTAMP:20260425T174150
CREATED:20221225T183613Z
LAST-MODIFIED:20221225T193533Z
UID:10005838-1674936000-1674943200@www.castlepinesconnection.com
SUMMARY:Dreamers: Brooklyn Rider with Magos Herrera
DESCRIPTION:Dreamers: Brooklyn Rider with Magos Herrera\n@ Lone Tree Arts Center\n8 p.m.\nlonetreeartscenter.org
URL:https://www.castlepinesconnection.com/event/dreamers-brooklyn-rider-with-magos-herrera/
CATEGORIES:Live Music,Lone Tree
ATTACH;FMTTYPE=image/jpeg:https://www.castlepinesconnection.com/wp-content/uploads/2022/12/1651520662_h_Brooklyn-Rider-header.jpg
END:VEVENT
BEGIN:VEVENT
DTSTART;TZID=America/Denver:20230127T200000
DTEND;TZID=America/Denver:20230127T220000
DTSTAMP:20260425T174150
CREATED:20221225T182437Z
LAST-MODIFIED:20221225T193601Z
UID:10005824-1674849600-1674856800@www.castlepinesconnection.com
SUMMARY:Gibney Dance
DESCRIPTION:Gibney Dance\n@ Lone Tree Arts Center\n8 p.m.\nlonetreeartscenter.org
URL:https://www.castlepinesconnection.com/event/gibney-dance/
CATEGORIES:Dance,Fun,Lone Tree
ATTACH;FMTTYPE=image/jpeg:https://www.castlepinesconnection.com/wp-content/uploads/2022/12/1651519743_h_Gibney-Dance-header.jpg
END:VEVENT
BEGIN:VEVENT
DTSTART;TZID=America/Denver:20230121T200000
DTEND;TZID=America/Denver:20230121T220000
DTSTAMP:20260425T174150
CREATED:20221225T183457Z
LAST-MODIFIED:20221225T193553Z
UID:10005837-1674331200-1674338400@www.castlepinesconnection.com
SUMMARY:Celebrating Elvis Presley's Records from Sun Studios
DESCRIPTION:Celebrating Elvis Presley’s Records from Sun Studios\n@ Lone Tree Arts Center\n8 p.m.\nlonetreeartscenter.org
URL:https://www.castlepinesconnection.com/event/celebrating-elvis-presleys-records-from-sun-studios/
CATEGORIES:Live Music,Lone Tree,Musical
ATTACH;FMTTYPE=image/jpeg:https://www.castlepinesconnection.com/wp-content/uploads/2022/12/1651519595_h_Sun-Studios-header.jpg
END:VEVENT
BEGIN:VEVENT
DTSTART;TZID=America/Denver:20230120T200000
DTEND;TZID=America/Denver:20230120T220000
DTSTAMP:20260425T174150
CREATED:20221225T182310Z
LAST-MODIFIED:20221225T193609Z
UID:10005821-1674244800-1674252000@www.castlepinesconnection.com
SUMMARY:National Geographic Live: Force of Nature with Photographer and Filmmaker Keith Ladzinski
DESCRIPTION:National Geographic Live: Force of Nature with Photographer and Filmmaker Keith Ladzinski\n@ Lone Tree Arts Center\n8 p.m.\nlonetreeartscenter.org
URL:https://www.castlepinesconnection.com/event/national-geographic-live-force-of-nature-with-photographer-and-filmmaker-keith-ladzinski/
CATEGORIES:Lone Tree,Nature
ATTACH;FMTTYPE=image/jpeg:https://www.castlepinesconnection.com/wp-content/uploads/2022/12/1652120152_h_Keith-Ladzinski-header.jpg
END:VEVENT
BEGIN:VEVENT
DTSTART;TZID=America/Denver:20230119T133000
DTEND;TZID=America/Denver:20230119T150000
DTSTAMP:20260425T174150
CREATED:20221225T174330Z
LAST-MODIFIED:20221225T193624Z
UID:10005817-1674135000-1674140400@www.castlepinesconnection.com
SUMMARY:SPARK! Alliance: Twist and Bend with Shall We Dance Mobile
DESCRIPTION:SPARK! Alliance:\nTwist and Bend with\nShall We Dance Mobile\n@ Lone Tree Arts Center\n1:30 p.m\nlonetreeartscenter.org 
URL:https://www.castlepinesconnection.com/event/spark-alliance-twist-and-bend-with-shall-we-dance-mobile/
CATEGORIES:Dance,Fun,Lone Tree
ATTACH;FMTTYPE=image/jpeg:https://www.castlepinesconnection.com/wp-content/uploads/2022/12/1660776733_h_Spark-header.jpg
END:VEVENT
BEGIN:VEVENT
DTSTART;TZID=America/Denver:20230117T193000
DTEND;TZID=America/Denver:20230117T210000
DTSTAMP:20260425T174150
CREATED:20221225T165407Z
LAST-MODIFIED:20221225T193641Z
UID:10005809-1673983800-1673989200@www.castlepinesconnection.com
SUMMARY:Colorado School of Dance presents Dance for a Difference
DESCRIPTION:Colorado School of Dance presents Dance for a Difference\n@ Lone Tree Arts Center\n7:30 p.m.\nlonetreeartscenter.org
URL:https://www.castlepinesconnection.com/event/colorado-school-of-dance-presents-dance-for-a-difference/
CATEGORIES:Dance,Lone Tree
ATTACH;FMTTYPE=image/jpeg:https://www.castlepinesconnection.com/wp-content/uploads/2022/12/1666736903_h_dance-for-a-difference-header.jpg
END:VEVENT
BEGIN:VEVENT
DTSTART;TZID=America/Denver:20230113T200000
DTEND;TZID=America/Denver:20230113T213000
DTSTAMP:20260425T174150
CREATED:20221225T175612Z
LAST-MODIFIED:20221225T193617Z
UID:10005819-1673640000-1673645400@www.castlepinesconnection.com
SUMMARY:An Evening with Laura Benanti
DESCRIPTION:An Evening with Laura Benanti\n@ Lone Tree Arts Center\n8 p.m.\nlonetreeartscenter.org
URL:https://www.castlepinesconnection.com/event/an-evening-with-laura-benanti/
CATEGORIES:Lone Tree,Singer
ATTACH;FMTTYPE=image/jpeg:https://www.castlepinesconnection.com/wp-content/uploads/2022/12/1651691227_h_laura-header.jpg
END:VEVENT
BEGIN:VEVENT
DTSTART;TZID=America/Denver:20230111T133000
DTEND;TZID=America/Denver:20230111T150000
DTSTAMP:20260425T174150
CREATED:20221225T165735Z
LAST-MODIFIED:20221225T193634Z
UID:10005811-1673443800-1673449200@www.castlepinesconnection.com
SUMMARY:Arts in the Afternoon: Miguel Espinoza's Flamenco Fusion
DESCRIPTION:Arts in the Afternoon: Miguel Espinoza’s Flamenco Fusion\n@ Lone Tree Arts Center\n1:30 p.m.\nlonetreeartscenter.org
URL:https://www.castlepinesconnection.com/event/arts-in-the-afternoon-miguel-espinozas-flamenco-fusion/
CATEGORIES:Dance,Lone Tree
ATTACH;FMTTYPE=image/jpeg:https://www.castlepinesconnection.com/wp-content/uploads/2022/12/1652290505_h_miguel-espinoza-header.jpg
END:VEVENT
BEGIN:VEVENT
DTSTART;TZID=America/Denver:20230110T093000
DTEND;TZID=America/Denver:20230110T110000
DTSTAMP:20260425T174150
CREATED:20221225T165104Z
LAST-MODIFIED:20221225T193702Z
UID:10005808-1673343000-1673348400@www.castlepinesconnection.com
SUMMARY:Seedlings: Animal Exploration with Colorado Ballet
DESCRIPTION:@ Lone Tree Arts Center\n9:30 p.m. – 11:00 a.m. lonetreeartscenter.org
URL:https://www.castlepinesconnection.com/event/seedlings-animal-exploration-with-colorado-ballet/
CATEGORIES:Ballet,Dance,Lone Tree
ATTACH;FMTTYPE=image/jpeg:https://www.castlepinesconnection.com/wp-content/uploads/2022/12/1659970973_h_header.jpg
END:VEVENT
BEGIN:VEVENT
DTSTART;TZID=America/Denver:20220925T140000
DTEND;TZID=America/Denver:20220925T160000
DTSTAMP:20260425T174150
CREATED:20220824T160942Z
LAST-MODIFIED:20220824T160942Z
UID:10005142-1664114400-1664121600@www.castlepinesconnection.com
SUMMARY:Denver Concert Band presents: “An Epic 55th Season\,”
DESCRIPTION:
URL:https://www.castlepinesconnection.com/event/denver-concert-band-presents-an-epic-55th-season/
ATTACH;FMTTYPE=image/jpeg:https://www.castlepinesconnection.com/wp-content/uploads/2022/08/DenverConcertBandLogo-e1706664367234.jpg
END:VEVENT
BEGIN:VEVENT
DTSTART;TZID=America/Denver:20220424T190000
DTEND;TZID=America/Denver:20220424T210000
DTSTAMP:20260425T174150
CREATED:20220330T150630Z
LAST-MODIFIED:20220331T161012Z
UID:10004649-1650826800-1650834000@www.castlepinesconnection.com
SUMMARY:Flamenco Vivo Carlota Santana: De La Frontera
DESCRIPTION:Flamenco Vivo Carlota Santana: De La Frontera\, 7 p.m.\, Lone Tree Arts Center www.lonetreeartscenter.org
URL:https://www.castlepinesconnection.com/event/flamenco-vivo-carlota-santana-de-la-frontera/
LOCATION:Lone Tree Arts Center\, 10075 Commons St\, Lone Tree\, CO\, 80124\, United States
CATEGORIES:Dance,Musical,Performing Arts
ATTACH;FMTTYPE=image/jpeg:https://www.castlepinesconnection.com/wp-content/uploads/2022/03/flamenco-vivo-header.jpg
END:VEVENT
BEGIN:VEVENT
DTSTART;TZID=America/Denver:20220327T190000
DTEND;TZID=America/Denver:20220327T210000
DTSTAMP:20260425T174150
CREATED:20220221T214749Z
LAST-MODIFIED:20220221T214749Z
UID:10003640-1648407600-1648414800@www.castlepinesconnection.com
SUMMARY:Chris Mann: From Gershwin to Gaga
DESCRIPTION:Chris Mann: From Gershwin to Gaga\, Sunday\, March 27\, 2022\, 7:00PM \nMain Stage\, Lone Tree Arts Center\, 10075 Commons Street\, Lone Tree\, CO 80124 \n\n\nChris Mann: From Gershwin to Gaga \n\n\nCelebrating the Tony Bennett Songbook\nSunday\, March 27\, 2022 \nSUNDAY\, MARCH 27\, 2022 at 7:00 PM \n“A bona fide breakout star!” –Huffington Post  \nJoin Chris Mann (The Voice\, Phantom of the Opera) for an evening celebrating the long and diverse career of a living legend.  From American Songbook and Broadway classics to Lady Gaga hits\, Tony Bennett’s music reaches every generation and proves that truly\, “Love is Here to Stay.” \nFace coverings are strongly recommended by the CDC while indoors in public spaces\, regardless of vaccination status.
URL:https://www.castlepinesconnection.com/event/chris-mann-from-gershwin-to-gaga/
LOCATION:Lone Tree Arts Center\, 10075 Commons St\, Lone Tree\, CO\, 80124\, United States
CATEGORIES:Concert,Lone Tree,Performing Arts,Singer
ATTACH;FMTTYPE=image/jpeg:https://www.castlepinesconnection.com/wp-content/uploads/2022/02/chrismann.jpg
END:VEVENT
BEGIN:VEVENT
DTSTART;TZID=America/Denver:20220317T133000
DTEND;TZID=America/Denver:20220317T160000
DTSTAMP:20260425T174150
CREATED:20220227T215642Z
LAST-MODIFIED:20220227T215642Z
UID:10003659-1647523800-1647532800@www.castlepinesconnection.com
SUMMARY:SPARK! Alliance: Dancing in the 20th Century
DESCRIPTION:SPARK! Alliance:\nDancing in the 20th Century\n1:30 p.m.\, Lone Tree Arts Center\nwww.lonetreeartscenter.org \n\n\nSPARK! Alliance: Scenic Switzerland with Maureen Holland \n\n\nThursday\, March 17\, 2022 \nTake a photo journey to Switzerland with everyone’s favorite guide\, Maureen Holland. From an extreme hike on the Murren Via Ferrata with Maureen’s husband to the cows coming down the mountain in autumn\, get ready to explore the beauty and traditions of Switzerland. \nSPARK! is a free program offered in conjunction with the Alzheimer’s Association for people experiencing mild memory loss\, early stage Alzheimer’s\, or a related dementia\, and their family\, friends\, and guests. \nFace coverings are optional.
URL:https://www.castlepinesconnection.com/event/spark-alliance-dancing-in-the-20th-century/
LOCATION:Lone Tree Arts Center\, 10075 Commons St\, Lone Tree\, CO\, 80124\, United States
CATEGORIES:Free Day,Lone Tree,Nature,Performing Arts
ATTACH;FMTTYPE=image/jpeg:https://www.castlepinesconnection.com/wp-content/uploads/2022/02/1629316050_h_Spark-header-e1733159132943.jpg
END:VEVENT
BEGIN:VEVENT
DTSTART;TZID=America/Denver:20220313T130000
DTEND;TZID=America/Denver:20220313T150000
DTSTAMP:20260425T174150
CREATED:20220221T191434Z
LAST-MODIFIED:20220221T215514Z
UID:10003619-1647176400-1647183600@www.castlepinesconnection.com
SUMMARY:Passport to Culture: Fiesta Colorado
DESCRIPTION:Main Stage\n\nFiesta Colorado Dance Company\, directed by Jeanette Trujillo-Lucero\, focuses on preserving and presenting the Hispanic dance arts of Colorado. Their performance is a demonstration of how Mexican folkloric dance embodies the richest artistic manifestations of culture and tradition.\n\nPassport to Culture is a program specifically designed for children and families to experience arts and culture outside the classroom and inside a world of imagination through performances\, workshops and pure entertainment to foster the growth of visual and performing arts\, science and cultural understanding in our community.\n\nFace coverings are strongly recommended by the CDC while indoors in public spaces\, regardless of vaccination status.\n  \nPassport to Culture: Fiesta Colorado (lonetreeartscenter.org)
URL:https://www.castlepinesconnection.com/event/passport-to-culture-fiesta-colorado/
LOCATION:Lone Tree Arts Center\, 10075 Commons St\, Lone Tree\, CO\, 80124\, United States
CATEGORIES:Dance,Family event,Lone Tree,Performing Arts
ATTACH;FMTTYPE=image/jpeg:https://www.castlepinesconnection.com/wp-content/uploads/2022/02/FiestaColorado.jpg
END:VEVENT
BEGIN:VEVENT
DTSTART;TZID=America/Denver:20220312T200000
DTEND;TZID=America/Denver:20220312T220000
DTSTAMP:20260425T174150
CREATED:20220225T234916Z
LAST-MODIFIED:20220225T234923Z
UID:10003655-1647115200-1647122400@www.castlepinesconnection.com
SUMMARY:The Mary Louise Lee Band: A Tribute to Gladys Knight
DESCRIPTION:The Mary Louise Lee Band: A Tribute to Gladys Knight and the Pips \nwww.lonetreeartscenter.org \nSaturday\, March 12\, 2022\n“Lee’s strength is her powerful voice.” – The Know \n\nThe Mary Louise Lee Band is back with an all-new show featuring the music of one of Motown’s amazing artist/groups\, Gladys Knight and the Pips! After selling out the 2019 LTAC season opener with a tribute to Diana Ross\, Mary Louise Lee ignites the stage once again lending her powerful voice to yet another one of music’s greatest living legends. With her amazing range\, emotional fire\, and sheer charisma onstage\, Mary Louise Lee and her full band take you on a tour through some of Gladys Knight and the Pips’ most popular songs and some lesser-known melodies.\n\nNew subscription packages (THREE OR MORE PERFORMANCES) go on sale through the box office on Tuesday\, July 6. Individual tickets go on sale July 13\, 2021.\n\nFace coverings are recommended for indoor public spaces by the CDC\, regardless of vaccination status.
URL:https://www.castlepinesconnection.com/event/the-mary-louise-lee-band-a-tribute-to-gladys-knight/
LOCATION:Lone Tree Arts Center\, 10075 Commons St\, Lone Tree\, CO\, 80124\, United States
CATEGORIES:Concert,Lone Tree,Performing Arts,Singer,concert
ATTACH;FMTTYPE=image/jpeg:https://www.castlepinesconnection.com/wp-content/uploads/2022/02/MLLheader.jpg
END:VEVENT
BEGIN:VEVENT
DTSTART;TZID=America/Denver:20220310T190000
DTEND;TZID=America/Denver:20220310T190000
DTSTAMP:20260425T174150
CREATED:20220225T225204Z
LAST-MODIFIED:20220225T225204Z
UID:10003652-1646938800-1646938800@www.castlepinesconnection.com
SUMMARY:Dougas County Libraries Presents author C.J. Box
DESCRIPTION:Dougas County Libraries\npresent author C.J. Box\n7 p.m.\nLone Tree Arts Center\nwww.lonetreeartscenter.org \n\n\nDouglas County Libraries presents An Evening with NYT Bestselling Author CJ Box \n\n\nThursday\, March 10\, 2022 \nDouglas County Libraries is pleased to host New York Times bestselling author C.J. Box. The award-winning author will talk about his new thriller in the Joe Pickett series\, Shadows Reel. Ticket purchase includes a reserved seat at the author’s presentation\, one complimentary drink\, a hardcover copy of Shadows Reel\, and a place in the signing line. \nDouglas County Libraries elevates our community by inspiring a love of reading\, discovery\, and connection.
URL:https://www.castlepinesconnection.com/event/dougas-county-libraries-presents-author-c-j-box/
LOCATION:Lone Tree Arts Center\, 10075 Commons St\, Lone Tree\, CO\, 80124\, United States
CATEGORIES:Book Signing,Lone Tree
ATTACH;FMTTYPE=image/jpeg:https://www.castlepinesconnection.com/wp-content/uploads/2022/02/C.J.-Box-credit_Dave-Neligh.jpg
END:VEVENT
BEGIN:VEVENT
DTSTART;TZID=America/Denver:20220308T130000
DTEND;TZID=America/Denver:20220309T210000
DTSTAMP:20260425T174150
CREATED:20220221T185233Z
LAST-MODIFIED:20220221T185403Z
UID:10003616-1646744400-1646859600@www.castlepinesconnection.com
SUMMARY:Discovering Antarctica: Heroic Tales of Shackleton\, Crean\, and Scott
DESCRIPTION:Discovering Antarctica: Heroic Tales of Shackleton\, Crean\, and Scott \nTuesday\, March 08 – Wednesday\, March 09\, 2022\n\n\nSet during The Golden Age of Antarctic Exploration (1901–16)\, discover the riveting true stories of Shackleton and Scott through the eyes of Tom Crean\, who was at the center of three of the most daring and challenging expeditions to the great white continent – including Shackleton’s ill-fated Endurance expedition. This one-man production is an intimate piece of theater that reenacts the heroic endeavors with a blend of drama\, humor\, and a rich Irish storytelling style that takes you to the edge of your seat… and beyond!\n\nFace coverings are strongly recommended by the CDC while indoors in public spaces\, regardless of vaccination status.
URL:https://www.castlepinesconnection.com/event/discovering-antarctica-heroic-tales-of-shackleton-crean-and-scott/
LOCATION:Lone Tree Arts Center\, 10075 Commons St\, Lone Tree\, CO\, 80124\, United States
CATEGORIES:Lone Tree,Performing Arts,theater
ATTACH;FMTTYPE=image/jpeg:https://www.castlepinesconnection.com/wp-content/uploads/2022/02/DiscoveringAntarctica.jpg
END:VEVENT
BEGIN:VEVENT
DTSTART;TZID=America/Denver:20220304T193000
DTEND;TZID=America/Denver:20220304T210000
DTSTAMP:20260425T174150
CREATED:20220225T221150Z
LAST-MODIFIED:20220225T221150Z
UID:10003646-1646422200-1646427600@www.castlepinesconnection.com
SUMMARY:Lone Tree Symphony Presents Voila\, the Viola
DESCRIPTION:Lone Tree Symphony\npresents Voila\, the Viola\n7:30 p.m.\nLone Tree Arts Center\nwww.lonetreeartscenter.org \nPerforming with the LTSO in this exciting program is the Principal Violist of the Colorado Symphony\, Basil Vendryes. You will also enjoy Tchaikovsky’s “Marche Slave\,” selections from Fiddler on the Roof\, and more! \nThe Lone Tree Symphony Orchestra is a first-class community orchestra performing orchestral music in the city of Lone Tree and South Metro Denver. \nAt the request of the artist\, masks are required at this performance. You must wear a mask to enter the building and masks must be worn in all spaces. Concessions will be open and drinks will be allowed in the theater\, but masks must be worn at all times if not actively drinking.
URL:https://www.castlepinesconnection.com/event/lone-tree-symphony-presents-voila-the-viola/
LOCATION:Lone Tree Arts Center\, 10075 Commons St\, Lone Tree\, CO\, 80124\, United States
CATEGORIES:Performing Arts
ATTACH;FMTTYPE=image/jpeg:https://www.castlepinesconnection.com/wp-content/uploads/2022/02/Voila.jpg
END:VEVENT
BEGIN:VEVENT
DTSTART;TZID=America/Denver:20210331T200000
DTEND;TZID=America/Denver:20210331T220000
DTSTAMP:20260425T174150
CREATED:20210222T205118Z
LAST-MODIFIED:20210222T205118Z
UID:10002466-1617220800-1617228000@www.castlepinesconnection.com
SUMMARY:Livestream: National Geographic Mysterious Seas
DESCRIPTION:
URL:https://www.castlepinesconnection.com/event/livestream-national-geographic-mysterious-seas/
CATEGORIES:Virtual event
ATTACH;FMTTYPE=image/jpeg:https://www.castlepinesconnection.com/wp-content/uploads/2021/01/National-Geographic-Live-e1611766186532.jpg
END:VEVENT
BEGIN:VEVENT
DTSTART;TZID=America/Denver:20210224T200000
DTEND;TZID=America/Denver:20210224T210000
DTSTAMP:20260425T174150
CREATED:20210127T165016Z
LAST-MODIFIED:20210127T171139Z
UID:10002429-1614196800-1614200400@www.castlepinesconnection.com
SUMMARY:Reimagining Dinosaurs
DESCRIPTION:Livestream of National Geographic Live
URL:https://www.castlepinesconnection.com/event/reimagining-dinosaurs/
CATEGORIES:Virtual event
ATTACH;FMTTYPE=image/jpeg:https://www.castlepinesconnection.com/wp-content/uploads/2021/01/National-Geographic-Live-e1611766186532.jpg
END:VEVENT
END:VCALENDAR