BEGIN:VCALENDAR
VERSION:2.0
PRODID:-//The Castle Pines Connection - ECPv6.15.15//NONSGML v1.0//EN
CALSCALE:GREGORIAN
METHOD:PUBLISH
X-WR-CALNAME:The Castle Pines Connection
X-ORIGINAL-URL:https://www.castlepinesconnection.com
X-WR-CALDESC:Events for The Castle Pines Connection
REFRESH-INTERVAL;VALUE=DURATION:PT1H
X-Robots-Tag:noindex
X-PUBLISHED-TTL:PT1H
BEGIN:VTIMEZONE
TZID:America/Denver
BEGIN:DAYLIGHT
TZOFFSETFROM:-0700
TZOFFSETTO:-0600
TZNAME:MDT
DTSTART:20230312T090000
END:DAYLIGHT
BEGIN:STANDARD
TZOFFSETFROM:-0600
TZOFFSETTO:-0700
TZNAME:MST
DTSTART:20231105T080000
END:STANDARD
BEGIN:DAYLIGHT
TZOFFSETFROM:-0700
TZOFFSETTO:-0600
TZNAME:MDT
DTSTART:20240310T090000
END:DAYLIGHT
BEGIN:STANDARD
TZOFFSETFROM:-0600
TZOFFSETTO:-0700
TZNAME:MST
DTSTART:20241103T080000
END:STANDARD
BEGIN:DAYLIGHT
TZOFFSETFROM:-0700
TZOFFSETTO:-0600
TZNAME:MDT
DTSTART:20250309T090000
END:DAYLIGHT
BEGIN:STANDARD
TZOFFSETFROM:-0600
TZOFFSETTO:-0700
TZNAME:MST
DTSTART:20251102T080000
END:STANDARD
BEGIN:DAYLIGHT
TZOFFSETFROM:-0700
TZOFFSETTO:-0600
TZNAME:MDT
DTSTART:20260308T090000
END:DAYLIGHT
BEGIN:STANDARD
TZOFFSETFROM:-0600
TZOFFSETTO:-0700
TZNAME:MST
DTSTART:20261101T080000
END:STANDARD
END:VTIMEZONE
BEGIN:VEVENT
DTSTART;TZID=America/Denver:20250619T090000
DTEND;TZID=America/Denver:20250619T090000
DTSTAMP:20260424T145442
CREATED:20250421T222057Z
LAST-MODIFIED:20250421T222409Z
UID:10009263-1750323600-1750323600@www.castlepinesconnection.com
SUMMARY:Pickleball Classes
DESCRIPTION:Session #2: May 8\, 15\, & 22 \n\nLearn to Play: 9:00 – 10:30 a.m.\nIntermediate Boot Camp: 10:30 a.m. – 12:00 p.m.\n\nSession #3: June 5\, 12\, & 19 \n\nLearn to Play: 8:00 – 9:30 a.m.\nIntermediate Boot Camp: 9:30 a.m. – 11:00 a.m.\nTeen Pickleball (ages 12-16): 11:00 a.m. – 12:30 p.m.
URL:https://www.castlepinesconnection.com/event/pickleball-classes/2025-06-19/
LOCATION:Coyote Ridge Pickleball Courts\, 7485 Serena Drive\, Castle Pines\, CO\, 80108
CATEGORIES:CO,Castle Pines,Douglas County,Pickleball,Sports
END:VEVENT
BEGIN:VEVENT
DTSTART;TZID=America/Denver:20250606T173000
DTEND;TZID=America/Denver:20250606T193000
DTSTAMP:20260424T145442
CREATED:20250522T190051Z
LAST-MODIFIED:20250522T190051Z
UID:10009576-1749231000-1749238200@www.castlepinesconnection.com
SUMMARY:Adult Pickleball Social
DESCRIPTION:
URL:https://www.castlepinesconnection.com/event/adult-pickleball-social-2/
LOCATION:Coyote Ridge Pickleball Courts\, 7485 Serena Drive\, Castle Pines\, CO\, 80108
CATEGORIES:CO,Castle Pines,Douglas County,Pickleball,Sports
END:VEVENT
BEGIN:VEVENT
DTSTART;VALUE=DATE:20240617
DTEND;VALUE=DATE:20240621
DTSTAMP:20260424T145442
CREATED:20240517T185753Z
LAST-MODIFIED:20240517T185753Z
UID:10007173-1718582400-1718927999@www.castlepinesconnection.com
SUMMARY:Teen Pickleball Camp
DESCRIPTION:June 17-20\, 2.5 hours each Day
URL:https://www.castlepinesconnection.com/event/teen-pickleball-camp/
LOCATION:Coyote Ridge Pickleball Courts\, 7485 Serena Drive\, Castle Pines\, CO\, 80108
CATEGORIES:CO,Castle Pines,Douglas County,Pickleball,Sports
ATTACH;FMTTYPE=image/jpeg:https://www.castlepinesconnection.com/wp-content/uploads/2024/05/2024-Summer-Pickleball-Events_TWND-e1715971511954.jpg
END:VEVENT
BEGIN:VEVENT
DTSTART;VALUE=DATE:20240615
DTEND;VALUE=DATE:20240619
DTSTAMP:20260424T145442
CREATED:20240517T190058Z
LAST-MODIFIED:20240517T190058Z
UID:10007174-1718409600-1718755199@www.castlepinesconnection.com
SUMMARY:Teen Pickleball Camp
DESCRIPTION:July 15-18\, 2.5 hours each day
URL:https://www.castlepinesconnection.com/event/teen-pickleball-camp-2/
LOCATION:Coyote Ridge Pickleball Courts\, 7485 Serena Drive\, Castle Pines\, CO\, 80108
CATEGORIES:CO,Castle Pines,Douglas County,Pickleball,Sports
ATTACH;FMTTYPE=image/jpeg:https://www.castlepinesconnection.com/wp-content/uploads/2024/05/2024-Summer-Pickleball-Events_TWND-e1715971511954.jpg
END:VEVENT
BEGIN:VEVENT
DTSTART;TZID=America/Denver:20240606T173000
DTEND;TZID=America/Denver:20240606T193000
DTSTAMP:20260424T145442
CREATED:20240517T184709Z
LAST-MODIFIED:20240517T185434Z
UID:10007165-1717695000-1717702200@www.castlepinesconnection.com
SUMMARY:Adult Pickleball Social
DESCRIPTION:
URL:https://www.castlepinesconnection.com/event/adult-pickleball-social/
LOCATION:Coyote Ridge Pickleball Courts\, 7485 Serena Drive\, Castle Pines\, CO\, 80108
CATEGORIES:CO,Castle Pines,Douglas County,Pickleball,Sports
ATTACH;FMTTYPE=image/jpeg:https://www.castlepinesconnection.com/wp-content/uploads/2024/05/2024-Summer-Pickleball-Events_TWND-e1715971511954.jpg
END:VEVENT
END:VCALENDAR