BEGIN:VCALENDAR
VERSION:2.0
PRODID:-//The Castle Pines Connection - ECPv6.15.15//NONSGML v1.0//EN
CALSCALE:GREGORIAN
METHOD:PUBLISH
X-ORIGINAL-URL:https://www.castlepinesconnection.com
X-WR-CALDESC:Events for The Castle Pines Connection
REFRESH-INTERVAL;VALUE=DURATION:PT1H
X-Robots-Tag:noindex
X-PUBLISHED-TTL:PT1H
BEGIN:VTIMEZONE
TZID:America/Denver
BEGIN:DAYLIGHT
TZOFFSETFROM:-0700
TZOFFSETTO:-0600
TZNAME:MDT
DTSTART:20210314T090000
END:DAYLIGHT
BEGIN:STANDARD
TZOFFSETFROM:-0600
TZOFFSETTO:-0700
TZNAME:MST
DTSTART:20211107T080000
END:STANDARD
BEGIN:DAYLIGHT
TZOFFSETFROM:-0700
TZOFFSETTO:-0600
TZNAME:MDT
DTSTART:20220313T090000
END:DAYLIGHT
BEGIN:STANDARD
TZOFFSETFROM:-0600
TZOFFSETTO:-0700
TZNAME:MST
DTSTART:20221106T080000
END:STANDARD
BEGIN:DAYLIGHT
TZOFFSETFROM:-0700
TZOFFSETTO:-0600
TZNAME:MDT
DTSTART:20230312T090000
END:DAYLIGHT
BEGIN:STANDARD
TZOFFSETFROM:-0600
TZOFFSETTO:-0700
TZNAME:MST
DTSTART:20231105T080000
END:STANDARD
END:VTIMEZONE
BEGIN:VEVENT
DTSTART;TZID=America/Denver:20221023T104500
DTEND;TZID=America/Denver:20221023T113000
DTSTAMP:20260424T132941
CREATED:20220916T150804Z
LAST-MODIFIED:20220920T174005Z
UID:10005153-1666521900-1666524600@www.castlepinesconnection.com
SUMMARY:Tiny Tots: Inside the Story – Lilley Gulch
DESCRIPTION:Two performance times: 9:30 a.m. – 10:15 a.m. and 10:45 a.m. – 11:00 a.m.
URL:https://www.castlepinesconnection.com/event/tiny-tots-in-person-inside-the-story-at-lilley-gulch-2022-10-23/2022-10-23/2/
LOCATION:Lilley Gulch Recreation Center\, 6147 S Holland Way\, Littleton\, CO\, 80123\, United States
ATTACH;FMTTYPE=image/png:https://www.castlepinesconnection.com/wp-content/uploads/2022/09/Logo_Inside-Color_1591377896-e1663338156380.png
END:VEVENT
END:VCALENDAR