BEGIN:VCALENDAR
VERSION:2.0
PRODID:-//The Castle Pines Connection - ECPv6.15.15//NONSGML v1.0//EN
CALSCALE:GREGORIAN
METHOD:PUBLISH
X-WR-CALNAME:The Castle Pines Connection
X-ORIGINAL-URL:https://www.castlepinesconnection.com
X-WR-CALDESC:Events for The Castle Pines Connection
REFRESH-INTERVAL;VALUE=DURATION:PT1H
X-Robots-Tag:noindex
X-PUBLISHED-TTL:PT1H
BEGIN:VTIMEZONE
TZID:America/Denver
BEGIN:DAYLIGHT
TZOFFSETFROM:-0700
TZOFFSETTO:-0600
TZNAME:MDT
DTSTART:20210314T090000
END:DAYLIGHT
BEGIN:STANDARD
TZOFFSETFROM:-0600
TZOFFSETTO:-0700
TZNAME:MST
DTSTART:20211107T080000
END:STANDARD
BEGIN:DAYLIGHT
TZOFFSETFROM:-0700
TZOFFSETTO:-0600
TZNAME:MDT
DTSTART:20220313T090000
END:DAYLIGHT
BEGIN:STANDARD
TZOFFSETFROM:-0600
TZOFFSETTO:-0700
TZNAME:MST
DTSTART:20221106T080000
END:STANDARD
BEGIN:DAYLIGHT
TZOFFSETFROM:-0700
TZOFFSETTO:-0600
TZNAME:MDT
DTSTART:20230312T090000
END:DAYLIGHT
BEGIN:STANDARD
TZOFFSETFROM:-0600
TZOFFSETTO:-0700
TZNAME:MST
DTSTART:20231105T080000
END:STANDARD
BEGIN:DAYLIGHT
TZOFFSETFROM:-0700
TZOFFSETTO:-0600
TZNAME:MDT
DTSTART:20240310T090000
END:DAYLIGHT
BEGIN:STANDARD
TZOFFSETFROM:-0600
TZOFFSETTO:-0700
TZNAME:MST
DTSTART:20241103T080000
END:STANDARD
BEGIN:DAYLIGHT
TZOFFSETFROM:-0700
TZOFFSETTO:-0600
TZNAME:MDT
DTSTART:20250309T090000
END:DAYLIGHT
BEGIN:STANDARD
TZOFFSETFROM:-0600
TZOFFSETTO:-0700
TZNAME:MST
DTSTART:20251102T080000
END:STANDARD
BEGIN:DAYLIGHT
TZOFFSETFROM:-0700
TZOFFSETTO:-0600
TZNAME:MDT
DTSTART:20260308T090000
END:DAYLIGHT
BEGIN:STANDARD
TZOFFSETFROM:-0600
TZOFFSETTO:-0700
TZNAME:MST
DTSTART:20261101T080000
END:STANDARD
END:VTIMEZONE
BEGIN:VEVENT
DTSTART;TZID=America/Denver:20250424T193000
DTEND;TZID=America/Denver:20250424T193000
DTSTAMP:20260425T125638
CREATED:20250324T210034Z
LAST-MODIFIED:20250324T210109Z
UID:10009227-1745523000-1745523000@www.castlepinesconnection.com
SUMMARY:Maria Bamford
DESCRIPTION:
URL:https://www.castlepinesconnection.com/event/maria-bamford/
LOCATION:PACE Center
CATEGORIES:CO,Comedy,Douglas County,Live Music,Parker,Performing Arts,Shows,St. Patrick's Day,concert
ATTACH;FMTTYPE=image/png:https://www.castlepinesconnection.com/wp-content/uploads/2020/01/ParkerArtsWithPaceSchoolhouse-e1729867324979.png
END:VEVENT
BEGIN:VEVENT
DTSTART;TZID=America/Denver:20230224T193000
DTEND;TZID=America/Denver:20230224T210000
DTSTAMP:20260425T125638
CREATED:20230123T002929Z
LAST-MODIFIED:20230123T002939Z
UID:10005918-1677267000-1677272400@www.castlepinesconnection.com
SUMMARY:Parker Symphony Orchestra: Shakespeare in Love
DESCRIPTION:Parker Symphony\nOrchestra:\nShakespeare in Love\n@ PACE Center\, Parker\n7:30 p.m.\nparkerarts.org
URL:https://www.castlepinesconnection.com/event/parker-symphony-orchestra-shakespeare-in-love/
LOCATION:PACE Center
CATEGORIES:Concert,Live Music,Orchestra
ATTACH;FMTTYPE=image/jpeg:https://www.castlepinesconnection.com/wp-content/uploads/2023/01/parker_symphony.jpg
END:VEVENT
BEGIN:VEVENT
DTSTART;TZID=America/Denver:20221217T190000
DTEND;TZID=America/Denver:20221217T210000
DTSTAMP:20260425T125638
CREATED:20221127T160526Z
LAST-MODIFIED:20221127T160608Z
UID:10005738-1671303600-1671310800@www.castlepinesconnection.com
SUMMARY:The Nutcracker
DESCRIPTION:December 15 – 22
URL:https://www.castlepinesconnection.com/event/the-nutcracker/2022-12-17/2/
LOCATION:PACE Center
ATTACH;FMTTYPE=image/png:https://www.castlepinesconnection.com/wp-content/uploads/2020/01/ParkerArtsWithPaceSchoolhouse-e1729867324979.png
END:VEVENT
BEGIN:VEVENT
DTSTART;TZID=America/Denver:20221211T140000
DTEND;TZID=America/Denver:20221211T160000
DTSTAMP:20260425T125638
CREATED:20221127T153641Z
LAST-MODIFIED:20221127T153807Z
UID:10005725-1670767200-1670774400@www.castlepinesconnection.com
SUMMARY:A Classic Parker Holiday
DESCRIPTION:
URL:https://www.castlepinesconnection.com/event/a-classic-parker-holiday/2022-12-11/
LOCATION:PACE Center
ATTACH;FMTTYPE=image/png:https://www.castlepinesconnection.com/wp-content/uploads/2020/01/ParkerArtsWithPaceSchoolhouse-e1729867324979.png
END:VEVENT
BEGIN:VEVENT
DTSTART;TZID=America/Denver:20221208T193000
DTEND;TZID=America/Denver:20221208T213000
DTSTAMP:20260425T125638
CREATED:20221127T152944Z
LAST-MODIFIED:20221127T152944Z
UID:10005722-1670527800-1670535000@www.castlepinesconnection.com
SUMMARY:A Slightly Wicked Holiday Show
DESCRIPTION:
URL:https://www.castlepinesconnection.com/event/a-slightly-wicked-holiday-show/
LOCATION:PACE Center
ATTACH;FMTTYPE=image/png:https://www.castlepinesconnection.com/wp-content/uploads/2020/01/ParkerArtsWithPaceSchoolhouse-e1729867324979.png
END:VEVENT
BEGIN:VEVENT
DTSTART;TZID=America/Denver:20221205T103000
DTEND;TZID=America/Denver:20221205T113000
DTSTAMP:20260425T125638
CREATED:20221127T163218Z
LAST-MODIFIED:20221127T163345Z
UID:10005742-1670236200-1670239800@www.castlepinesconnection.com
SUMMARY:Steam Discovery Series: STEAMology
DESCRIPTION:Ages 2 – 5
URL:https://www.castlepinesconnection.com/event/steam-discovery-series-steamology/
LOCATION:PACE Center
ATTACH;FMTTYPE=image/png:https://www.castlepinesconnection.com/wp-content/uploads/2020/01/ParkerArtsWithPaceSchoolhouse-e1729867324979.png
END:VEVENT
BEGIN:VEVENT
DTSTART;TZID=America/Denver:20221127T160000
DTEND;TZID=America/Denver:20221127T180000
DTSTAMP:20260425T125638
CREATED:20221026T153904Z
LAST-MODIFIED:20221026T153904Z
UID:10005655-1669564800-1669572000@www.castlepinesconnection.com
SUMMARY:A Rocky Mountain Christmas
DESCRIPTION:
URL:https://www.castlepinesconnection.com/event/a-rocky-mountain-christmas/
LOCATION:PACE Center
ATTACH;FMTTYPE=image/png:https://www.castlepinesconnection.com/wp-content/uploads/2020/01/ParkerArtsWithPaceSchoolhouse-e1729867324979.png
END:VEVENT
BEGIN:VEVENT
DTSTART;TZID=America/Denver:20221126T193000
DTEND;TZID=America/Denver:20221126T213000
DTSTAMP:20260425T125638
CREATED:20221026T152502Z
LAST-MODIFIED:20221026T152533Z
UID:10005616-1669491000-1669498200@www.castlepinesconnection.com
SUMMARY:The Silhouettes
DESCRIPTION:
URL:https://www.castlepinesconnection.com/event/the-silhouettes/2022-11-26/2/
LOCATION:PACE Center
ATTACH;FMTTYPE=image/png:https://www.castlepinesconnection.com/wp-content/uploads/2020/01/ParkerArtsWithPaceSchoolhouse-e1729867324979.png
END:VEVENT
END:VCALENDAR