BEGIN:VCALENDAR
VERSION:2.0
PRODID:-//The Castle Pines Connection - ECPv6.15.15//NONSGML v1.0//EN
CALSCALE:GREGORIAN
METHOD:PUBLISH
X-ORIGINAL-URL:https://www.castlepinesconnection.com
X-WR-CALDESC:Events for The Castle Pines Connection
REFRESH-INTERVAL;VALUE=DURATION:PT1H
X-Robots-Tag:noindex
X-PUBLISHED-TTL:PT1H
BEGIN:VTIMEZONE
TZID:America/Denver
BEGIN:DAYLIGHT
TZOFFSETFROM:-0700
TZOFFSETTO:-0600
TZNAME:MDT
DTSTART:20230312T090000
END:DAYLIGHT
BEGIN:STANDARD
TZOFFSETFROM:-0600
TZOFFSETTO:-0700
TZNAME:MST
DTSTART:20231105T080000
END:STANDARD
BEGIN:DAYLIGHT
TZOFFSETFROM:-0700
TZOFFSETTO:-0600
TZNAME:MDT
DTSTART:20240310T090000
END:DAYLIGHT
BEGIN:STANDARD
TZOFFSETFROM:-0600
TZOFFSETTO:-0700
TZNAME:MST
DTSTART:20241103T080000
END:STANDARD
BEGIN:DAYLIGHT
TZOFFSETFROM:-0700
TZOFFSETTO:-0600
TZNAME:MDT
DTSTART:20250309T090000
END:DAYLIGHT
BEGIN:STANDARD
TZOFFSETFROM:-0600
TZOFFSETTO:-0700
TZNAME:MST
DTSTART:20251102T080000
END:STANDARD
BEGIN:DAYLIGHT
TZOFFSETFROM:-0700
TZOFFSETTO:-0600
TZNAME:MDT
DTSTART:20260308T090000
END:DAYLIGHT
BEGIN:STANDARD
TZOFFSETFROM:-0600
TZOFFSETTO:-0700
TZNAME:MST
DTSTART:20261101T080000
END:STANDARD
BEGIN:DAYLIGHT
TZOFFSETFROM:-0700
TZOFFSETTO:-0600
TZNAME:MDT
DTSTART:20270314T090000
END:DAYLIGHT
BEGIN:STANDARD
TZOFFSETFROM:-0600
TZOFFSETTO:-0700
TZNAME:MST
DTSTART:20271107T080000
END:STANDARD
END:VTIMEZONE
BEGIN:VEVENT
DTSTART;TZID=America/Denver:20260120T200000
DTEND;TZID=America/Denver:20260120T200000
DTSTAMP:20260425T075824
CREATED:20251229T193750Z
LAST-MODIFIED:20251229T193815Z
UID:10010272-1768939200-1768939200@www.castlepinesconnection.com
SUMMARY:Nuggets vs. Lakers
DESCRIPTION:
URL:https://www.castlepinesconnection.com/event/nuggets-vs-lakers/
LOCATION:Ball Arena\, 1000 Chopper Circle\, Denver\, Denver\, 80204
CATEGORIES:CO,Denver,Nuggets,Sports
END:VEVENT
BEGIN:VEVENT
DTSTART;TZID=America/Denver:20260119T140000
DTEND;TZID=America/Denver:20260119T140000
DTSTAMP:20260425T075824
CREATED:20251229T190704Z
LAST-MODIFIED:20251229T190738Z
UID:10010271-1768831200-1768831200@www.castlepinesconnection.com
SUMMARY:Avalanche vs. Capitals
DESCRIPTION:
URL:https://www.castlepinesconnection.com/event/avalanche-vs-capitals/
LOCATION:Ball Arena\, 1000 Chopper Circle\, Denver\, Denver\, 80204
CATEGORIES:CO,Denver
ATTACH;FMTTYPE=image/jpeg:https://www.castlepinesconnection.com/wp-content/uploads/2022/06/34-colorado-avalanche-logo-e1763742320258.jpg
END:VEVENT
BEGIN:VEVENT
DTSTART;TZID=America/Denver:20260117T190000
DTEND;TZID=America/Denver:20260117T190000
DTSTAMP:20260425T075824
CREATED:20251229T190149Z
LAST-MODIFIED:20251229T190149Z
UID:10010269-1768676400-1768676400@www.castlepinesconnection.com
SUMMARY:Nuggets vs. Hornets
DESCRIPTION:
URL:https://www.castlepinesconnection.com/event/nuggets-vs-hornets/
LOCATION:Ball Arena\, 1000 Chopper Circle\, Denver\, Denver\, 80204
CATEGORIES:CO,Denver,Nuggets,Sports
END:VEVENT
BEGIN:VEVENT
DTSTART;TZID=America/Denver:20260117T190000
DTEND;TZID=America/Denver:20260117T190000
DTSTAMP:20260425T075824
CREATED:20251229T185747Z
LAST-MODIFIED:20251229T185821Z
UID:10010267-1768676400-1768676400@www.castlepinesconnection.com
SUMMARY:Nuggets vs. Wizards
DESCRIPTION:
URL:https://www.castlepinesconnection.com/event/nuggets-vs-wizards/
LOCATION:Ball Arena\, 1000 Chopper Circle\, Denver\, Denver\, 80204
CATEGORIES:CO,Denver,Nuggets,Sports
END:VEVENT
BEGIN:VEVENT
DTSTART;TZID=America/Denver:20260116T190000
DTEND;TZID=America/Denver:20260116T190000
DTSTAMP:20260425T075824
CREATED:20251229T184648Z
LAST-MODIFIED:20251229T184720Z
UID:10010264-1768590000-1768590000@www.castlepinesconnection.com
SUMMARY:Avalanche vs. Predators
DESCRIPTION:
URL:https://www.castlepinesconnection.com/event/avalanche-vs-predators/
LOCATION:Ball Arena\, 1000 Chopper Circle\, Denver\, Denver\, 80204
CATEGORIES:CO,Denver
ATTACH;FMTTYPE=image/jpeg:https://www.castlepinesconnection.com/wp-content/uploads/2022/06/34-colorado-avalanche-logo-e1763742320258.jpg
END:VEVENT
BEGIN:VEVENT
DTSTART;TZID=America/Denver:20260112T200000
DTEND;TZID=America/Denver:20260112T200000
DTSTAMP:20260425T075824
CREATED:20251229T182933Z
LAST-MODIFIED:20251229T182953Z
UID:10010257-1768248000-1768248000@www.castlepinesconnection.com
SUMMARY:Avalanche vs. Maple Leafs
DESCRIPTION:
URL:https://www.castlepinesconnection.com/event/avalanche-vs-maple-leafs/
LOCATION:Ball Arena\, 1000 Chopper Circle\, Denver\, Denver\, 80204
CATEGORIES:CO,Denver
ATTACH;FMTTYPE=image/jpeg:https://www.castlepinesconnection.com/wp-content/uploads/2022/06/34-colorado-avalanche-logo-e1763742320258.jpg
END:VEVENT
BEGIN:VEVENT
DTSTART;TZID=America/Denver:20260111T180000
DTEND;TZID=America/Denver:20260111T180000
DTSTAMP:20260425T075824
CREATED:20251229T182202Z
LAST-MODIFIED:20251229T182223Z
UID:10010255-1768154400-1768154400@www.castlepinesconnection.com
SUMMARY:Nuggets vs. Bucks
DESCRIPTION:
URL:https://www.castlepinesconnection.com/event/nuggets-vs-bucks/
LOCATION:Ball Arena\, 1000 Chopper Circle\, Denver\, Denver\, 80204
CATEGORIES:CO,Denver,Nuggets,Sports
END:VEVENT
BEGIN:VEVENT
DTSTART;TZID=America/Denver:20260109T190000
DTEND;TZID=America/Denver:20260109T190000
DTSTAMP:20260425T075824
CREATED:20251229T175912Z
LAST-MODIFIED:20251229T175912Z
UID:10010249-1767985200-1767985200@www.castlepinesconnection.com
SUMMARY:Nuggets vs. Hawks
DESCRIPTION:
URL:https://www.castlepinesconnection.com/event/nuggets-vs-hawks-2/
LOCATION:Ball Arena\, 1000 Chopper Circle\, Denver\, Denver\, 80204
CATEGORIES:CO,Denver,Nuggets,Sports
END:VEVENT
BEGIN:VEVENT
DTSTART;TZID=America/Denver:20251231T190000
DTEND;TZID=America/Denver:20251231T190000
DTSTAMP:20260425T075824
CREATED:20251125T164024Z
LAST-MODIFIED:20251125T164024Z
UID:10010137-1767207600-1767207600@www.castlepinesconnection.com
SUMMARY:Avalanche vs. Blues
DESCRIPTION:
URL:https://www.castlepinesconnection.com/event/avalanche-vs-blues/
LOCATION:Ball Arena\, 1000 Chopper Circle\, Denver\, Denver\, 80204
CATEGORIES:CO,Denver
ATTACH;FMTTYPE=image/jpeg:https://www.castlepinesconnection.com/wp-content/uploads/2022/06/34-colorado-avalanche-logo-e1763742320258.jpg
END:VEVENT
BEGIN:VEVENT
DTSTART;TZID=America/Denver:20251229T190000
DTEND;TZID=America/Denver:20251229T190000
DTSTAMP:20260425T075824
CREATED:20251125T163641Z
LAST-MODIFIED:20251125T163641Z
UID:10010135-1767034800-1767034800@www.castlepinesconnection.com
SUMMARY:Avalanche vs. Kings
DESCRIPTION:
URL:https://www.castlepinesconnection.com/event/avalanche-vs-kings/
LOCATION:Ball Arena\, 1000 Chopper Circle\, Denver\, Denver\, 80204
CATEGORIES:CO,Denver
ATTACH;FMTTYPE=image/jpeg:https://www.castlepinesconnection.com/wp-content/uploads/2022/06/34-colorado-avalanche-logo-e1763742320258.jpg
END:VEVENT
BEGIN:VEVENT
DTSTART;TZID=America/Denver:20251223T190000
DTEND;TZID=America/Denver:20251223T190000
DTSTAMP:20260425T075824
CREATED:20251125T162352Z
LAST-MODIFIED:20251125T163113Z
UID:10010131-1766516400-1766516400@www.castlepinesconnection.com
SUMMARY:Avalanche vs. Mammoth
DESCRIPTION:
URL:https://www.castlepinesconnection.com/event/avalanche-vs-mammoth/
LOCATION:Ball Arena\, 1000 Chopper Circle\, Denver\, Denver\, 80204
CATEGORIES:CO,Denver
ATTACH;FMTTYPE=image/jpeg:https://www.castlepinesconnection.com/wp-content/uploads/2022/06/34-colorado-avalanche-logo-e1763742320258.jpg
END:VEVENT
BEGIN:VEVENT
DTSTART;TZID=America/Denver:20251222T190000
DTEND;TZID=America/Denver:20251222T190000
DTSTAMP:20260425T075824
CREATED:20251125T161806Z
LAST-MODIFIED:20251125T161819Z
UID:10010129-1766430000-1766430000@www.castlepinesconnection.com
SUMMARY:Nuggets vs. Jazz
DESCRIPTION:
URL:https://www.castlepinesconnection.com/event/nuggets-vs-jazz/
LOCATION:Ball Arena\, 1000 Chopper Circle\, Denver\, Denver\, 80204
CATEGORIES:CO,Denver,Nuggets,Sports
END:VEVENT
BEGIN:VEVENT
DTSTART;TZID=America/Denver:20251220T150000
DTEND;TZID=America/Denver:20251220T150000
DTSTAMP:20260425T075824
CREATED:20251124T231320Z
LAST-MODIFIED:20251124T231345Z
UID:10010124-1766242800-1766242800@www.castlepinesconnection.com
SUMMARY:Nuggets vs. Rockets
DESCRIPTION:
URL:https://www.castlepinesconnection.com/event/nuggets-vs-rockets-2/
LOCATION:Ball Arena\, 1000 Chopper Circle\, Denver\, Denver\, 80204
CATEGORIES:CO,Denver,Nuggets,Sports
END:VEVENT
BEGIN:VEVENT
DTSTART;TZID=America/Denver:20251219T190000
DTEND;TZID=America/Denver:20251219T190000
DTSTAMP:20260425T075824
CREATED:20251124T230748Z
LAST-MODIFIED:20251124T230748Z
UID:10010122-1766170800-1766170800@www.castlepinesconnection.com
SUMMARY:Avalanche vs. Jets
DESCRIPTION:
URL:https://www.castlepinesconnection.com/event/avalanche-vs-jets/
LOCATION:Ball Arena\, 1000 Chopper Circle\, Denver\, Denver\, 80204
CATEGORIES:CO,Denver
ATTACH;FMTTYPE=image/jpeg:https://www.castlepinesconnection.com/wp-content/uploads/2022/06/34-colorado-avalanche-logo-e1763742320258.jpg
END:VEVENT
BEGIN:VEVENT
DTSTART;TZID=America/Denver:20251202T190000
DTEND;TZID=America/Denver:20251202T190000
DTSTAMP:20260425T075824
CREATED:20251121T162422Z
LAST-MODIFIED:20251121T162526Z
UID:10010091-1764702000-1764702000@www.castlepinesconnection.com
SUMMARY:Avalanche vs. Canucks
DESCRIPTION:
URL:https://www.castlepinesconnection.com/event/avalanche-vs-canucks/
LOCATION:Ball Arena\, 1000 Chopper Circle\, Denver\, Denver\, 80204
CATEGORIES:CO,Denver
ATTACH;FMTTYPE=image/jpeg:https://www.castlepinesconnection.com/wp-content/uploads/2022/06/34-colorado-avalanche-logo-e1763742320258.jpg
END:VEVENT
BEGIN:VEVENT
DTSTART;TZID=America/Denver:20251116T190000
DTEND;TZID=America/Denver:20251116T190000
DTSTAMP:20260425T075824
CREATED:20251024T195236Z
LAST-MODIFIED:20251024T195246Z
UID:10009992-1763319600-1763319600@www.castlepinesconnection.com
SUMMARY:Avalanche vs. New York Islanders
DESCRIPTION:
URL:https://www.castlepinesconnection.com/event/avalanche-vs-new-york-islanders/
LOCATION:Ball Arena\, 1000 Chopper Circle\, Denver\, Denver\, 80204
CATEGORIES:CO,Denver
END:VEVENT
BEGIN:VEVENT
DTSTART;TZID=America/Denver:20250324T190000
DTEND;TZID=America/Denver:20250324T190000
DTSTAMP:20260425T075824
CREATED:20250224T223406Z
LAST-MODIFIED:20250224T223406Z
UID:10009143-1742842800-1742842800@www.castlepinesconnection.com
SUMMARY:Nuggets vs. Bulls
DESCRIPTION:
URL:https://www.castlepinesconnection.com/event/nuggets-vs-bulls/
LOCATION:Ball Arena\, 1000 Chopper Circle\, Denver\, Denver\, 80204
CATEGORIES:CO,Denver,Nuggets,Sports
END:VEVENT
BEGIN:VEVENT
DTSTART;TZID=America/Denver:20250210T190000
DTEND;TZID=America/Denver:20250210T190000
DTSTAMP:20260425T075824
CREATED:20250126T191248Z
LAST-MODIFIED:20250126T191248Z
UID:10009084-1739214000-1739214000@www.castlepinesconnection.com
SUMMARY:Nuggets vs. Trail Blazers
DESCRIPTION:
URL:https://www.castlepinesconnection.com/event/nuggets-vs-trail-blazers/
LOCATION:Ball Arena\, 1000 Chopper Circle\, Denver\, Denver\, 80204
CATEGORIES:CO,Denver,Nuggets,Sports
END:VEVENT
BEGIN:VEVENT
DTSTART;TZID=America/Denver:20250203T190000
DTEND;TZID=America/Denver:20250203T190000
DTSTAMP:20260425T075824
CREATED:20250126T182453Z
LAST-MODIFIED:20250126T182453Z
UID:10009071-1738609200-1738609200@www.castlepinesconnection.com
SUMMARY:Nuggets vs. Pelicans
DESCRIPTION:
URL:https://www.castlepinesconnection.com/event/nuggets-vs-pelicans/
LOCATION:Ball Arena\, 1000 Chopper Circle\, Denver\, Denver\, 80204
CATEGORIES:CO,Denver,Nuggets,Sports
END:VEVENT
BEGIN:VEVENT
DTSTART;TZID=America/Denver:20250128T193000
DTEND;TZID=America/Denver:20250128T193000
DTSTAMP:20260425T075824
CREATED:20241230T194717Z
LAST-MODIFIED:20241230T194731Z
UID:10009059-1738092600-1738092600@www.castlepinesconnection.com
SUMMARY:Justin Timberlake
DESCRIPTION:
URL:https://www.castlepinesconnection.com/event/justin-timberlake/
LOCATION:Ball Arena\, 1000 Chopper Circle\, Denver\, Denver\, 80204
CATEGORIES:CO,Concert,Denver,Live Music,Performing Arts,Shows,Singer,concert
END:VEVENT
BEGIN:VEVENT
DTSTART;TZID=America/Denver:20250123T190000
DTEND;TZID=America/Denver:20250123T190000
DTSTAMP:20260425T075824
CREATED:20241230T192550Z
LAST-MODIFIED:20241230T192550Z
UID:10009054-1737658800-1737658800@www.castlepinesconnection.com
SUMMARY:Nuggets vs. Kings
DESCRIPTION:
URL:https://www.castlepinesconnection.com/event/nuggets-vs-kings/
LOCATION:Ball Arena\, 1000 Chopper Circle\, Denver\, Denver\, 80204
CATEGORIES:CO,Denver,Nuggets,Sports
END:VEVENT
BEGIN:VEVENT
DTSTART;TZID=America/Denver:20250121T190000
DTEND;TZID=America/Denver:20250121T190000
DTSTAMP:20260425T075824
CREATED:20241230T173054Z
LAST-MODIFIED:20241230T173054Z
UID:10009051-1737486000-1737486000@www.castlepinesconnection.com
SUMMARY:Nuggets vs. 76ers
DESCRIPTION:
URL:https://www.castlepinesconnection.com/event/nuggets-vs-76ers/
LOCATION:Ball Arena\, 1000 Chopper Circle\, Denver\, Denver\, 80204
CATEGORIES:CO,Denver,Nuggets,Sports
END:VEVENT
BEGIN:VEVENT
DTSTART;TZID=America/Denver:20250115T190000
DTEND;TZID=America/Denver:20250115T190000
DTSTAMP:20260425T075824
CREATED:20241226T215925Z
LAST-MODIFIED:20241226T215925Z
UID:10009040-1736967600-1736967600@www.castlepinesconnection.com
SUMMARY:Nuggets vs. Rockets
DESCRIPTION:
URL:https://www.castlepinesconnection.com/event/nuggets-vs-rockets/
LOCATION:Ball Arena\, 1000 Chopper Circle\, Denver\, Denver\, 80204
CATEGORIES:CO,Denver,Nuggets,Sports
END:VEVENT
BEGIN:VEVENT
DTSTART;TZID=America/Denver:20250107T200000
DTEND;TZID=America/Denver:20250107T200000
DTSTAMP:20260425T075824
CREATED:20241226T193150Z
LAST-MODIFIED:20241226T193150Z
UID:10009032-1736280000-1736280000@www.castlepinesconnection.com
SUMMARY:Nuggets vs. Nets
DESCRIPTION:
URL:https://www.castlepinesconnection.com/event/nuggets-vs-nets/
LOCATION:Ball Arena\, 1000 Chopper Circle\, Denver\, Denver\, 80204
CATEGORIES:CO,Denver,Nuggets,Sports
END:VEVENT
BEGIN:VEVENT
DTSTART;TZID=America/Denver:20250107T200000
DTEND;TZID=America/Denver:20250107T200000
DTSTAMP:20260425T075824
CREATED:20241226T191224Z
LAST-MODIFIED:20241226T191431Z
UID:10009026-1736280000-1736280000@www.castlepinesconnection.com
SUMMARY:Nuggets vs. Celtics
DESCRIPTION: 
URL:https://www.castlepinesconnection.com/event/nuggets-vs-celtics/
LOCATION:Ball Arena\, 1000 Chopper Circle\, Denver\, Denver\, 80204
CATEGORIES:CO,Denver,Nuggets,Sports
END:VEVENT
BEGIN:VEVENT
DTSTART;TZID=America/Denver:20250101T190000
DTEND;TZID=America/Denver:20250101T190000
DTSTAMP:20260425T075824
CREATED:20241226T173558Z
LAST-MODIFIED:20241226T173620Z
UID:10008916-1735758000-1735758000@www.castlepinesconnection.com
SUMMARY:Nuggets vs. Hawks
DESCRIPTION: 
URL:https://www.castlepinesconnection.com/event/nuggets-vs-hawks/
LOCATION:Ball Arena\, 1000 Chopper Circle\, Denver\, Denver\, 80204
CATEGORIES:CO,Denver,Nuggets,Sports
END:VEVENT
BEGIN:VEVENT
DTSTART;TZID=America/Denver:20241228T190000
DTEND;TZID=America/Denver:20241228T190000
DTSTAMP:20260425T075824
CREATED:20241202T184906Z
LAST-MODIFIED:20241202T184956Z
UID:10008909-1735412400-1735412400@www.castlepinesconnection.com
SUMMARY:Nuggets vs. Pistons
DESCRIPTION:
URL:https://www.castlepinesconnection.com/event/nuggets-vs-pistons/
LOCATION:Ball Arena\, 1000 Chopper Circle\, Denver\, Denver\, 80204
CATEGORIES:CO,Denver,Nuggets
END:VEVENT
BEGIN:VEVENT
DTSTART;TZID=America/Denver:20241227T190000
DTEND;TZID=America/Denver:20241227T190000
DTSTAMP:20260425T075824
CREATED:20241202T181330Z
LAST-MODIFIED:20241202T181352Z
UID:10008906-1735326000-1735326000@www.castlepinesconnection.com
SUMMARY:Nuggets vs. Cavaliers
DESCRIPTION:
URL:https://www.castlepinesconnection.com/event/nuggets-vs-cavaliers/
LOCATION:Ball Arena\, 1000 Chopper Circle\, Denver\, Denver\, 80204
CATEGORIES:CO,Denver,Family event,Nuggets,Sports
END:VEVENT
BEGIN:VEVENT
DTSTART;TZID=America/Denver:20241203T200000
DTEND;TZID=America/Denver:20241203T200000
DTSTAMP:20260425T075824
CREATED:20241122T170128Z
LAST-MODIFIED:20241122T170152Z
UID:10008870-1733256000-1733256000@www.castlepinesconnection.com
SUMMARY:Nuggets vs. Warriors
DESCRIPTION:
URL:https://www.castlepinesconnection.com/event/nuggets-vs-warriors/
LOCATION:Ball Arena\, 1000 Chopper Circle\, Denver\, Denver\, 80204
CATEGORIES:CO,Nuggets
END:VEVENT
BEGIN:VEVENT
DTSTART;TZID=America/Denver:20240731T190000
DTEND;TZID=America/Denver:20240731T190000
DTSTAMP:20260425T075824
CREATED:20240624T161909Z
LAST-MODIFIED:20240624T161909Z
UID:10007346-1722452400-1722452400@www.castlepinesconnection.com
SUMMARY:Alanis Morissette
DESCRIPTION:
URL:https://www.castlepinesconnection.com/event/alanis-morissette/
LOCATION:Ball Arena\, 1000 Chopper Circle\, Denver\, Denver\, 80204
CATEGORIES:CO,Concert,Denver,Live Music,Shows,Singer,Tours
END:VEVENT
END:VCALENDAR