BEGIN:VCALENDAR
VERSION:2.0
PRODID:-//The Castle Pines Connection - ECPv6.15.15//NONSGML v1.0//EN
CALSCALE:GREGORIAN
METHOD:PUBLISH
X-ORIGINAL-URL:https://www.castlepinesconnection.com
X-WR-CALDESC:Events for The Castle Pines Connection
REFRESH-INTERVAL;VALUE=DURATION:PT1H
X-Robots-Tag:noindex
X-PUBLISHED-TTL:PT1H
BEGIN:VTIMEZONE
TZID:America/Denver
BEGIN:DAYLIGHT
TZOFFSETFROM:-0700
TZOFFSETTO:-0600
TZNAME:MDT
DTSTART:20240310T090000
END:DAYLIGHT
BEGIN:STANDARD
TZOFFSETFROM:-0600
TZOFFSETTO:-0700
TZNAME:MST
DTSTART:20241103T080000
END:STANDARD
BEGIN:DAYLIGHT
TZOFFSETFROM:-0700
TZOFFSETTO:-0600
TZNAME:MDT
DTSTART:20250309T090000
END:DAYLIGHT
BEGIN:STANDARD
TZOFFSETFROM:-0600
TZOFFSETTO:-0700
TZNAME:MST
DTSTART:20251102T080000
END:STANDARD
BEGIN:DAYLIGHT
TZOFFSETFROM:-0700
TZOFFSETTO:-0600
TZNAME:MDT
DTSTART:20260308T090000
END:DAYLIGHT
BEGIN:STANDARD
TZOFFSETFROM:-0600
TZOFFSETTO:-0700
TZNAME:MST
DTSTART:20261101T080000
END:STANDARD
END:VTIMEZONE
BEGIN:VEVENT
DTSTART;TZID=America/Denver:20251227T073000
DTEND;TZID=America/Denver:20251227T073000
DTSTAMP:20260422T192220
CREATED:20251125T162711Z
LAST-MODIFIED:20251125T162728Z
UID:10010132-1766820600-1766820600@www.castlepinesconnection.com
SUMMARY:A Merry Christmas Run
DESCRIPTION:
URL:https://www.castlepinesconnection.com/event/a-merry-christmas-run/
LOCATION:Piney Creek Hollow Park\, Centennial\, CO\, 80016
CATEGORIES:CO,Christmas,Denver,Run,Running
END:VEVENT
END:VCALENDAR