BEGIN:VCALENDAR
VERSION:2.0
PRODID:-//The Castle Pines Connection - ECPv6.15.15//NONSGML v1.0//EN
CALSCALE:GREGORIAN
METHOD:PUBLISH
X-ORIGINAL-URL:https://www.castlepinesconnection.com
X-WR-CALDESC:Events for The Castle Pines Connection
REFRESH-INTERVAL;VALUE=DURATION:PT1H
X-Robots-Tag:noindex
X-PUBLISHED-TTL:PT1H
BEGIN:VTIMEZONE
TZID:America/Denver
BEGIN:DAYLIGHT
TZOFFSETFROM:-0700
TZOFFSETTO:-0600
TZNAME:MDT
DTSTART:20240310T090000
END:DAYLIGHT
BEGIN:STANDARD
TZOFFSETFROM:-0600
TZOFFSETTO:-0700
TZNAME:MST
DTSTART:20241103T080000
END:STANDARD
BEGIN:DAYLIGHT
TZOFFSETFROM:-0700
TZOFFSETTO:-0600
TZNAME:MDT
DTSTART:20250309T090000
END:DAYLIGHT
BEGIN:STANDARD
TZOFFSETFROM:-0600
TZOFFSETTO:-0700
TZNAME:MST
DTSTART:20251102T080000
END:STANDARD
BEGIN:DAYLIGHT
TZOFFSETFROM:-0700
TZOFFSETTO:-0600
TZNAME:MDT
DTSTART:20260308T090000
END:DAYLIGHT
BEGIN:STANDARD
TZOFFSETFROM:-0600
TZOFFSETTO:-0700
TZNAME:MST
DTSTART:20261101T080000
END:STANDARD
END:VTIMEZONE
BEGIN:VEVENT
DTSTART;TZID=America/Denver:20250713T150000
DTEND;TZID=America/Denver:20250713T170000
DTSTAMP:20260422T134010
CREATED:20250623T170125Z
LAST-MODIFIED:20250623T170125Z
UID:10009661-1752418800-1752426000@www.castlepinesconnection.com
SUMMARY:FREE DAY The Historic Elitch Theatre
DESCRIPTION:
URL:https://www.castlepinesconnection.com/event/free-day-the-historic-elitch-theatre/
LOCATION:The Historic Elitch Theatre\, 3775 Tennyson St\, Denver\, CO\, 80212
CATEGORIES:CO,Denver,Family event,Free Day,Fun,Performing Arts,Shows,Singer
END:VEVENT
END:VCALENDAR